BEGIN:VCALENDAR
VERSION:2.0
PRODID:-//Morris Area Chamber of Commerce - ECPv6.15.15//NONSGML v1.0//EN
CALSCALE:GREGORIAN
METHOD:PUBLISH
X-ORIGINAL-URL:https://morrismnchamber.org
X-WR-CALDESC:Events for Morris Area Chamber of Commerce
REFRESH-INTERVAL;VALUE=DURATION:PT1H
X-Robots-Tag:noindex
X-PUBLISHED-TTL:PT1H
BEGIN:VTIMEZONE
TZID:America/Chicago
BEGIN:DAYLIGHT
TZOFFSETFROM:-0600
TZOFFSETTO:-0500
TZNAME:CDT
DTSTART:20220313T080000
END:DAYLIGHT
BEGIN:STANDARD
TZOFFSETFROM:-0500
TZOFFSETTO:-0600
TZNAME:CST
DTSTART:20221106T070000
END:STANDARD
BEGIN:DAYLIGHT
TZOFFSETFROM:-0600
TZOFFSETTO:-0500
TZNAME:CDT
DTSTART:20230312T080000
END:DAYLIGHT
BEGIN:STANDARD
TZOFFSETFROM:-0500
TZOFFSETTO:-0600
TZNAME:CST
DTSTART:20231105T070000
END:STANDARD
BEGIN:DAYLIGHT
TZOFFSETFROM:-0600
TZOFFSETTO:-0500
TZNAME:CDT
DTSTART:20240310T080000
END:DAYLIGHT
BEGIN:STANDARD
TZOFFSETFROM:-0500
TZOFFSETTO:-0600
TZNAME:CST
DTSTART:20241103T070000
END:STANDARD
END:VTIMEZONE
BEGIN:VEVENT
DTSTART;TZID=America/Chicago:20230327T173000
DTEND;TZID=America/Chicago:20230327T193000
DTSTAMP:20260422T141342
CREATED:20230320T144150Z
LAST-MODIFIED:20230320T144150Z
UID:6649-1679938200-1679945400@morrismnchamber.org
SUMMARY:Community Meal
DESCRIPTION:The University of Minnesota Morris Office of Community Engagement will host a Community Meal at Faith Lutheran Church (108 West 8th Street\, Morris\, MN 56267). This is a free meal served to anyone who wants to come. The menu includes chicken lo mein\, vegetable egg roll\, cream cheese wonton\, almond cookie. There will be vegan and gluten free options. Everything is prepared with the help of campus and community volunteers.Those interested in volunteering can register at https://z.umn.edu/MACommunityMeal | When: Monday\,March 27\, 5:30-7:30 p.m. | Where: Faith Lutheran Church\, 108 West 8th Street\, Morris\, MN 56267
URL:https://morrismnchamber.org/community-event/community-meal-3/
LOCATION:Faith Lutheran Church\, 108 W 8th St\, Morris\, 56267
CATEGORIES:Community Event
ATTACH;FMTTYPE=image/jpeg:https://morrismnchamber.org/wp-content/uploads/2023/03/community-engagement.jpg
ORGANIZER;CN="University of Minnesota Morris":MAILTO:dietersm@morris.umn.edu
END:VEVENT
END:VCALENDAR