BEGIN:VCALENDAR
VERSION:2.0
PRODID:-//Morris Area Chamber of Commerce - ECPv6.15.15//NONSGML v1.0//EN
CALSCALE:GREGORIAN
METHOD:PUBLISH
X-WR-CALNAME:Morris Area Chamber of Commerce
X-ORIGINAL-URL:https://morrismnchamber.org
X-WR-CALDESC:Events for Morris Area Chamber of Commerce
REFRESH-INTERVAL;VALUE=DURATION:PT1H
X-Robots-Tag:noindex
X-PUBLISHED-TTL:PT1H
BEGIN:VTIMEZONE
TZID:America/Chicago
BEGIN:DAYLIGHT
TZOFFSETFROM:-0600
TZOFFSETTO:-0500
TZNAME:CDT
DTSTART:20220313T080000
END:DAYLIGHT
BEGIN:STANDARD
TZOFFSETFROM:-0500
TZOFFSETTO:-0600
TZNAME:CST
DTSTART:20221106T070000
END:STANDARD
BEGIN:DAYLIGHT
TZOFFSETFROM:-0600
TZOFFSETTO:-0500
TZNAME:CDT
DTSTART:20230312T080000
END:DAYLIGHT
BEGIN:STANDARD
TZOFFSETFROM:-0500
TZOFFSETTO:-0600
TZNAME:CST
DTSTART:20231105T070000
END:STANDARD
BEGIN:DAYLIGHT
TZOFFSETFROM:-0600
TZOFFSETTO:-0500
TZNAME:CDT
DTSTART:20240310T080000
END:DAYLIGHT
BEGIN:STANDARD
TZOFFSETFROM:-0500
TZOFFSETTO:-0600
TZNAME:CST
DTSTART:20241103T070000
END:STANDARD
END:VTIMEZONE
BEGIN:VEVENT
DTSTART;TZID=America/Chicago:20230506T070000
DTEND;TZID=America/Chicago:20230506T120000
DTSTAMP:20260421T214100
CREATED:20230403T160455Z
LAST-MODIFIED:20230403T160455Z
UID:6686-1683356400-1683374400@morrismnchamber.org
SUMMARY:Tinman Triathlon
DESCRIPTION:The 37th annual Tinman Triathlon will be held at the Regional Fitness Center on the University of Minnesota Morris campus and brings together people in our community and across the region. \nThe Tinman has two courses to choose from! \nSPRINT COURSE: \nSwim – 450 Yards\, Bike – 12 Miles\, Run – 5 Kilometers \nOLYMPIC COURSE: \nSwim – 1\,100 Yards\, Bike – 19 Miles\, Run – 10 Kilometers​ \nYou can complete the Tinman in a group or individually!
URL:https://morrismnchamber.org/community-event/tinman-triathlon/
LOCATION:Regional Fitness Center\, 626 E 2nd St\, Morris\, 56267
CATEGORIES:Community Event
ATTACH;FMTTYPE=image/png:https://morrismnchamber.org/wp-content/uploads/2023/03/tinman-pg-2.png
ORGANIZER;CN="Regional Fitness Center":MAILTO:rfc@morris.umn.edu
END:VEVENT
END:VCALENDAR