BEGIN:VCALENDAR
VERSION:2.0
PRODID:-//Morris Area Chamber of Commerce - ECPv6.15.15//NONSGML v1.0//EN
CALSCALE:GREGORIAN
METHOD:PUBLISH
X-WR-CALNAME:Morris Area Chamber of Commerce
X-ORIGINAL-URL:https://morrismnchamber.org
X-WR-CALDESC:Events for Morris Area Chamber of Commerce
REFRESH-INTERVAL;VALUE=DURATION:PT1H
X-Robots-Tag:noindex
X-PUBLISHED-TTL:PT1H
BEGIN:VTIMEZONE
TZID:America/Chicago
BEGIN:DAYLIGHT
TZOFFSETFROM:-0600
TZOFFSETTO:-0500
TZNAME:CDT
DTSTART:20220313T080000
END:DAYLIGHT
BEGIN:STANDARD
TZOFFSETFROM:-0500
TZOFFSETTO:-0600
TZNAME:CST
DTSTART:20221106T070000
END:STANDARD
BEGIN:DAYLIGHT
TZOFFSETFROM:-0600
TZOFFSETTO:-0500
TZNAME:CDT
DTSTART:20230312T080000
END:DAYLIGHT
BEGIN:STANDARD
TZOFFSETFROM:-0500
TZOFFSETTO:-0600
TZNAME:CST
DTSTART:20231105T070000
END:STANDARD
BEGIN:DAYLIGHT
TZOFFSETFROM:-0600
TZOFFSETTO:-0500
TZNAME:CDT
DTSTART:20240310T080000
END:DAYLIGHT
BEGIN:STANDARD
TZOFFSETFROM:-0500
TZOFFSETTO:-0600
TZNAME:CST
DTSTART:20241103T070000
END:STANDARD
END:VTIMEZONE
BEGIN:VEVENT
DTSTART;TZID=America/Chicago:20230518T160000
DTEND;TZID=America/Chicago:20230518T180000
DTSTAMP:20260421T214100
CREATED:20230501T134548Z
LAST-MODIFIED:20230501T135202Z
UID:6754-1684425600-1684432800@morrismnchamber.org
SUMMARY:Morris Community Tree Planting Project
DESCRIPTION:Celebrate Arbor Month in Morris by helping plant trees Thursday May 18 (May 25 rain date) from 4pm to 6pm at the corner of Skyview Lane and E. Brook Avenue in Morris.   A kid-friendly event!   Please bring a shovel\, if possible\, but otherwise just come — we’ll have extra tools.  (Call City Hall 589-3141 with questions.)
URL:https://morrismnchamber.org/community-event/morris-community-tree-planting-project/
LOCATION:City of Morris\, Morris\, MN\, 56267\, United States
ATTACH;FMTTYPE=image/jpeg:https://morrismnchamber.org/wp-content/uploads/2023/04/2023-morris-arbor-month-planting-event-poster.jpg
END:VEVENT
END:VCALENDAR