BEGIN:VCALENDAR
VERSION:2.0
PRODID:-//Morris Area Chamber of Commerce - ECPv6.15.15//NONSGML v1.0//EN
CALSCALE:GREGORIAN
METHOD:PUBLISH
X-ORIGINAL-URL:https://morrismnchamber.org
X-WR-CALDESC:Events for Morris Area Chamber of Commerce
REFRESH-INTERVAL;VALUE=DURATION:PT1H
X-Robots-Tag:noindex
X-PUBLISHED-TTL:PT1H
BEGIN:VTIMEZONE
TZID:America/Chicago
BEGIN:DAYLIGHT
TZOFFSETFROM:-0600
TZOFFSETTO:-0500
TZNAME:CDT
DTSTART:20220313T080000
END:DAYLIGHT
BEGIN:STANDARD
TZOFFSETFROM:-0500
TZOFFSETTO:-0600
TZNAME:CST
DTSTART:20221106T070000
END:STANDARD
BEGIN:DAYLIGHT
TZOFFSETFROM:-0600
TZOFFSETTO:-0500
TZNAME:CDT
DTSTART:20230312T080000
END:DAYLIGHT
BEGIN:STANDARD
TZOFFSETFROM:-0500
TZOFFSETTO:-0600
TZNAME:CST
DTSTART:20231105T070000
END:STANDARD
BEGIN:DAYLIGHT
TZOFFSETFROM:-0600
TZOFFSETTO:-0500
TZNAME:CDT
DTSTART:20240310T080000
END:DAYLIGHT
BEGIN:STANDARD
TZOFFSETFROM:-0500
TZOFFSETTO:-0600
TZNAME:CST
DTSTART:20241103T070000
END:STANDARD
END:VTIMEZONE
BEGIN:VEVENT
DTSTART;TZID=America/Chicago:20230615T173000
DTEND;TZID=America/Chicago:20230615T193000
DTSTAMP:20260421T193253
CREATED:20230523T141417Z
LAST-MODIFIED:20230523T141417Z
UID:6823-1686850200-1686857400@morrismnchamber.org
SUMMARY:Fiber Arts Workshop
DESCRIPTION:Fiber Arts Workshop Series with Lori Kurpiers\n4 sessions\, 5:30-7:30pm\n       Tuesday\, June 6 – Crochet\n       Thursday\, June 8 – Knitting\n       Wednesday\, June 14 – Sewing\n       Thurs\, June 15 – Weaving\nFor children (ages 9+) and adults. Space is limited\, pre-register.\nThis four-part fiber arts workshop series will demystify sewing\, crochet\, knitting\, and weaving by teaching basic skills in each art form. With support from Prairie Renaissance Cultural Alliance (PRCA).\nThis program is sponsored by Morris Public Library and Viking Library System. This project was funded in part or in whole with monies from Minnesota’s Arts and Cultural Heritage fund.
URL:https://morrismnchamber.org/community-event/fiber-arts-workshop-3/
LOCATION:Morris Public Library\, 102 E 6th St.\, Morris\, 56267
ORGANIZER;CN="Morris Public Libary":MAILTO:morrispublib@gmail.com
END:VEVENT
END:VCALENDAR