BEGIN:VCALENDAR
VERSION:2.0
PRODID:-//Morris Area Chamber of Commerce - ECPv6.15.15//NONSGML v1.0//EN
CALSCALE:GREGORIAN
METHOD:PUBLISH
X-ORIGINAL-URL:https://morrismnchamber.org
X-WR-CALDESC:Events for Morris Area Chamber of Commerce
REFRESH-INTERVAL;VALUE=DURATION:PT1H
X-Robots-Tag:noindex
X-PUBLISHED-TTL:PT1H
BEGIN:VTIMEZONE
TZID:America/Chicago
BEGIN:DAYLIGHT
TZOFFSETFROM:-0600
TZOFFSETTO:-0500
TZNAME:CDT
DTSTART:20220313T080000
END:DAYLIGHT
BEGIN:STANDARD
TZOFFSETFROM:-0500
TZOFFSETTO:-0600
TZNAME:CST
DTSTART:20221106T070000
END:STANDARD
BEGIN:DAYLIGHT
TZOFFSETFROM:-0600
TZOFFSETTO:-0500
TZNAME:CDT
DTSTART:20230312T080000
END:DAYLIGHT
BEGIN:STANDARD
TZOFFSETFROM:-0500
TZOFFSETTO:-0600
TZNAME:CST
DTSTART:20231105T070000
END:STANDARD
BEGIN:DAYLIGHT
TZOFFSETFROM:-0600
TZOFFSETTO:-0500
TZNAME:CDT
DTSTART:20240310T080000
END:DAYLIGHT
BEGIN:STANDARD
TZOFFSETFROM:-0500
TZOFFSETTO:-0600
TZNAME:CST
DTSTART:20241103T070000
END:STANDARD
END:VTIMEZONE
BEGIN:VEVENT
DTSTART;TZID=America/Chicago:20230620T130000
DTEND;TZID=America/Chicago:20230620T150000
DTSTAMP:20260421T193248
CREATED:20230524T150511Z
LAST-MODIFIED:20230524T150511Z
UID:6843-1687266000-1687273200@morrismnchamber.org
SUMMARY:Youth Creative Writing Club with Seth Kelly
DESCRIPTION:For grades 5-12\, pre-register. Join MAHS English teacher Seth Kelly for an introduction to writing fiction\, poetry\, and scripts.  We’ll explore these genres and collaborate on a performance project.
URL:https://morrismnchamber.org/community-event/youth-creative-writing-club-with-seth-kelly-2/
LOCATION:Morris Public Library\, 102 E 6th St.\, Morris\, 56267
ATTACH;FMTTYPE=image/png:https://morrismnchamber.org/wp-content/uploads/2023/05/join-us-this-summer-for-events-performances-and-book-clubs-for-all-ages-follow-along-on-facebook-or-visit-our-website-for-the-full-schedule-of-activities-and-summer-reading-incentives.png
END:VEVENT
END:VCALENDAR