BEGIN:VCALENDAR
VERSION:2.0
PRODID:-//Morris Area Chamber of Commerce - ECPv6.15.15//NONSGML v1.0//EN
CALSCALE:GREGORIAN
METHOD:PUBLISH
X-ORIGINAL-URL:https://morrismnchamber.org
X-WR-CALDESC:Events for Morris Area Chamber of Commerce
REFRESH-INTERVAL;VALUE=DURATION:PT1H
X-Robots-Tag:noindex
X-PUBLISHED-TTL:PT1H
BEGIN:VTIMEZONE
TZID:America/Chicago
BEGIN:DAYLIGHT
TZOFFSETFROM:-0600
TZOFFSETTO:-0500
TZNAME:CDT
DTSTART:20220313T080000
END:DAYLIGHT
BEGIN:STANDARD
TZOFFSETFROM:-0500
TZOFFSETTO:-0600
TZNAME:CST
DTSTART:20221106T070000
END:STANDARD
BEGIN:DAYLIGHT
TZOFFSETFROM:-0600
TZOFFSETTO:-0500
TZNAME:CDT
DTSTART:20230312T080000
END:DAYLIGHT
BEGIN:STANDARD
TZOFFSETFROM:-0500
TZOFFSETTO:-0600
TZNAME:CST
DTSTART:20231105T070000
END:STANDARD
BEGIN:DAYLIGHT
TZOFFSETFROM:-0600
TZOFFSETTO:-0500
TZNAME:CDT
DTSTART:20240310T080000
END:DAYLIGHT
BEGIN:STANDARD
TZOFFSETFROM:-0500
TZOFFSETTO:-0600
TZNAME:CST
DTSTART:20241103T070000
END:STANDARD
END:VTIMEZONE
BEGIN:VEVENT
DTSTART;TZID=America/Chicago:20230627T103000
DTEND;TZID=America/Chicago:20230627T113000
DTSTAMP:20260421T175817
CREATED:20230523T141215Z
LAST-MODIFIED:20230523T141215Z
UID:6833-1687861800-1687865400@morrismnchamber.org
SUMMARY:Siama's Congo Roots Performance
DESCRIPTION:Siama’s Congo Roots\nTuesday\, June 27th\, 10:30 am\nFeel-good sounds from the heart of Africa  \nOn this very special musical journey to Africa\, Siama plays guitar and traditional instruments like Mbira (thumb piano) and Balafon (marimba) while Dallas Johnson encourages everyone to sing along in Kikongo\, Lingala & English and they both share fun stories that bring Siama’s rural homeland to life. This program is especially designed for kids and families but it’s enjoyed by everyone so don’t miss it!\nThis program is sponsored by Morris Public Library and Viking Library System. This project was funded in part or in whole with monies from Minnesota’s Arts and Cultural Heritage fund.
URL:https://morrismnchamber.org/community-event/siamas-congo-roots-performance/
LOCATION:Morris Public Library\, 102 E 6th St.\, Morris\, 56267
ATTACH;FMTTYPE=image/png:https://morrismnchamber.org/wp-content/uploads/2023/05/join-us-this-summer-for-events-performances-and-book-clubs-for-all-ages-follow-along-on-facebook-or-visit-our-website-for-the-full-schedule-of-activities-and-summer-reading-incentives.png
ORGANIZER;CN="Morris Public Libary":MAILTO:morrispublib@gmail.com
END:VEVENT
BEGIN:VEVENT
DTSTART;TZID=America/Chicago:20230627T130000
DTEND;TZID=America/Chicago:20230627T150000
DTSTAMP:20260421T175817
CREATED:20230524T150623Z
LAST-MODIFIED:20230524T150623Z
UID:6845-1687870800-1687878000@morrismnchamber.org
SUMMARY:Youth Creative Writing Club with Seth Kelly
DESCRIPTION:For grades 5-12\, pre-register. Join MAHS English teacher Seth Kelly for an introduction to writing fiction\, poetry\, and scripts.  We’ll explore these genres and collaborate on a performance project.
URL:https://morrismnchamber.org/community-event/youth-creative-writing-club-with-seth-kelly-3/
LOCATION:Morris Public Library\, 102 E 6th St.\, Morris\, 56267
ATTACH;FMTTYPE=image/png:https://morrismnchamber.org/wp-content/uploads/2023/05/join-us-this-summer-for-events-performances-and-book-clubs-for-all-ages-follow-along-on-facebook-or-visit-our-website-for-the-full-schedule-of-activities-and-summer-reading-incentives.png
END:VEVENT
END:VCALENDAR