BEGIN:VCALENDAR
VERSION:2.0
PRODID:-//Morris Area Chamber of Commerce - ECPv6.15.15//NONSGML v1.0//EN
CALSCALE:GREGORIAN
METHOD:PUBLISH
X-WR-CALNAME:Morris Area Chamber of Commerce
X-ORIGINAL-URL:https://morrismnchamber.org
X-WR-CALDESC:Events for Morris Area Chamber of Commerce
REFRESH-INTERVAL;VALUE=DURATION:PT1H
X-Robots-Tag:noindex
X-PUBLISHED-TTL:PT1H
BEGIN:VTIMEZONE
TZID:America/Chicago
BEGIN:DAYLIGHT
TZOFFSETFROM:-0600
TZOFFSETTO:-0500
TZNAME:CDT
DTSTART:20220313T080000
END:DAYLIGHT
BEGIN:STANDARD
TZOFFSETFROM:-0500
TZOFFSETTO:-0600
TZNAME:CST
DTSTART:20221106T070000
END:STANDARD
BEGIN:DAYLIGHT
TZOFFSETFROM:-0600
TZOFFSETTO:-0500
TZNAME:CDT
DTSTART:20230312T080000
END:DAYLIGHT
BEGIN:STANDARD
TZOFFSETFROM:-0500
TZOFFSETTO:-0600
TZNAME:CST
DTSTART:20231105T070000
END:STANDARD
BEGIN:DAYLIGHT
TZOFFSETFROM:-0600
TZOFFSETTO:-0500
TZNAME:CDT
DTSTART:20240310T080000
END:DAYLIGHT
BEGIN:STANDARD
TZOFFSETFROM:-0500
TZOFFSETTO:-0600
TZNAME:CST
DTSTART:20241103T070000
END:STANDARD
END:VTIMEZONE
BEGIN:VEVENT
DTSTART;TZID=America/Chicago:20230913T180000
DTEND;TZID=America/Chicago:20230913T190000
DTSTAMP:20260421T145020
CREATED:20230829T193509Z
LAST-MODIFIED:20230829T193509Z
UID:6965-1694628000-1694631600@morrismnchamber.org
SUMMARY:Join Scouts in Fall 2023 and receive a free fishing pole
DESCRIPTION:Girls and boys in grades k-5 are invited to join Cub Scouts!\nWednesday September 13\, 2023\, from 6-7pm at Morris Elementary Cafeteria\nCan’t make that event or have questions\, contact Brenda Thomson at 320-760-5605 or brenda.thomson@scouting.org
URL:https://morrismnchamber.org/community-event/join-scouts-in-fall-2023-and-receive-a-free-fishing-pole/
LOCATION:Morris Area Elementary\, 151 S Columbia Ave\, Morris\, 56267
ORGANIZER;CN="Northern Lights Council-Boy Scouts of America":MAILTO:brenda.thomson@scouting.org
END:VEVENT
END:VCALENDAR