BEGIN:VCALENDAR
VERSION:2.0
PRODID:-//Morris Area Chamber of Commerce - ECPv6.15.15//NONSGML v1.0//EN
CALSCALE:GREGORIAN
METHOD:PUBLISH
X-WR-CALNAME:Morris Area Chamber of Commerce
X-ORIGINAL-URL:https://morrismnchamber.org
X-WR-CALDESC:Events for Morris Area Chamber of Commerce
REFRESH-INTERVAL;VALUE=DURATION:PT1H
X-Robots-Tag:noindex
X-PUBLISHED-TTL:PT1H
BEGIN:VTIMEZONE
TZID:America/Chicago
BEGIN:DAYLIGHT
TZOFFSETFROM:-0600
TZOFFSETTO:-0500
TZNAME:CDT
DTSTART:20220313T080000
END:DAYLIGHT
BEGIN:STANDARD
TZOFFSETFROM:-0500
TZOFFSETTO:-0600
TZNAME:CST
DTSTART:20221106T070000
END:STANDARD
BEGIN:DAYLIGHT
TZOFFSETFROM:-0600
TZOFFSETTO:-0500
TZNAME:CDT
DTSTART:20230312T080000
END:DAYLIGHT
BEGIN:STANDARD
TZOFFSETFROM:-0500
TZOFFSETTO:-0600
TZNAME:CST
DTSTART:20231105T070000
END:STANDARD
BEGIN:DAYLIGHT
TZOFFSETFROM:-0600
TZOFFSETTO:-0500
TZNAME:CDT
DTSTART:20240310T080000
END:DAYLIGHT
BEGIN:STANDARD
TZOFFSETFROM:-0500
TZOFFSETTO:-0600
TZNAME:CST
DTSTART:20241103T070000
END:STANDARD
END:VTIMEZONE
BEGIN:VEVENT
DTSTART;TZID=America/Chicago:20231230T130000
DTEND;TZID=America/Chicago:20231230T150000
DTSTAMP:20260421T060402
CREATED:20231213T193935Z
LAST-MODIFIED:20231213T193935Z
UID:7062-1703941200-1703948400@morrismnchamber.org
SUMMARY:Youth Fishing Tournament
DESCRIPTION:Youth Fishing Tournament\nSponsored by: Zion Lutheran Church\n320-589-2744\n15 years and younger\npre-registration required\nFree and limited to 100 kids!\nGrand Prize:\nPelican Argo100x Angler Kayak\nLots of other prizes!\nWhen: Saturday\, December 30\, 2023 from 1-3pm\nWhere: Pomme de Terre (Perkins) Lakes public access\nFor more information go to Zion’s website\nhttps://zion-morris.360unite.com
URL:https://morrismnchamber.org/community-event/youth-fishing-tournament/
LOCATION:MN
ATTACH;FMTTYPE=image/jpeg:https://morrismnchamber.org/wp-content/uploads/2023/12/406836099-678194377797019-5573271459798193221-n.jpg
END:VEVENT
END:VCALENDAR