BEGIN:VCALENDAR
VERSION:2.0
PRODID:-//Morris Area Chamber of Commerce - ECPv6.15.15//NONSGML v1.0//EN
CALSCALE:GREGORIAN
METHOD:PUBLISH
X-WR-CALNAME:Morris Area Chamber of Commerce
X-ORIGINAL-URL:https://morrismnchamber.org
X-WR-CALDESC:Events for Morris Area Chamber of Commerce
REFRESH-INTERVAL;VALUE=DURATION:PT1H
X-Robots-Tag:noindex
X-PUBLISHED-TTL:PT1H
BEGIN:VTIMEZONE
TZID:America/Chicago
BEGIN:DAYLIGHT
TZOFFSETFROM:-0600
TZOFFSETTO:-0500
TZNAME:CDT
DTSTART:20230312T080000
END:DAYLIGHT
BEGIN:STANDARD
TZOFFSETFROM:-0500
TZOFFSETTO:-0600
TZNAME:CST
DTSTART:20231105T070000
END:STANDARD
BEGIN:DAYLIGHT
TZOFFSETFROM:-0600
TZOFFSETTO:-0500
TZNAME:CDT
DTSTART:20240310T080000
END:DAYLIGHT
BEGIN:STANDARD
TZOFFSETFROM:-0500
TZOFFSETTO:-0600
TZNAME:CST
DTSTART:20241103T070000
END:STANDARD
BEGIN:DAYLIGHT
TZOFFSETFROM:-0600
TZOFFSETTO:-0500
TZNAME:CDT
DTSTART:20250309T080000
END:DAYLIGHT
BEGIN:STANDARD
TZOFFSETFROM:-0500
TZOFFSETTO:-0600
TZNAME:CST
DTSTART:20251102T070000
END:STANDARD
END:VTIMEZONE
BEGIN:VEVENT
DTSTART;TZID=America/Chicago:20240412T190000
DTEND;TZID=America/Chicago:20240412T220000
DTSTAMP:20260420T183646
CREATED:20231213T194018Z
LAST-MODIFIED:20231213T194018Z
UID:7058-1712948400-1712959200@morrismnchamber.org
SUMMARY:2024 UMN Morris Jazz Fest
DESCRIPTION:UMN Morris Jazz and Contemporary Music Studies\, its alumni\, and friends welcome regional middle school and high school students to our campus for Jazz Fest 2024. Middle school and high school students will take part in an all-day clinic\, and the public will be treated to an evening concert headlined by our amazing guest artists/clinicians. \nMore information at https://morris.umn.edu/academics/music/jazz-ensemble/jazz-festival
URL:https://morrismnchamber.org/community-event/2024-umn-morris-jazz-fest/
LOCATION:University of Minnesota Morris\, 600 E 4th St\, Morris\, MN\, 56267
CATEGORIES:Community Event
ATTACH;FMTTYPE=image/jpeg:https://morrismnchamber.org/wp-content/uploads/2023/12/jazz-circle.jpg
ORGANIZER;CN="University of Minnesota Morris":MAILTO:dietersm@morris.umn.edu
END:VEVENT
END:VCALENDAR