BEGIN:VCALENDAR
VERSION:2.0
PRODID:-//Morris Area Chamber of Commerce - ECPv6.15.15//NONSGML v1.0//EN
CALSCALE:GREGORIAN
METHOD:PUBLISH
X-WR-CALNAME:Morris Area Chamber of Commerce
X-ORIGINAL-URL:https://morrismnchamber.org
X-WR-CALDESC:Events for Morris Area Chamber of Commerce
REFRESH-INTERVAL;VALUE=DURATION:PT1H
X-Robots-Tag:noindex
X-PUBLISHED-TTL:PT1H
BEGIN:VTIMEZONE
TZID:America/Chicago
BEGIN:DAYLIGHT
TZOFFSETFROM:-0600
TZOFFSETTO:-0500
TZNAME:CDT
DTSTART:20230312T080000
END:DAYLIGHT
BEGIN:STANDARD
TZOFFSETFROM:-0500
TZOFFSETTO:-0600
TZNAME:CST
DTSTART:20231105T070000
END:STANDARD
BEGIN:DAYLIGHT
TZOFFSETFROM:-0600
TZOFFSETTO:-0500
TZNAME:CDT
DTSTART:20240310T080000
END:DAYLIGHT
BEGIN:STANDARD
TZOFFSETFROM:-0500
TZOFFSETTO:-0600
TZNAME:CST
DTSTART:20241103T070000
END:STANDARD
BEGIN:DAYLIGHT
TZOFFSETFROM:-0600
TZOFFSETTO:-0500
TZNAME:CDT
DTSTART:20250309T080000
END:DAYLIGHT
BEGIN:STANDARD
TZOFFSETFROM:-0500
TZOFFSETTO:-0600
TZNAME:CST
DTSTART:20251102T070000
END:STANDARD
END:VTIMEZONE
BEGIN:VEVENT
DTSTART;TZID=America/Chicago:20240419T180000
DTEND;TZID=America/Chicago:20240419T193000
DTSTAMP:20260420T183646
CREATED:20240418T145726Z
LAST-MODIFIED:20240418T145726Z
UID:7539-1713549600-1713555000@morrismnchamber.org
SUMMARY:COOKING DEMONSTRATION WITH YIA VANG
DESCRIPTION:Learn about Hmong food and food ways with Yia Vang\, owner and executive chef of the Union Hmong Kitchen and Vinai. Chef Vang has been nominated twice for a James Beard Award and been named EATERS “Chef of the Year.”  He has appeared on Netflix’s “Iron Chef: Quest for an Iron Legend\,” as well as hosted Food Network’s “Stoked\,” the Emmy Nominated show “Relish” on PBS (Twins Cities Public Television)\, and the podcast “Hmonglish”\, where he speaks about how Hmong Americans navigate and create a third culture in the United States. Most recently he premiered his new cooking and culture series\, “Feral” that is now airing and streaming through the Outdoors Channel.  Contact: Clement Loo\, cloo@morris.umn.edu; 320-589-6095
URL:https://morrismnchamber.org/community-event/cooking-demonstration-with-yia-vang/
LOCATION:University of Minnesota Morris\, 600 E 4th St\, Morris\, MN\, 56267
CATEGORIES:Community Event
ATTACH;FMTTYPE=image/jpeg:https://morrismnchamber.org/wp-content/uploads/2024/04/yang.jpg
ORGANIZER;CN="University of Minnesota Morris":MAILTO:dietersm@morris.umn.edu
END:VEVENT
END:VCALENDAR