BEGIN:VCALENDAR
VERSION:2.0
PRODID:-//Morris Area Chamber of Commerce - ECPv6.15.15//NONSGML v1.0//EN
CALSCALE:GREGORIAN
METHOD:PUBLISH
X-WR-CALNAME:Morris Area Chamber of Commerce
X-ORIGINAL-URL:https://morrismnchamber.org
X-WR-CALDESC:Events for Morris Area Chamber of Commerce
REFRESH-INTERVAL;VALUE=DURATION:PT1H
X-Robots-Tag:noindex
X-PUBLISHED-TTL:PT1H
BEGIN:VTIMEZONE
TZID:America/Chicago
BEGIN:DAYLIGHT
TZOFFSETFROM:-0600
TZOFFSETTO:-0500
TZNAME:CDT
DTSTART:20230312T080000
END:DAYLIGHT
BEGIN:STANDARD
TZOFFSETFROM:-0500
TZOFFSETTO:-0600
TZNAME:CST
DTSTART:20231105T070000
END:STANDARD
BEGIN:DAYLIGHT
TZOFFSETFROM:-0600
TZOFFSETTO:-0500
TZNAME:CDT
DTSTART:20240310T080000
END:DAYLIGHT
BEGIN:STANDARD
TZOFFSETFROM:-0500
TZOFFSETTO:-0600
TZNAME:CST
DTSTART:20241103T070000
END:STANDARD
BEGIN:DAYLIGHT
TZOFFSETFROM:-0600
TZOFFSETTO:-0500
TZNAME:CDT
DTSTART:20250309T080000
END:DAYLIGHT
BEGIN:STANDARD
TZOFFSETFROM:-0500
TZOFFSETTO:-0600
TZNAME:CST
DTSTART:20251102T070000
END:STANDARD
END:VTIMEZONE
BEGIN:VEVENT
DTSTART;TZID=America/Chicago:20240904T163000
DTEND;TZID=America/Chicago:20240904T190000
DTSTAMP:20260420T110055
CREATED:20240814T184334Z
LAST-MODIFIED:20240814T184334Z
UID:7865-1725467400-1725476400@morrismnchamber.org
SUMMARY:Chamber/University Welcome Picnic
DESCRIPTION:
URL:https://morrismnchamber.org/community-event/chamber-university-welcome-picnic/
LOCATION:East Side Park\, Morris\, 52488 180TH STREET\, MORRIS\, MN\, 56267\, United States
ATTACH;FMTTYPE=image/png:https://morrismnchamber.org/wp-content/uploads/2024/08/2024.png
ORGANIZER;CN="Morris Area Chamber of Commerce":MAILTO:morrismnchamber@gmail.com
END:VEVENT
END:VCALENDAR