BEGIN:VCALENDAR
VERSION:2.0
PRODID:-//Morris Area Chamber of Commerce - ECPv6.15.15//NONSGML v1.0//EN
CALSCALE:GREGORIAN
METHOD:PUBLISH
X-ORIGINAL-URL:https://morrismnchamber.org
X-WR-CALDESC:Events for Morris Area Chamber of Commerce
REFRESH-INTERVAL;VALUE=DURATION:PT1H
X-Robots-Tag:noindex
X-PUBLISHED-TTL:PT1H
BEGIN:VTIMEZONE
TZID:America/Chicago
BEGIN:DAYLIGHT
TZOFFSETFROM:-0600
TZOFFSETTO:-0500
TZNAME:CDT
DTSTART:20230312T080000
END:DAYLIGHT
BEGIN:STANDARD
TZOFFSETFROM:-0500
TZOFFSETTO:-0600
TZNAME:CST
DTSTART:20231105T070000
END:STANDARD
BEGIN:DAYLIGHT
TZOFFSETFROM:-0600
TZOFFSETTO:-0500
TZNAME:CDT
DTSTART:20240310T080000
END:DAYLIGHT
BEGIN:STANDARD
TZOFFSETFROM:-0500
TZOFFSETTO:-0600
TZNAME:CST
DTSTART:20241103T070000
END:STANDARD
BEGIN:DAYLIGHT
TZOFFSETFROM:-0600
TZOFFSETTO:-0500
TZNAME:CDT
DTSTART:20250309T080000
END:DAYLIGHT
BEGIN:STANDARD
TZOFFSETFROM:-0500
TZOFFSETTO:-0600
TZNAME:CST
DTSTART:20251102T070000
END:STANDARD
END:VTIMEZONE
BEGIN:VEVENT
DTSTART;VALUE=DATE:20240906
DTEND;VALUE=DATE:20240907
DTSTAMP:20260420T110209
CREATED:20240425T194503Z
LAST-MODIFIED:20240425T194503Z
UID:7552-1725580800-1725667199@morrismnchamber.org
SUMMARY:UMN Morris Homecoming
DESCRIPTION:The University of Minnesota Morris has announced the weekend of Sept. 6-8 as Homecoming 2024 and the campus will have plenty of ways to keep you entertained during the weekend back in Morris.\nA full calendar of Homecoming 2024 events will be announced soon.
URL:https://morrismnchamber.org/community-event/umn-morris-homecoming-3/
LOCATION:University of Minnesota Morris\, 600 E 4th St\, Morris\, MN\, 56267
CATEGORIES:Community Event
ATTACH;FMTTYPE=image/jpeg:https://morrismnchamber.org/wp-content/uploads/2024/04/homecomingshield-noyear-1.jpg
END:VEVENT
BEGIN:VEVENT
DTSTART;TZID=America/Chicago:20240906T170000
DTEND;TZID=America/Chicago:20240906T200000
DTSTAMP:20260420T110209
CREATED:20240822T162055Z
LAST-MODIFIED:20240822T162055Z
UID:7903-1725642000-1725652800@morrismnchamber.org
SUMMARY:Stevens County Community Garden Event
DESCRIPTION:Come learn more about the Stevens County Community Garden on Friday\, September 6th. The garden is located behind Horizon Public Health\, on the frontage road by Subway. The event will start at 5PM and go until 8PM\, and all are welcome to attend. Free produce will be ready for harvest\, and the Mi Mexico Food Truck will be available for people to purchase food. Free activities will include painting pots and transplanting marigold flowers\, coloring sheets\, and plenty of the garden and herb garden to explore. A tour and more additional opportunities will be available throughout the event to learn more about the garden.  The Morris Transit will be free as well for rides to and from the garden during the event.
URL:https://morrismnchamber.org/community-event/stevens-county-community-garden-event/
LOCATION:Community Garden\, 10 MN-28\, Morris\, MN\, 56267\, United States
END:VEVENT
END:VCALENDAR