BEGIN:VCALENDAR
VERSION:2.0
PRODID:-//Morris Area Chamber of Commerce - ECPv6.15.15//NONSGML v1.0//EN
CALSCALE:GREGORIAN
METHOD:PUBLISH
X-ORIGINAL-URL:https://morrismnchamber.org
X-WR-CALDESC:Events for Morris Area Chamber of Commerce
REFRESH-INTERVAL;VALUE=DURATION:PT1H
X-Robots-Tag:noindex
X-PUBLISHED-TTL:PT1H
BEGIN:VTIMEZONE
TZID:America/Chicago
BEGIN:DAYLIGHT
TZOFFSETFROM:-0600
TZOFFSETTO:-0500
TZNAME:CDT
DTSTART:20230312T080000
END:DAYLIGHT
BEGIN:STANDARD
TZOFFSETFROM:-0500
TZOFFSETTO:-0600
TZNAME:CST
DTSTART:20231105T070000
END:STANDARD
BEGIN:DAYLIGHT
TZOFFSETFROM:-0600
TZOFFSETTO:-0500
TZNAME:CDT
DTSTART:20240310T080000
END:DAYLIGHT
BEGIN:STANDARD
TZOFFSETFROM:-0500
TZOFFSETTO:-0600
TZNAME:CST
DTSTART:20241103T070000
END:STANDARD
BEGIN:DAYLIGHT
TZOFFSETFROM:-0600
TZOFFSETTO:-0500
TZNAME:CDT
DTSTART:20250309T080000
END:DAYLIGHT
BEGIN:STANDARD
TZOFFSETFROM:-0500
TZOFFSETTO:-0600
TZNAME:CST
DTSTART:20251102T070000
END:STANDARD
END:VTIMEZONE
BEGIN:VEVENT
DTSTART;TZID=America/Chicago:20240917T170000
DTEND;TZID=America/Chicago:20240917T190000
DTSTAMP:20260420T110117
CREATED:20240814T184916Z
LAST-MODIFIED:20240814T184916Z
UID:7871-1726592400-1726599600@morrismnchamber.org
SUMMARY:Rescheduled Crazy Days\, Lazy Nights Evening Activities
DESCRIPTION:Come join the fun September 17th 5-7pm at East Side Park. There will be live music from The Hilldales. Clueless the Balloon Twister will be there with free kids activities. Food trucks will be there with food for sale.
URL:https://morrismnchamber.org/community-event/rescheduled-crazy-days-lazy-nights-evening-activities/
LOCATION:East Side Park\, Morris\, 52488 180TH STREET\, MORRIS\, MN\, 56267\, United States
ATTACH;FMTTYPE=image/png:https://morrismnchamber.org/wp-content/uploads/2024/08/rescheduled-crazy-days.png
ORGANIZER;CN="Morris Area Chamber of Commerce":MAILTO:morrismnchamber@gmail.com
END:VEVENT
END:VCALENDAR