BEGIN:VCALENDAR
VERSION:2.0
PRODID:-//Morris Area Chamber of Commerce - ECPv6.15.15//NONSGML v1.0//EN
CALSCALE:GREGORIAN
METHOD:PUBLISH
X-WR-CALNAME:Morris Area Chamber of Commerce
X-ORIGINAL-URL:https://morrismnchamber.org
X-WR-CALDESC:Events for Morris Area Chamber of Commerce
REFRESH-INTERVAL;VALUE=DURATION:PT1H
X-Robots-Tag:noindex
X-PUBLISHED-TTL:PT1H
BEGIN:VTIMEZONE
TZID:America/Chicago
BEGIN:DAYLIGHT
TZOFFSETFROM:-0600
TZOFFSETTO:-0500
TZNAME:CDT
DTSTART:20230312T080000
END:DAYLIGHT
BEGIN:STANDARD
TZOFFSETFROM:-0500
TZOFFSETTO:-0600
TZNAME:CST
DTSTART:20231105T070000
END:STANDARD
BEGIN:DAYLIGHT
TZOFFSETFROM:-0600
TZOFFSETTO:-0500
TZNAME:CDT
DTSTART:20240310T080000
END:DAYLIGHT
BEGIN:STANDARD
TZOFFSETFROM:-0500
TZOFFSETTO:-0600
TZNAME:CST
DTSTART:20241103T070000
END:STANDARD
BEGIN:DAYLIGHT
TZOFFSETFROM:-0600
TZOFFSETTO:-0500
TZNAME:CDT
DTSTART:20250309T080000
END:DAYLIGHT
BEGIN:STANDARD
TZOFFSETFROM:-0500
TZOFFSETTO:-0600
TZNAME:CST
DTSTART:20251102T070000
END:STANDARD
END:VTIMEZONE
BEGIN:VEVENT
DTSTART;TZID=America/Chicago:20240924T180000
DTEND;TZID=America/Chicago:20240924T190000
DTSTAMP:20260420T110118
CREATED:20240909T153956Z
LAST-MODIFIED:20240909T153956Z
UID:7975-1727200800-1727204400@morrismnchamber.org
SUMMARY:Scout Me In Morris Cub Scout Sign Up & Information
DESCRIPTION:Scout Me In Morris! Are you ready for adventure? Pack 467 is inviting all girls and boys in grades K-5 to join Cub Scouts! Whether it’s camping\, hiking\, building Pinewood Derby cars\, or making new friends\, Scouting offers fun and excitement for everyone.
URL:https://morrismnchamber.org/community-event/scout-me-in-morris-cub-scout-sign-up-information/
LOCATION:Morris Area Elementary\, 151 S Columbia Ave\, Morris\, 56267
CATEGORIES:Community Event
ORGANIZER;CN="Northern Lights Council-Boy Scouts of America":MAILTO:brenda.thomson@scouting.org
END:VEVENT
BEGIN:VEVENT
DTSTART;TZID=America/Chicago:20240924T180000
DTEND;TZID=America/Chicago:20240924T190000
DTSTAMP:20260420T110118
CREATED:20240909T160428Z
LAST-MODIFIED:20240909T160428Z
UID:7983-1727200800-1727204400@morrismnchamber.org
SUMMARY:Scout Me in Morris Cub Scout Sign Up & Information
DESCRIPTION:Scout Me in Morris! Are you ready for adventure? Pack 467 is inviting all girls and boys in grades K-5 to join Cub Scouts! Whether it’s camping\, hiking\, building Pinewood Derby cars\, or making new friends\, Scouting offers fun and excitement for everyone.
URL:https://morrismnchamber.org/community-event/scout-me-in-morris-cub-scout-sign-up-information-2/
LOCATION:Morris Area Elementary\, 151 S Columbia Ave\, Morris\, 56267
ORGANIZER;CN="Northern Lights Council-Boy Scouts of America":MAILTO:brenda.thomson@scouting.org
END:VEVENT
BEGIN:VEVENT
DTSTART;TZID=America/Chicago:20240924T180000
DTEND;TZID=America/Chicago:20240924T190000
DTSTAMP:20260420T110118
CREATED:20240917T151940Z
LAST-MODIFIED:20240917T151940Z
UID:7978-1727200800-1727204400@morrismnchamber.org
SUMMARY:Scout Me In Morris Cub Scout Sign Up & Information
DESCRIPTION:Scout Me In Morris! Are you ready for adventure? Pack 467 is inviting all girls and boys in grades K-5 to join Cub Scouts! Whether it’s camping\, hiking\, building Pinewood Derby cars\, or making new friends\, Scouting offers fun and excitement for everyone.
URL:https://morrismnchamber.org/community-event/scout-me-in-morris-cub-scout-sign-up-information-3/
LOCATION:Morris Area Elementary\, 151 S Columbia Ave\, Morris\, 56267
CATEGORIES:Community Event
ORGANIZER;CN="Northern Lights Council-Boy Scouts of America":MAILTO:brenda.thomson@scouting.org
END:VEVENT
END:VCALENDAR