BEGIN:VCALENDAR
VERSION:2.0
PRODID:-//Morris Area Chamber of Commerce - ECPv6.15.15//NONSGML v1.0//EN
CALSCALE:GREGORIAN
METHOD:PUBLISH
X-WR-CALNAME:Morris Area Chamber of Commerce
X-ORIGINAL-URL:https://morrismnchamber.org
X-WR-CALDESC:Events for Morris Area Chamber of Commerce
REFRESH-INTERVAL;VALUE=DURATION:PT1H
X-Robots-Tag:noindex
X-PUBLISHED-TTL:PT1H
BEGIN:VTIMEZONE
TZID:America/Chicago
BEGIN:DAYLIGHT
TZOFFSETFROM:-0600
TZOFFSETTO:-0500
TZNAME:CDT
DTSTART:20230312T080000
END:DAYLIGHT
BEGIN:STANDARD
TZOFFSETFROM:-0500
TZOFFSETTO:-0600
TZNAME:CST
DTSTART:20231105T070000
END:STANDARD
BEGIN:DAYLIGHT
TZOFFSETFROM:-0600
TZOFFSETTO:-0500
TZNAME:CDT
DTSTART:20240310T080000
END:DAYLIGHT
BEGIN:STANDARD
TZOFFSETFROM:-0500
TZOFFSETTO:-0600
TZNAME:CST
DTSTART:20241103T070000
END:STANDARD
BEGIN:DAYLIGHT
TZOFFSETFROM:-0600
TZOFFSETTO:-0500
TZNAME:CDT
DTSTART:20250309T080000
END:DAYLIGHT
BEGIN:STANDARD
TZOFFSETFROM:-0500
TZOFFSETTO:-0600
TZNAME:CST
DTSTART:20251102T070000
END:STANDARD
END:VTIMEZONE
BEGIN:VEVENT
DTSTART;TZID=America/Chicago:20240926T171500
DTEND;TZID=America/Chicago:20240926T190000
DTSTAMP:20260420T110118
CREATED:20240108T150145Z
LAST-MODIFIED:20240108T150145Z
UID:7219-1727370900-1727377200@morrismnchamber.org
SUMMARY:Pomme de Terre Garden Club September Meeting
DESCRIPTION:Pomme de Terre Garden Club Meeting on Thursday\, September 26 at 5:15 pm at the Morris Public Library.
URL:https://morrismnchamber.org/community-event/pomme-de-terre-garden-club-september-meeting-2/
LOCATION:Morris Public Library\, 102 E 6th St.\, Morris\, 56267
CATEGORIES:Community Event
ORGANIZER;CN="Pomme de Terre Garden Club (Diane Kill)":MAILTO:killdk@morris.umn.edu
END:VEVENT
END:VCALENDAR