BEGIN:VCALENDAR
VERSION:2.0
PRODID:-//Morris Area Chamber of Commerce - ECPv6.15.15//NONSGML v1.0//EN
CALSCALE:GREGORIAN
METHOD:PUBLISH
X-ORIGINAL-URL:https://morrismnchamber.org
X-WR-CALDESC:Events for Morris Area Chamber of Commerce
REFRESH-INTERVAL;VALUE=DURATION:PT1H
X-Robots-Tag:noindex
X-PUBLISHED-TTL:PT1H
BEGIN:VTIMEZONE
TZID:America/Chicago
BEGIN:DAYLIGHT
TZOFFSETFROM:-0600
TZOFFSETTO:-0500
TZNAME:CDT
DTSTART:20230312T080000
END:DAYLIGHT
BEGIN:STANDARD
TZOFFSETFROM:-0500
TZOFFSETTO:-0600
TZNAME:CST
DTSTART:20231105T070000
END:STANDARD
BEGIN:DAYLIGHT
TZOFFSETFROM:-0600
TZOFFSETTO:-0500
TZNAME:CDT
DTSTART:20240310T080000
END:DAYLIGHT
BEGIN:STANDARD
TZOFFSETFROM:-0500
TZOFFSETTO:-0600
TZNAME:CST
DTSTART:20241103T070000
END:STANDARD
BEGIN:DAYLIGHT
TZOFFSETFROM:-0600
TZOFFSETTO:-0500
TZNAME:CDT
DTSTART:20250309T080000
END:DAYLIGHT
BEGIN:STANDARD
TZOFFSETFROM:-0500
TZOFFSETTO:-0600
TZNAME:CST
DTSTART:20251102T070000
END:STANDARD
END:VTIMEZONE
BEGIN:VEVENT
DTSTART;TZID=America/Chicago:20240930T173000
DTEND;TZID=America/Chicago:20240930T193000
DTSTAMP:20260420T094105
CREATED:20240917T152319Z
LAST-MODIFIED:20240917T152319Z
UID:8001-1727717400-1727724600@morrismnchamber.org
SUMMARY:Morris Community Meals
DESCRIPTION:Sharing food is a key way to build community. Morris Community Meals are free meals served to anyone who wants to come. Regional businesses and organizations fund the meal\, and students\, faculty\, staff\, and community members cook together and share a meal. Morris Community Meal uses local foods and sustainable practices as much as possible\, and strives to share food from a variety of cultures. Gluten-free and vegan meals are always available. Anyone can get involved as a co-sponsor\, volunteer\, or attendee! \nSeptember’s Meal will be held from 5:30-7:30p on Monday\, September 30th at First Lutheran Church\, 200 E. 5th Street\, in Morris. Volunteer shifts are available from 2-9 p.m. on Sunday\, September 29th and Monday\, September 30th. Volunteers will help wash and cut vegetables\, prepare dishes\, make desserts and set up\, serve\, and clean up\, depending on the shift.
URL:https://morrismnchamber.org/community-event/morris-community-meals/
LOCATION:First Lutheran Church\, 200 E 5th Street\, Morris\, 56267
END:VEVENT
END:VCALENDAR