BEGIN:VCALENDAR
VERSION:2.0
PRODID:-//Morris Area Chamber of Commerce - ECPv6.15.15//NONSGML v1.0//EN
CALSCALE:GREGORIAN
METHOD:PUBLISH
X-WR-CALNAME:Morris Area Chamber of Commerce
X-ORIGINAL-URL:https://morrismnchamber.org
X-WR-CALDESC:Events for Morris Area Chamber of Commerce
REFRESH-INTERVAL;VALUE=DURATION:PT1H
X-Robots-Tag:noindex
X-PUBLISHED-TTL:PT1H
BEGIN:VTIMEZONE
TZID:America/Chicago
BEGIN:DAYLIGHT
TZOFFSETFROM:-0600
TZOFFSETTO:-0500
TZNAME:CDT
DTSTART:20240310T080000
END:DAYLIGHT
BEGIN:STANDARD
TZOFFSETFROM:-0500
TZOFFSETTO:-0600
TZNAME:CST
DTSTART:20241103T070000
END:STANDARD
BEGIN:DAYLIGHT
TZOFFSETFROM:-0600
TZOFFSETTO:-0500
TZNAME:CDT
DTSTART:20250309T080000
END:DAYLIGHT
BEGIN:STANDARD
TZOFFSETFROM:-0500
TZOFFSETTO:-0600
TZNAME:CST
DTSTART:20251102T070000
END:STANDARD
BEGIN:DAYLIGHT
TZOFFSETFROM:-0600
TZOFFSETTO:-0500
TZNAME:CDT
DTSTART:20260308T080000
END:DAYLIGHT
BEGIN:STANDARD
TZOFFSETFROM:-0500
TZOFFSETTO:-0600
TZNAME:CST
DTSTART:20261101T070000
END:STANDARD
END:VTIMEZONE
BEGIN:VEVENT
DTSTART;TZID=America/Chicago:20250208T130000
DTEND;TZID=America/Chicago:20250208T140000
DTSTAMP:20260420T040256
CREATED:20250103T170037Z
LAST-MODIFIED:20250103T170037Z
UID:8410-1739019600-1739023200@morrismnchamber.org
SUMMARY:Stevens County Organics 3-Year Anniversary Celebration!
DESCRIPTION:Come hear a celebratory update on three full years of Stevens County Organics Recycling! Learn about how the program is doing\, ask questions\, and celebrate the folks who make it all happen. \nIf you are interested in getting started with organics recycling at home or your business\, this is the celebration for you! \nSaturday February 8th at 1:00PM\nMorris Public Library Community Room
URL:https://morrismnchamber.org/community-event/stevens-county-organics-3-year-anniversary-celebration/
LOCATION:Morris Public Library\, 102 E 6th St.\, Morris\, 56267
CATEGORIES:Community Event
ATTACH;FMTTYPE=image/jpeg:https://morrismnchamber.org/wp-content/uploads/2025/01/3-year-anniversary-celebration-invite.jpg
ORGANIZER;CN="Stevens County Organics":MAILTO:sydneybauer@co.stevens.mn.us
END:VEVENT
END:VCALENDAR