BEGIN:VCALENDAR
VERSION:2.0
PRODID:-//Morris Area Chamber of Commerce - ECPv6.15.15//NONSGML v1.0//EN
CALSCALE:GREGORIAN
METHOD:PUBLISH
X-ORIGINAL-URL:https://morrismnchamber.org
X-WR-CALDESC:Events for Morris Area Chamber of Commerce
REFRESH-INTERVAL;VALUE=DURATION:PT1H
X-Robots-Tag:noindex
X-PUBLISHED-TTL:PT1H
BEGIN:VTIMEZONE
TZID:America/Chicago
BEGIN:DAYLIGHT
TZOFFSETFROM:-0600
TZOFFSETTO:-0500
TZNAME:CDT
DTSTART:20240310T080000
END:DAYLIGHT
BEGIN:STANDARD
TZOFFSETFROM:-0500
TZOFFSETTO:-0600
TZNAME:CST
DTSTART:20241103T070000
END:STANDARD
BEGIN:DAYLIGHT
TZOFFSETFROM:-0600
TZOFFSETTO:-0500
TZNAME:CDT
DTSTART:20250309T080000
END:DAYLIGHT
BEGIN:STANDARD
TZOFFSETFROM:-0500
TZOFFSETTO:-0600
TZNAME:CST
DTSTART:20251102T070000
END:STANDARD
BEGIN:DAYLIGHT
TZOFFSETFROM:-0600
TZOFFSETTO:-0500
TZNAME:CDT
DTSTART:20260308T080000
END:DAYLIGHT
BEGIN:STANDARD
TZOFFSETFROM:-0500
TZOFFSETTO:-0600
TZNAME:CST
DTSTART:20261101T070000
END:STANDARD
END:VTIMEZONE
BEGIN:VEVENT
DTSTART;TZID=America/Chicago:20250514T113000
DTEND;TZID=America/Chicago:20250514T133000
DTSTAMP:20260419T234900
CREATED:20250424T132728Z
LAST-MODIFIED:20250424T132728Z
UID:8917-1747222200-1747229400@morrismnchamber.org
SUMMARY:Heartland Motor Company Customer Appreciation BBQ
DESCRIPTION:Free burger\, chips\, drink\, and Mini-Waska donuts to show our appreciation for our customers!
URL:https://morrismnchamber.org/community-event/heartland-motor-company-customer-appreciation-bbq/
LOCATION:Heartland Motor Company\, 1 E Hwy 28\, Morris\, 56267
CATEGORIES:Community Event
ATTACH;FMTTYPE=image/png:https://morrismnchamber.org/wp-content/uploads/2025/04/customer-appreciation-bbq-fb-event-cover-1.png
END:VEVENT
BEGIN:VEVENT
DTSTART;TZID=America/Chicago:20250514T113000
DTEND;TZID=America/Chicago:20250514T133000
DTSTAMP:20260419T234900
CREATED:20250424T132742Z
LAST-MODIFIED:20250424T132742Z
UID:8914-1747222200-1747229400@morrismnchamber.org
SUMMARY:Heartland Motor Company Customer Appreciation BBQ
DESCRIPTION:Free burger\, chips\, drink\, and Mini-Waska donuts to celebrate our customers and show our appreciation!
URL:https://morrismnchamber.org/community-event/heartland-motor-company-customer-appreciation-bbq-2/
LOCATION:Heartland Motor Company\, 1 E Hwy 28\, Morris\, 56267
CATEGORIES:Community Event
END:VEVENT
END:VCALENDAR