BEGIN:VCALENDAR
VERSION:2.0
PRODID:-//Morris Area Chamber of Commerce - ECPv6.15.15//NONSGML v1.0//EN
CALSCALE:GREGORIAN
METHOD:PUBLISH
X-ORIGINAL-URL:https://morrismnchamber.org
X-WR-CALDESC:Events for Morris Area Chamber of Commerce
REFRESH-INTERVAL;VALUE=DURATION:PT1H
X-Robots-Tag:noindex
X-PUBLISHED-TTL:PT1H
BEGIN:VTIMEZONE
TZID:America/Chicago
BEGIN:DAYLIGHT
TZOFFSETFROM:-0600
TZOFFSETTO:-0500
TZNAME:CDT
DTSTART:20240310T080000
END:DAYLIGHT
BEGIN:STANDARD
TZOFFSETFROM:-0500
TZOFFSETTO:-0600
TZNAME:CST
DTSTART:20241103T070000
END:STANDARD
BEGIN:DAYLIGHT
TZOFFSETFROM:-0600
TZOFFSETTO:-0500
TZNAME:CDT
DTSTART:20250309T080000
END:DAYLIGHT
BEGIN:STANDARD
TZOFFSETFROM:-0500
TZOFFSETTO:-0600
TZNAME:CST
DTSTART:20251102T070000
END:STANDARD
BEGIN:DAYLIGHT
TZOFFSETFROM:-0600
TZOFFSETTO:-0500
TZNAME:CDT
DTSTART:20260308T080000
END:DAYLIGHT
BEGIN:STANDARD
TZOFFSETFROM:-0500
TZOFFSETTO:-0600
TZNAME:CST
DTSTART:20261101T070000
END:STANDARD
END:VTIMEZONE
BEGIN:VEVENT
DTSTART;TZID=America/Chicago:20250516T130000
DTEND;TZID=America/Chicago:20250516T170000
DTSTAMP:20260419T232841
CREATED:20250424T181208Z
LAST-MODIFIED:20250424T181208Z
UID:8922-1747400400-1747414800@morrismnchamber.org
SUMMARY:City of Morris Tree Giveaway
DESCRIPTION:The City of Morris will give away 100 trees\, free to Morris property owners\, on a first-come\, first-served basis.  Limit 1 tree per property.  They must be planted on private property within the Morris city limits.  Pick-up Days:  Friday\, May 16\, 1pm to 5pm\, and Saturday\, May 17\, 8am to noon.  Where:  Morris City Shops on County Road 22 across from the Fairgrounds.  There will be 12 varieties of bare-root trees to choose from.  For more information\, contact Morris City Hall at 320-589-3141.
URL:https://morrismnchamber.org/community-event/city-of-morris-tree-giveaway-2/
LOCATION:Morris City Shops (Co Rd 22 across from fairgrounds)\, 156 S. County Road 22\, Morris\, 56267
CATEGORIES:Community Event
END:VEVENT
END:VCALENDAR