BEGIN:VCALENDAR
VERSION:2.0
PRODID:-//Morris Area Chamber of Commerce - ECPv6.15.15//NONSGML v1.0//EN
CALSCALE:GREGORIAN
METHOD:PUBLISH
X-WR-CALNAME:Morris Area Chamber of Commerce
X-ORIGINAL-URL:https://morrismnchamber.org
X-WR-CALDESC:Events for Morris Area Chamber of Commerce
REFRESH-INTERVAL;VALUE=DURATION:PT1H
X-Robots-Tag:noindex
X-PUBLISHED-TTL:PT1H
BEGIN:VTIMEZONE
TZID:America/Chicago
BEGIN:DAYLIGHT
TZOFFSETFROM:-0600
TZOFFSETTO:-0500
TZNAME:CDT
DTSTART:20240310T080000
END:DAYLIGHT
BEGIN:STANDARD
TZOFFSETFROM:-0500
TZOFFSETTO:-0600
TZNAME:CST
DTSTART:20241103T070000
END:STANDARD
BEGIN:DAYLIGHT
TZOFFSETFROM:-0600
TZOFFSETTO:-0500
TZNAME:CDT
DTSTART:20250309T080000
END:DAYLIGHT
BEGIN:STANDARD
TZOFFSETFROM:-0500
TZOFFSETTO:-0600
TZNAME:CST
DTSTART:20251102T070000
END:STANDARD
BEGIN:DAYLIGHT
TZOFFSETFROM:-0600
TZOFFSETTO:-0500
TZNAME:CDT
DTSTART:20260308T080000
END:DAYLIGHT
BEGIN:STANDARD
TZOFFSETFROM:-0500
TZOFFSETTO:-0600
TZNAME:CST
DTSTART:20261101T070000
END:STANDARD
END:VTIMEZONE
BEGIN:VEVENT
DTSTART;TZID=America/Chicago:20250519T173000
DTEND;TZID=America/Chicago:20250519T190000
DTSTAMP:20260419T232754
CREATED:20250509T152320Z
LAST-MODIFIED:20250509T152320Z
UID:9006-1747675800-1747681200@morrismnchamber.org
SUMMARY:Stevens County Community Garden spring event
DESCRIPTION:Celebrate the new growing season and learn more about the Stevens County Community Garden on Monday\, May 19.   \nThere will be activity for kids and a free meal.   \nSponsored by RUSC Kinship\, West Central Initiative\, Clifford J. Benson Center for Community Partnerships\, and Horizon Public Health.
URL:https://morrismnchamber.org/community-event/stevens-county-community-garden-spring-event/
LOCATION:Stevens County Community Garden\, 10 MN-28\, Morris\, M\, 56267\, United States
CATEGORIES:Community Event
ATTACH;FMTTYPE=image/jpeg:https://morrismnchamber.org/wp-content/uploads/2025/05/4-h-herb-garden.jpg
ORGANIZER;CN="University of Minnesota Morris":MAILTO:dietersm@morris.umn.edu
END:VEVENT
END:VCALENDAR