BEGIN:VCALENDAR
VERSION:2.0
PRODID:-//Morris Area Chamber of Commerce - ECPv6.15.15//NONSGML v1.0//EN
CALSCALE:GREGORIAN
METHOD:PUBLISH
X-ORIGINAL-URL:https://morrismnchamber.org
X-WR-CALDESC:Events for Morris Area Chamber of Commerce
REFRESH-INTERVAL;VALUE=DURATION:PT1H
X-Robots-Tag:noindex
X-PUBLISHED-TTL:PT1H
BEGIN:VTIMEZONE
TZID:America/Chicago
BEGIN:DAYLIGHT
TZOFFSETFROM:-0600
TZOFFSETTO:-0500
TZNAME:CDT
DTSTART:20240310T080000
END:DAYLIGHT
BEGIN:STANDARD
TZOFFSETFROM:-0500
TZOFFSETTO:-0600
TZNAME:CST
DTSTART:20241103T070000
END:STANDARD
BEGIN:DAYLIGHT
TZOFFSETFROM:-0600
TZOFFSETTO:-0500
TZNAME:CDT
DTSTART:20250309T080000
END:DAYLIGHT
BEGIN:STANDARD
TZOFFSETFROM:-0500
TZOFFSETTO:-0600
TZNAME:CST
DTSTART:20251102T070000
END:STANDARD
BEGIN:DAYLIGHT
TZOFFSETFROM:-0600
TZOFFSETTO:-0500
TZNAME:CDT
DTSTART:20260308T080000
END:DAYLIGHT
BEGIN:STANDARD
TZOFFSETFROM:-0500
TZOFFSETTO:-0600
TZNAME:CST
DTSTART:20261101T070000
END:STANDARD
END:VTIMEZONE
BEGIN:VEVENT
DTSTART;TZID=America/Chicago:20250820T110000
DTEND;TZID=America/Chicago:20250820T130000
DTSTAMP:20260419T183723
CREATED:20250815T160356Z
LAST-MODIFIED:20250815T160356Z
UID:9326-1755687600-1755694800@morrismnchamber.org
SUMMARY:Someplace Safe Morris Thrift Store Anniversary Brat Stand
DESCRIPTION:Join the Someplace Safe Morris Thrift Store for lunch next week for our annual BRAT STAND at Willie’s Supervalu! Grab a brat\, chips and pop/water from 11am to 1pm on Wednesday\, August 20th for a suggested donation of $5.  *Be sure to also stop by the store that day and shop the 42% OFF Storewide Anniversary Sale!*
URL:https://morrismnchamber.org/community-event/someplace-safe-morris-thrift-store-anniversary-brat-stand/
LOCATION:Willie’s SuperValu\, Morris\, MN\, 56267\, United States
ATTACH;FMTTYPE=image/jpeg:https://morrismnchamber.org/wp-content/uploads/2025/08/530608848-1334305641500790-2460824974581048062-n.jpg
ORGANIZER;CN="Someplace Safe":MAILTO:stevens.co@someplacesafe.info
END:VEVENT
END:VCALENDAR