BEGIN:VCALENDAR
VERSION:2.0
PRODID:-//Morris Area Chamber of Commerce - ECPv6.15.15//NONSGML v1.0//EN
CALSCALE:GREGORIAN
METHOD:PUBLISH
X-WR-CALNAME:Morris Area Chamber of Commerce
X-ORIGINAL-URL:https://morrismnchamber.org
X-WR-CALDESC:Events for Morris Area Chamber of Commerce
REFRESH-INTERVAL;VALUE=DURATION:PT1H
X-Robots-Tag:noindex
X-PUBLISHED-TTL:PT1H
BEGIN:VTIMEZONE
TZID:America/Chicago
BEGIN:DAYLIGHT
TZOFFSETFROM:-0600
TZOFFSETTO:-0500
TZNAME:CDT
DTSTART:20240310T080000
END:DAYLIGHT
BEGIN:STANDARD
TZOFFSETFROM:-0500
TZOFFSETTO:-0600
TZNAME:CST
DTSTART:20241103T070000
END:STANDARD
BEGIN:DAYLIGHT
TZOFFSETFROM:-0600
TZOFFSETTO:-0500
TZNAME:CDT
DTSTART:20250309T080000
END:DAYLIGHT
BEGIN:STANDARD
TZOFFSETFROM:-0500
TZOFFSETTO:-0600
TZNAME:CST
DTSTART:20251102T070000
END:STANDARD
BEGIN:DAYLIGHT
TZOFFSETFROM:-0600
TZOFFSETTO:-0500
TZNAME:CDT
DTSTART:20260308T080000
END:DAYLIGHT
BEGIN:STANDARD
TZOFFSETFROM:-0500
TZOFFSETTO:-0600
TZNAME:CST
DTSTART:20261101T070000
END:STANDARD
END:VTIMEZONE
BEGIN:VEVENT
DTSTART;TZID=America/Chicago:20251104T180000
DTEND;TZID=America/Chicago:20251104T203000
DTSTAMP:20260419T135538
CREATED:20251024T011730Z
LAST-MODIFIED:20251024T011730Z
UID:9678-1762279200-1762288200@morrismnchamber.org
SUMMARY:Eco Silk
DESCRIPTION:Create your own clothing and house hold items with Dorothy. She will demonstrate and assist in basic steps.\nCan bring your own flattened leaves if wanted.
URL:https://morrismnchamber.org/community-event/eco-silk/
LOCATION:The Hudson Inn\, 200 HWY 28 East\, Morris\, 56267
ATTACH;FMTTYPE=image/jpeg:https://morrismnchamber.org/wp-content/uploads/2025/10/pxl-20250311-1313335942.jpg
ORGANIZER;CN="The Hudson Inn":MAILTO:events@thehudsoninnmorris.com
END:VEVENT
END:VCALENDAR