BEGIN:VCALENDAR
VERSION:2.0
PRODID:-//Morris Area Chamber of Commerce - ECPv6.15.15//NONSGML v1.0//EN
CALSCALE:GREGORIAN
METHOD:PUBLISH
X-ORIGINAL-URL:https://morrismnchamber.org
X-WR-CALDESC:Events for Morris Area Chamber of Commerce
REFRESH-INTERVAL;VALUE=DURATION:PT1H
X-Robots-Tag:noindex
X-PUBLISHED-TTL:PT1H
BEGIN:VTIMEZONE
TZID:America/Chicago
BEGIN:DAYLIGHT
TZOFFSETFROM:-0600
TZOFFSETTO:-0500
TZNAME:CDT
DTSTART:20240310T080000
END:DAYLIGHT
BEGIN:STANDARD
TZOFFSETFROM:-0500
TZOFFSETTO:-0600
TZNAME:CST
DTSTART:20241103T070000
END:STANDARD
BEGIN:DAYLIGHT
TZOFFSETFROM:-0600
TZOFFSETTO:-0500
TZNAME:CDT
DTSTART:20250309T080000
END:DAYLIGHT
BEGIN:STANDARD
TZOFFSETFROM:-0500
TZOFFSETTO:-0600
TZNAME:CST
DTSTART:20251102T070000
END:STANDARD
BEGIN:DAYLIGHT
TZOFFSETFROM:-0600
TZOFFSETTO:-0500
TZNAME:CDT
DTSTART:20260308T080000
END:DAYLIGHT
BEGIN:STANDARD
TZOFFSETFROM:-0500
TZOFFSETTO:-0600
TZNAME:CST
DTSTART:20261101T070000
END:STANDARD
END:VTIMEZONE
BEGIN:VEVENT
DTSTART;TZID=America/Chicago:20251115T130000
DTEND;TZID=America/Chicago:20251115T160000
DTSTAMP:20260419T135930
CREATED:20251008T160050Z
LAST-MODIFIED:20251008T160050Z
UID:9592-1763211600-1763222400@morrismnchamber.org
SUMMARY:Activities with Elders
DESCRIPTION:Spend an afternoon with elders in the Morris Community. On Saturday October 18th\, November 8th\, and November 15th from 1-4 PM the Office of Community Engagement is coordinating opportunities for students to spend time with residents living in assisted living facilities in Morris. Join one or multiple times. Transportation is provided. Meet at the Welcome Center at 12:50pm.  \nActivity will be provided. Volunteers are welcome to bring activities as well.
URL:https://morrismnchamber.org/community-event/activities-with-elders/
LOCATION:MN
CATEGORIES:Community Event
END:VEVENT
END:VCALENDAR