BEGIN:VCALENDAR
VERSION:2.0
PRODID:-//Morris Area Chamber of Commerce - ECPv6.15.15//NONSGML v1.0//EN
CALSCALE:GREGORIAN
METHOD:PUBLISH
X-ORIGINAL-URL:https://morrismnchamber.org
X-WR-CALDESC:Events for Morris Area Chamber of Commerce
REFRESH-INTERVAL;VALUE=DURATION:PT1H
X-Robots-Tag:noindex
X-PUBLISHED-TTL:PT1H
BEGIN:VTIMEZONE
TZID:America/Chicago
BEGIN:DAYLIGHT
TZOFFSETFROM:-0600
TZOFFSETTO:-0500
TZNAME:CDT
DTSTART:20240310T080000
END:DAYLIGHT
BEGIN:STANDARD
TZOFFSETFROM:-0500
TZOFFSETTO:-0600
TZNAME:CST
DTSTART:20241103T070000
END:STANDARD
BEGIN:DAYLIGHT
TZOFFSETFROM:-0600
TZOFFSETTO:-0500
TZNAME:CDT
DTSTART:20250309T080000
END:DAYLIGHT
BEGIN:STANDARD
TZOFFSETFROM:-0500
TZOFFSETTO:-0600
TZNAME:CST
DTSTART:20251102T070000
END:STANDARD
BEGIN:DAYLIGHT
TZOFFSETFROM:-0600
TZOFFSETTO:-0500
TZNAME:CDT
DTSTART:20260308T080000
END:DAYLIGHT
BEGIN:STANDARD
TZOFFSETFROM:-0500
TZOFFSETTO:-0600
TZNAME:CST
DTSTART:20261101T070000
END:STANDARD
END:VTIMEZONE
BEGIN:VEVENT
DTSTART;TZID=America/Chicago:20251206T100000
DTEND;TZID=America/Chicago:20251206T130000
DTSTAMP:20260419T122126
CREATED:20251006T153319Z
LAST-MODIFIED:20251029T185822Z
UID:9571-1765015200-1765026000@morrismnchamber.org
SUMMARY:Christmas with Santa at The Hudson Inn
DESCRIPTION:Christmas with Santa at The Hudson Inn.\nPictures with Santa 10:30-1pm- bring your own camera or phone for photos\nHot Chocolate bar\nPizza by the slice for sale\nOpen Swim\nBar open at 10:00\nBakers with Christmas cookies
URL:https://morrismnchamber.org/community-event/christmas-with-santa-at-the-hudson-inn/
LOCATION:The Hudson Inn\, 200 HWY 28 East\, Morris\, 56267
ATTACH;FMTTYPE=image/png:https://morrismnchamber.org/wp-content/uploads/2025/10/new-hudson-holiday-stroll.png
ORGANIZER;CN="The Hudson Inn":MAILTO:events@thehudsoninnmorris.com
END:VEVENT
BEGIN:VEVENT
DTSTART;TZID=America/Chicago:20251206T130000
DTEND;TZID=America/Chicago:20251206T170000
DTSTAMP:20260419T122126
CREATED:20251204T161941Z
LAST-MODIFIED:20251204T161941Z
UID:9892-1765026000-1765040400@morrismnchamber.org
SUMMARY:Christmas on the Farm with If Wishes Were Horses
DESCRIPTION:
URL:https://morrismnchamber.org/community-event/christmas-on-the-farm-with-if-wishes-were-horses/
LOCATION:If Wishes Were Horses\, 537 Hwy 9\, Morris\, MN\, 56267\, United States
ATTACH;FMTTYPE=image/jpeg:https://morrismnchamber.org/wp-content/uploads/2025/12/31.jpg
END:VEVENT
BEGIN:VEVENT
DTSTART;TZID=America/Chicago:20251206T140000
DTEND;TZID=America/Chicago:20251206T160000
DTSTAMP:20260419T122126
CREATED:20251029T182914Z
LAST-MODIFIED:20251029T182914Z
UID:9716-1765029600-1765036800@morrismnchamber.org
SUMMARY:The Holiday Stroll Free Movie at the Morris Theater
DESCRIPTION:After shopping all our fabulous retailers\, seeing Santa and getting treats\, make your way to the movie theater at 2pm. A free showing of The Polar Express will start off the Holiday Season just perfectly. Don’t forget to buy some popcorn!
URL:https://morrismnchamber.org/community-event/the-holiday-stroll-free-movie-at-the-morris-theater/
LOCATION:Morris Theatre\, 12 East 6th St\, Morris\, 56267
ATTACH;FMTTYPE=image/png:https://morrismnchamber.org/wp-content/uploads/2025/10/holiday-stroll-movie.png
ORGANIZER;CN="Morris Area Chamber of Commerce":MAILTO:morrismnchamber@gmail.com
END:VEVENT
END:VCALENDAR