BEGIN:VCALENDAR
VERSION:2.0
PRODID:-//Morris Area Chamber of Commerce - ECPv6.15.15//NONSGML v1.0//EN
CALSCALE:GREGORIAN
METHOD:PUBLISH
X-ORIGINAL-URL:https://morrismnchamber.org
X-WR-CALDESC:Events for Morris Area Chamber of Commerce
REFRESH-INTERVAL;VALUE=DURATION:PT1H
X-Robots-Tag:noindex
X-PUBLISHED-TTL:PT1H
BEGIN:VTIMEZONE
TZID:America/Chicago
BEGIN:DAYLIGHT
TZOFFSETFROM:-0600
TZOFFSETTO:-0500
TZNAME:CDT
DTSTART:20250309T080000
END:DAYLIGHT
BEGIN:STANDARD
TZOFFSETFROM:-0500
TZOFFSETTO:-0600
TZNAME:CST
DTSTART:20251102T070000
END:STANDARD
BEGIN:DAYLIGHT
TZOFFSETFROM:-0600
TZOFFSETTO:-0500
TZNAME:CDT
DTSTART:20260308T080000
END:DAYLIGHT
BEGIN:STANDARD
TZOFFSETFROM:-0500
TZOFFSETTO:-0600
TZNAME:CST
DTSTART:20261101T070000
END:STANDARD
BEGIN:DAYLIGHT
TZOFFSETFROM:-0600
TZOFFSETTO:-0500
TZNAME:CDT
DTSTART:20270314T080000
END:DAYLIGHT
BEGIN:STANDARD
TZOFFSETFROM:-0500
TZOFFSETTO:-0600
TZNAME:CST
DTSTART:20271107T070000
END:STANDARD
END:VTIMEZONE
BEGIN:VEVENT
DTSTART;TZID=America/Chicago:20260215T140000
DTEND;TZID=America/Chicago:20260215T160000
DTSTAMP:20260421T051239
CREATED:20260203T171313Z
LAST-MODIFIED:20260203T171313Z
UID:10119-1771164000-1771171200@morrismnchamber.org
SUMMARY:Central Lakes Symphony Orchestra Concert
DESCRIPTION:“Tragic Passions” is a dramatic orchestral concert exploring love\, obsession\, and fate through two romantic masterpieces. Tchaikovsky’s Romeo and Juliet Fantasy Overture opens the program with sweeping melodies and emotional intensity\, capturing the doomed passion of Shakespeare’s iconic lovers. Berlioz’s Symphonie Fantastique follows\, a groundbreaking work that plunges into the mind of a lovesick artist\, driven to madness by unrequited love. With vivid orchestration and haunting themes\, both works delve into the darker side of romance\, culminating in a powerful\, emotionally charged experience.
URL:https://morrismnchamber.org/community-event/central-lakes-symphony-orchestra-concert-4/
LOCATION:Alexandria Area High School Performing Arts Center\, 4300 Pioneer Dr\, Alexandria\, 56308
CATEGORIES:Community Event
ATTACH;FMTTYPE=image/jpeg:https://morrismnchamber.org/wp-content/uploads/2026/02/clsotragicpassions5x7digital.jpg
ORGANIZER;CN="Central Lakes Symphony Orchestra":MAILTO:info@centrallakessymphony.org
END:VEVENT
END:VCALENDAR