BEGIN:VCALENDAR
VERSION:2.0
PRODID:-//Morris Area Chamber of Commerce - ECPv6.15.15//NONSGML v1.0//EN
CALSCALE:GREGORIAN
METHOD:PUBLISH
X-WR-CALNAME:Morris Area Chamber of Commerce
X-ORIGINAL-URL:https://morrismnchamber.org
X-WR-CALDESC:Events for Morris Area Chamber of Commerce
REFRESH-INTERVAL;VALUE=DURATION:PT1H
X-Robots-Tag:noindex
X-PUBLISHED-TTL:PT1H
BEGIN:VTIMEZONE
TZID:America/Chicago
BEGIN:DAYLIGHT
TZOFFSETFROM:-0600
TZOFFSETTO:-0500
TZNAME:CDT
DTSTART:20200308T080000
END:DAYLIGHT
BEGIN:STANDARD
TZOFFSETFROM:-0500
TZOFFSETTO:-0600
TZNAME:CST
DTSTART:20201101T070000
END:STANDARD
BEGIN:DAYLIGHT
TZOFFSETFROM:-0600
TZOFFSETTO:-0500
TZNAME:CDT
DTSTART:20210314T080000
END:DAYLIGHT
BEGIN:STANDARD
TZOFFSETFROM:-0500
TZOFFSETTO:-0600
TZNAME:CST
DTSTART:20211107T070000
END:STANDARD
BEGIN:DAYLIGHT
TZOFFSETFROM:-0600
TZOFFSETTO:-0500
TZNAME:CDT
DTSTART:20220313T080000
END:DAYLIGHT
BEGIN:STANDARD
TZOFFSETFROM:-0500
TZOFFSETTO:-0600
TZNAME:CST
DTSTART:20221106T070000
END:STANDARD
END:VTIMEZONE
BEGIN:VEVENT
DTSTART;TZID=America/Chicago:20210830T140000
DTEND;TZID=America/Chicago:20210901T213000
DTSTAMP:20260422T010636
CREATED:20210810T185244Z
LAST-MODIFIED:20210810T191932Z
UID:3637-1630332000-1630531800@morrismnchamber.org
SUMMARY:Feed My Starving Children food packing event
DESCRIPTION:West Central Area Churches are holding Feed My Starving Children food packing event at the Morris Elementary School Cafeteria.  For further information and signing up or donate go to http://give.fmsc.org/westcentral.  You can also contact Robin at 320-226-1902.  Thank you for your support.
URL:https://morrismnchamber.org/community-event/feed-my-starving-children-food-packing-event/
CATEGORIES:Community Event
END:VEVENT
BEGIN:VEVENT
DTSTART;TZID=America/Chicago:20210909T040000
DTEND;TZID=America/Chicago:20210909T190000
DTSTAMP:20260422T010636
CREATED:20210707T163012Z
LAST-MODIFIED:20210707T173157Z
UID:3510-1631160000-1631214000@morrismnchamber.org
SUMMARY:Courage Cottage 20th Anniversary & Remembrance
DESCRIPTION:CCottage 20th Anniversary & Remembrance
URL:https://morrismnchamber.org/community-event/courage-cottage-20th-anniversary-remembrance/
LOCATION:Stevens Community Medical Center\, 400 E. 1st St.\, Morris\, 56267
CATEGORIES:Community Event
ORGANIZER;CN="SCMC":MAILTO:info@scmcinc.org
END:VEVENT
BEGIN:VEVENT
DTSTART;TZID=America/Chicago:20210909T073000
DTEND;TZID=America/Chicago:20210909T083000
DTSTAMP:20260422T010636
CREATED:20210707T173139Z
LAST-MODIFIED:20210707T173139Z
UID:3511-1631172600-1631176200@morrismnchamber.org
SUMMARY:SCMC on KKOK Community Connections
DESCRIPTION:SCMC on KKOK Community Connections
URL:https://morrismnchamber.org/community-event/scmc-on-kkok-community-connections/
LOCATION:Stevens Community Medical Center\, 400 E. 1st St.\, Morris\, 56267
CATEGORIES:Community Event
ORGANIZER;CN="SCMC":MAILTO:info@scmcinc.org
END:VEVENT
BEGIN:VEVENT
DTSTART;TZID=America/Chicago:20210918T110000
DTEND;TZID=America/Chicago:20210918T170000
DTSTAMP:20260422T010636
CREATED:20210809T194903Z
LAST-MODIFIED:20210809T195837Z
UID:3629-1631962800-1631984400@morrismnchamber.org
SUMMARY:5th Annual Car Show
DESCRIPTION:Heartland’s 5th Annual Park & Cruise Car show is September 18\, 2021! We will kick off the weekend with food vendors in our parking lot on Friday from 11am-7pm. Saturday’s car show and food vendors start at 11am and we’ll be cruising at 2pm with a tour of Wally Kill’s gas station display following the cruise. Free balloons and bounce house for the kids too!
URL:https://morrismnchamber.org/community-event/5th-annual-car-show/
LOCATION:Heartland Motor Company\, 1 E Hwy 28\, Morris\, 56267
CATEGORIES:Community Event
ATTACH;FMTTYPE=image/jpeg:https://morrismnchamber.org/wp-content/uploads/2021/08/2021-car-show-flyer-01.jpg
END:VEVENT
BEGIN:VEVENT
DTSTART;TZID=America/Chicago:20210923T180000
DTEND;TZID=America/Chicago:20210923T200000
DTSTAMP:20260422T010636
CREATED:20210910T211302Z
LAST-MODIFIED:20210917T150239Z
UID:3699-1632420000-1632427200@morrismnchamber.org
SUMMARY:Through the Years: Work by Dan Allenspach Exhibit Reception
DESCRIPTION:Join us in celebrating the artwork of Dan Allenspach during a reception at the Prairie Renaissance Cultural Alliance!  There will be refreshments at the in-person reception.  Dan will be available via Zoom during the reception to talk about his work.
URL:https://morrismnchamber.org/community-event/through-the-years-work-by-dan-allenspach-exhibit-reception/
LOCATION:Prairie Renaissance Cultural Alliance\, 630 Atlantic Ave\, Morris\, 56267
CATEGORIES:Community Event
ATTACH;FMTTYPE=image/png:https://morrismnchamber.org/wp-content/uploads/2021/09/dan-allenspach-poster-pic.png
ORGANIZER;CN="Prairie Renaissance Cultural Alliance":MAILTO:prca@prairierenaissance.org
END:VEVENT
END:VCALENDAR