BEGIN:VCALENDAR
VERSION:2.0
PRODID:-//Morris Area Chamber of Commerce - ECPv6.15.15//NONSGML v1.0//EN
CALSCALE:GREGORIAN
METHOD:PUBLISH
X-ORIGINAL-URL:https://morrismnchamber.org
X-WR-CALDESC:Events for Morris Area Chamber of Commerce
REFRESH-INTERVAL;VALUE=DURATION:PT1H
X-Robots-Tag:noindex
X-PUBLISHED-TTL:PT1H
BEGIN:VTIMEZONE
TZID:America/Chicago
BEGIN:DAYLIGHT
TZOFFSETFROM:-0600
TZOFFSETTO:-0500
TZNAME:CDT
DTSTART:20200308T080000
END:DAYLIGHT
BEGIN:STANDARD
TZOFFSETFROM:-0500
TZOFFSETTO:-0600
TZNAME:CST
DTSTART:20201101T070000
END:STANDARD
BEGIN:DAYLIGHT
TZOFFSETFROM:-0600
TZOFFSETTO:-0500
TZNAME:CDT
DTSTART:20210314T080000
END:DAYLIGHT
BEGIN:STANDARD
TZOFFSETFROM:-0500
TZOFFSETTO:-0600
TZNAME:CST
DTSTART:20211107T070000
END:STANDARD
BEGIN:DAYLIGHT
TZOFFSETFROM:-0600
TZOFFSETTO:-0500
TZNAME:CDT
DTSTART:20220313T080000
END:DAYLIGHT
BEGIN:STANDARD
TZOFFSETFROM:-0500
TZOFFSETTO:-0600
TZNAME:CST
DTSTART:20221106T070000
END:STANDARD
END:VTIMEZONE
BEGIN:VEVENT
DTSTART;TZID=America/Chicago:20211001T080000
DTEND;TZID=America/Chicago:20211003T120000
DTSTAMP:20260421T220632
CREATED:20210924T162233Z
LAST-MODIFIED:20210924T163045Z
UID:3719-1633075200-1633262400@morrismnchamber.org
SUMMARY:UMN Morris Homecoming
DESCRIPTION:Alumni and friends of the University of Minnesota Morris will gather for a weekend of on campus events and celebrations. See the full schedule at https://alumni.morris.umn.edu/opportunities-connect/homecoming-2021.
URL:https://morrismnchamber.org/community-event/umn-morris-homecoming/
CATEGORIES:Community Event
ATTACH;FMTTYPE=image/jpeg:https://morrismnchamber.org/wp-content/uploads/2021/09/homecoming21web.jpg
END:VEVENT
BEGIN:VEVENT
DTSTART;TZID=America/Chicago:20211001T080000
DTEND;TZID=America/Chicago:20211031T170000
DTSTAMP:20260421T220632
CREATED:20211011T134509Z
LAST-MODIFIED:20211011T134509Z
UID:3768-1633075200-1635699600@morrismnchamber.org
SUMMARY:October Challenge & Fall Giveaway
DESCRIPTION:FREE group fitness at the RFC during the month of October!  Enter your name into our drawing EACH time you attend a class for a chance to win:\n$150 Zyia Activewear gift card\nFree 10 punch group fitness pass OR and extra month added onto their RFC membership
URL:https://morrismnchamber.org/community-event/october-challenge-fall-giveaway/
LOCATION:Regional Fitness Center\, 626 E 2nd St\, Morris\, 56267
CATEGORIES:Community Event
ATTACH;FMTTYPE=image/jpeg:https://morrismnchamber.org/wp-content/uploads/2021/10/october-challenge-and-fall-giveaway-1-1-1.jpg
ORGANIZER;CN="Regional Fitness Center":MAILTO:rfc@morris.umn.edu
END:VEVENT
BEGIN:VEVENT
DTSTART;TZID=America/Chicago:20211003T150000
DTEND;TZID=America/Chicago:20211003T160000
DTSTAMP:20260421T220632
CREATED:20210819T134030Z
LAST-MODIFIED:20210819T150123Z
UID:3663-1633273200-1633276800@morrismnchamber.org
SUMMARY:Glacial Lakes State Park Fishing Event
DESCRIPTION:Do your kids love to go fishing? All youth who join Scouts in the fall of 2021 are receiving a free fishing pole! When a parent submits a completed and paid youth application the child will receive a red fishing pole voucher. Families can then come to one of our office stores or a fishing event to exchange the voucher for a fishing pole. \nFishing events will be set up around the district where all the new Scouts will be able to use their new fishing poles. All current Scouts are welcome also and should invite a buddy to go fishing.
URL:https://morrismnchamber.org/community-event/glacial-lakes-state-park-fishing-event/
LOCATION:Glacial Lakes State Park\, 25022 Co Rd 41\, Starbuck\, 56381
CATEGORIES:Community Event
ATTACH;FMTTYPE=image/jpeg:https://morrismnchamber.org/wp-content/uploads/2021/08/boys-and-girls-standing-on-dock.jpg
ORGANIZER;CN="Northern Lights Council-Boy Scouts of America":MAILTO:brenda.thomson@scouting.org
END:VEVENT
BEGIN:VEVENT
DTSTART;TZID=America/Chicago:20211007T170000
DTEND;TZID=America/Chicago:20211007T200000
DTSTAMP:20260421T220632
CREATED:20210902T132142Z
LAST-MODIFIED:20210902T170848Z
UID:3680-1633626000-1633636800@morrismnchamber.org
SUMMARY:Page Lake Fishing Event
DESCRIPTION:Does your child love to fish? Check out this free fishing event on Page Lake outside of Hancock!! \nAll youth who join Scouts in the fall of 2021 are receiving a free fishing pole! When a parent submits a completed and paid youth application the child will receive a red fishing pole voucher. Families can then come to one of our office stores or a fishing event to exchange the voucher for a fishing pole. \nFishing events will be set up around the district where all the new Scouts will be able to use their new fishing poles. All current Scouts are welcome also and should invite a buddy to go fishing.
URL:https://morrismnchamber.org/community-event/page-lake-fishing-event/
LOCATION:Page Lake\, Hancock\, MN\, 26531 County Road 64\, Hancock\, 56244
CATEGORIES:Community Event
ATTACH;FMTTYPE=image/jpeg:https://morrismnchamber.org/wp-content/uploads/2021/09/boys-and-girls-standing-on-dock.jpg
ORGANIZER;CN="Northern Lights Council-Boy Scouts of America":MAILTO:brenda.thomson@scouting.org
END:VEVENT
BEGIN:VEVENT
DTSTART;TZID=America/Chicago:20211008T100000
DTEND;TZID=America/Chicago:20211008T110000
DTSTAMP:20260421T220632
CREATED:20210917T154513Z
LAST-MODIFIED:20210917T154827Z
UID:3704-1633687200-1633690800@morrismnchamber.org
SUMMARY:Stevens County Organics Kickoff
DESCRIPTION:Join community members from across the county to learn about the Glacial Ridge Compost Facility and the Stevens County Organics Recycling program. Community members will have time to learn about how the program has been working in Pope/Douglas counties as well as time for conversation and questions on how the program will work in Stevens County.  \nWe invite anyone who is interested to RSVP even if they cannot attend so that information from the meeting can be shared with you.  \nRSVP: bit.ly/3mMMotS \nOrganized by Stevens County\, Engebretson Disposal\, Pope/Douglas Solid Waste Management\, and the West Central MN Climate Network
URL:https://morrismnchamber.org/community-event/stevens-county-organics-kickoff/
LOCATION:East Side Park\, Morris\, 52488 180TH STREET\, MORRIS\, MN\, 56267\, United States
CATEGORIES:Community Event
ATTACH;FMTTYPE=image/jpeg:https://morrismnchamber.org/wp-content/uploads/2021/09/kickoff-cover-image.jpg
ORGANIZER;CN="West Central MN Climate Network":MAILTO:syd.r.bauer@gmail.com
END:VEVENT
BEGIN:VEVENT
DTSTART;TZID=America/Chicago:20211012T180000
DTEND;TZID=America/Chicago:20211012T190000
DTSTAMP:20260421T220632
CREATED:20211001T220118Z
LAST-MODIFIED:20211005T140400Z
UID:3733-1634061600-1634065200@morrismnchamber.org
SUMMARY:Morris Cub Scout Sign-Up Event
DESCRIPTION:Learn about Cub Scout and the fun things we do! In Scouting\, elementary-age boys and girls start with their best right now selves and grow into their very best future selves! The fun\, hands-on learning\, and adventure puts kids in the middle of the action and prepares them for today – and for life.\nJoin us for this short meeting in the High School Cafeteria to learn more\, or if you’re ready\, to sign up.
URL:https://morrismnchamber.org/community-event/morris-cub-scout-sign-up-event/
LOCATION:Morris Area High School\, 201 S Columbia Ave\, Morris\, 56267
CATEGORIES:Community Event
ATTACH;FMTTYPE=image/jpeg:https://morrismnchamber.org/wp-content/uploads/2021/10/scout-leader-with-kid.jpg
ORGANIZER;CN="Northern Lights Council-Boy Scouts of America":MAILTO:brenda.thomson@scouting.org
END:VEVENT
BEGIN:VEVENT
DTSTART;TZID=America/Chicago:20211016T090000
DTEND;TZID=America/Chicago:20211016T104500
DTSTAMP:20260421T220632
CREATED:20211008T155548Z
LAST-MODIFIED:20211011T134452Z
UID:3770-1634374800-1634381100@morrismnchamber.org
SUMMARY:RFC Les Mills Body Pump and Core Launch
DESCRIPTION:Event is FREE & everyone is welcome!! \nBody Pump 9-10am\nLes Mills Core 10:15-10:45am \n*There will be child care from 8:45-10:45am!!
URL:https://morrismnchamber.org/community-event/rfc-les-mills-body-pump-and-core-launch/
LOCATION:Regional Fitness Center\, 626 E 2nd St\, Morris\, 56267
CATEGORIES:Community Event
ATTACH;FMTTYPE=image/jpeg:https://morrismnchamber.org/wp-content/uploads/2021/10/les-mills-fall-2021-launch-1-1.jpg
ORGANIZER;CN="Regional Fitness Center":MAILTO:rfc@morris.umn.edu
END:VEVENT
BEGIN:VEVENT
DTSTART;TZID=America/Chicago:20211016T090000
DTEND;TZID=America/Chicago:20211016T110000
DTSTAMP:20260421T220632
CREATED:20210920T210629Z
LAST-MODIFIED:20210922T224314Z
UID:3714-1634374800-1634382000@morrismnchamber.org
SUMMARY:FREE Saturday classes at the RFC
DESCRIPTION:Join us for our Fall Les Mills Launch on Saturday\, October 16th starting at 9:00am in the RFC gym! Featuring the newest Body Pump\, release 118 and Les Mills Core release 43!! \nThe music is great\, the moves are powerful\, and we’re in for a great workout! Invite a friend or family member to join you because these classes are FREE and all are welcome!! \n*Equipment is limited- we have 33 benches- first come\, first serve! \nCome check out what Les Mills Body Pump has to offer! 60 minutes\, over 1\,000 reps\, awesome music\, fun + high-energy strength workout to get the heart rate up with a warm up track\, squats\, chest\, back\, triceps\, biceps\, lunges\, shoulders\, core + cool down! \nLes Mills Core is a 30 minute class designed to build strength\, stability & endurance in all of the muscles that support & surround your core! Improve balance\, assist in injury prevention\, & use functional movements to hone in on the torso & sling muscles that connect your upper body to your lower body!\nThis class is ideal for tightening your tummy\, glutes\, and improving core definition! You’ll love the scientific mix of core innovation & the driving music!!\nChild care will be offered during these classes!! \nWe hope to see you there!
URL:https://morrismnchamber.org/community-event/free-saturday-classes-at-the-rfc/
LOCATION:Regional Fitness Center\, 626 E 2nd St\, Morris\, 56267
CATEGORIES:Community Event
ATTACH;FMTTYPE=image/jpeg:https://morrismnchamber.org/wp-content/uploads/2021/09/web-version-bodypump-launch-kit-image-3.jpg
ORGANIZER;CN="Regional Fitness Center":MAILTO:rfc@morris.umn.edu
END:VEVENT
BEGIN:VEVENT
DTSTART;TZID=America/Chicago:20211023T093000
DTEND;TZID=America/Chicago:20211023T120000
DTSTAMP:20260421T220632
CREATED:20211012T141136Z
LAST-MODIFIED:20211012T141136Z
UID:3777-1634981400-1634990400@morrismnchamber.org
SUMMARY:TERCERO Training
DESCRIPTION:Use your bilingual skills to help a family gain access to local services! This workshop provides participants with foundational skills for effective community interpreting\, particularly in a school setting.
URL:https://morrismnchamber.org/community-event/tercero-training/
LOCATION:Zoom Meeting
CATEGORIES:Community Event
END:VEVENT
BEGIN:VEVENT
DTSTART;TZID=America/Chicago:20211029T100000
DTEND;TZID=America/Chicago:20211029T180000
DTSTAMP:20260421T220632
CREATED:20211005T153001Z
LAST-MODIFIED:20211005T153001Z
UID:3740-1635501600-1635530400@morrismnchamber.org
SUMMARY:Trunk or Treat at HMC
DESCRIPTION:Open house! 40 kids get buckets\, everyone gets a treat bag! Weather permitting this event will be outside
URL:https://morrismnchamber.org/community-event/trunk-or-treat-at-hmc/
LOCATION:Heartland Motor Company\, 1 E Hwy 28\, Morris\, 56267
CATEGORIES:Community Event
ATTACH;FMTTYPE=image/jpeg:https://morrismnchamber.org/wp-content/uploads/2021/10/5b33e84b-f0af-470a-b6da-bb4926a013ec.jpeg
END:VEVENT
BEGIN:VEVENT
DTSTART;TZID=America/Chicago:20211029T173000
DTEND;TZID=America/Chicago:20211029T193000
DTSTAMP:20260421T220632
CREATED:20211005T150402Z
LAST-MODIFIED:20211005T150526Z
UID:3737-1635528600-1635535800@morrismnchamber.org
SUMMARY:Stevens County ECI Halloween Party
DESCRIPTION:Halloween Party for children birth to 6th grade and their families.  Games\, haunted house\, inflatables\, crafts\, food\, and more.  Tickets 10 to $1.00. Tickets needed for games only.  Food available for purchase. All other events free of charge.
URL:https://morrismnchamber.org/community-event/stevens-county-eci-halloween-party/
CATEGORIES:Community Event
ATTACH;FMTTYPE=image/jpeg:https://morrismnchamber.org/wp-content/uploads/2021/10/halloween-party-flyer-2021.jpg
END:VEVENT
BEGIN:VEVENT
DTSTART;TZID=America/Chicago:20211029T200000
DTEND;TZID=America/Chicago:20211029T203000
DTSTAMP:20260421T220632
CREATED:20211007T213135Z
LAST-MODIFIED:20211011T134526Z
UID:3764-1635537600-1635539400@morrismnchamber.org
SUMMARY:Valu Ford & Chrysler Anniversary Firework Show
DESCRIPTION:Join us in celebrating 32 years of business with bang!\nIn honor of our anniversary month and in thanks for the continuous support of our local and surrounding communities\, we invite you to join us as we light up the night with one SPECTACULAR Firework Show! We are so excited to bring our wonderful community together in viewing fireworks again this year!\nBest viewing of the firework show will be from the Valu Ford & Chrysler and Federated Telephone parking lots. Watch from your vehicle or bring a lawn chair to enjoy the show with your whole family!
URL:https://morrismnchamber.org/community-event/valu-ford-chrysler-anniversary-firework-show/
LOCATION:Valu Ford and Chrysler\, 205 Highway 9 South\, Morris\, MN\, 56267\, United States
CATEGORIES:Community Event
ATTACH;FMTTYPE=image/jpeg:https://morrismnchamber.org/wp-content/uploads/2021/10/2021-firework-show-fb-event-cover.jpg
ORGANIZER;CN="Valu Ford &amp%3Bamp%3B Chrysler":MAILTO:hope@valuford.com
END:VEVENT
BEGIN:VEVENT
DTSTART;TZID=America/Chicago:20211030T093000
DTEND;TZID=America/Chicago:20211030T120000
DTSTAMP:20260421T220632
CREATED:20211012T141211Z
LAST-MODIFIED:20211012T141643Z
UID:3781-1635586200-1635595200@morrismnchamber.org
SUMMARY:TERCERO Training
DESCRIPTION:Use your bilingual skills to help a family gain access to local services! This workshop provides participants with foundational skills for effective community interpreting\, particularly in a school setting.
URL:https://morrismnchamber.org/community-event/tercero-training-2/
LOCATION:Zoom Meeting
CATEGORIES:Community Event
END:VEVENT
END:VCALENDAR