BEGIN:VCALENDAR
VERSION:2.0
PRODID:-//Morris Area Chamber of Commerce - ECPv6.15.15//NONSGML v1.0//EN
CALSCALE:GREGORIAN
METHOD:PUBLISH
X-WR-CALNAME:Morris Area Chamber of Commerce
X-ORIGINAL-URL:https://morrismnchamber.org
X-WR-CALDESC:Events for Morris Area Chamber of Commerce
REFRESH-INTERVAL;VALUE=DURATION:PT1H
X-Robots-Tag:noindex
X-PUBLISHED-TTL:PT1H
BEGIN:VTIMEZONE
TZID:America/Chicago
BEGIN:DAYLIGHT
TZOFFSETFROM:-0600
TZOFFSETTO:-0500
TZNAME:CDT
DTSTART:20210314T080000
END:DAYLIGHT
BEGIN:STANDARD
TZOFFSETFROM:-0500
TZOFFSETTO:-0600
TZNAME:CST
DTSTART:20211107T070000
END:STANDARD
BEGIN:DAYLIGHT
TZOFFSETFROM:-0600
TZOFFSETTO:-0500
TZNAME:CDT
DTSTART:20220313T080000
END:DAYLIGHT
BEGIN:STANDARD
TZOFFSETFROM:-0500
TZOFFSETTO:-0600
TZNAME:CST
DTSTART:20221106T070000
END:STANDARD
BEGIN:DAYLIGHT
TZOFFSETFROM:-0600
TZOFFSETTO:-0500
TZNAME:CDT
DTSTART:20230312T080000
END:DAYLIGHT
BEGIN:STANDARD
TZOFFSETFROM:-0500
TZOFFSETTO:-0600
TZNAME:CST
DTSTART:20231105T070000
END:STANDARD
END:VTIMEZONE
BEGIN:VEVENT
DTSTART;TZID=America/Chicago:20220306T150000
DTEND;TZID=America/Chicago:20220306T163000
DTSTAMP:20260421T140538
CREATED:20220222T155510Z
LAST-MODIFIED:20220222T160947Z
UID:4848-1646578800-1646584200@morrismnchamber.org
SUMMARY:UMN Morris Symphonic Winds Concert
DESCRIPTION:The University of Minnesota Morris Symphonic Winds\, under the direction of Simon Tillier\, will present\, ‘Peace Dancer\,’ a program of wind music to delight and inspire with music by J. S. Bach\, Jodie Blackshaw\, Judith Zaimont\, Eric Whitacre\, and Malcolm Arnold.  Ana Miller\, soprano\, will be featured\, along with narrator Athena Kildegaard. Admission will be charged | When: Sunday\, March. 6\, 3 p.m.| Where: Humanities Fine Arts Recital Hall
URL:https://morrismnchamber.org/community-event/umn-morris-symphonic-winds-concert/
LOCATION:New Venue\, 123 Main Street\, Alexandria\, MN\, 56308
CATEGORIES:Community Event
ATTACH;FMTTYPE=image/png:https://morrismnchamber.org/wp-content/uploads/2022/02/wordmarkstacked-rgb-forgoogledoc.png
ORGANIZER;CN="University of Minnesota Morris":MAILTO:dietersm@morris.umn.edu
END:VEVENT
BEGIN:VEVENT
DTSTART;TZID=America/Chicago:20220307T120000
DTEND;TZID=America/Chicago:20220307T220000
DTSTAMP:20260421T140538
CREATED:20220307T171734Z
LAST-MODIFIED:20220308T150709Z
UID:5135-1646654400-1646690400@morrismnchamber.org
SUMMARY:CNIA Pow Wow
DESCRIPTION:The Circle of Nations Indigenous Association will host the 37th Annual PowWow at the University of Minnesota Morris.  Grand Entry at 1 and 7pm. Everyone is welcome to attend and cheer on the dancers! \nFor more information on powwows\, please visit: https://www.powwows.com/what-is-a-pow-wow/\nPowwow etiquette: https://indiancountrytoday.com/archive/pow-wow-etiquette-10-rules-to-follow-in-and-out-of-the-arena
URL:https://morrismnchamber.org/community-event/cnia-pow-wow/
LOCATION:University of Minnesota Morris\, 600 E 4th St\, Morris\, MN\, 56267
CATEGORIES:Community Event
ATTACH;FMTTYPE=image/jpeg:https://morrismnchamber.org/wp-content/uploads/2022/03/powwow.jpg
ORGANIZER;CN="University of Minnesota Morris":MAILTO:dietersm@morris.umn.edu
END:VEVENT
BEGIN:VEVENT
DTSTART;TZID=America/Chicago:20220314T164500
DTEND;TZID=America/Chicago:20220314T173000
DTSTAMP:20260421T140538
CREATED:20220203T150520Z
LAST-MODIFIED:20220203T151247Z
UID:4458-1647276300-1647279000@morrismnchamber.org
SUMMARY:RFC Spin Set up & Technique Class
DESCRIPTION:Join RFC instructors Ingrid\, Suzie & Shadow for a Spin Set up + Technique class in the RFC gym! These classes are FREE & we are offering two different class options to help accommodate schedules! The first one will be held on Monday\, March 14th 4:45-5:30pm prior to the Monday evening Spin class starting at 5:30pm. The other class will be held on Sunday\, March 20th 3:15-4:00pm right before the 4pm Spin class on Sunday! \nWhat You Will Learn:\n-How to safely & properly get set up on your bike from certified instructors\n-Become familiar with all of the riding & hand positions you will see in a Spin class\nLearn how to adjust your bike\, adjust your resistance\, and how to read your monitor\n-Learn the different heart rate zones\, how to check your heart rate\, and the different benefits of strength\, endurance\, and interval rides\n-Learn proper riding form & technique on your bike and Spin class safety\n-Take this opportunity to ask questions and get comfortable setting up your bike and hopping in any Spin class on our schedule! \nWeather you’re a regular Spin class attendee who wants to learn more & keep improving\, someone who has never stepped foot on a Spin bike but wants to know the ins & outs of Spinning and feel comfortable showing up to a class\, or a beginner still learning bike set up\, the different riding positions\, safety and how to check heart rate… this class will be great for everyone!! We hope you can join us!!
URL:https://morrismnchamber.org/community-event/rfc-spin-set-up-technique-class-3/
LOCATION:Regional Fitness Center\, 626 E 2nd St\, Morris\, 56267
CATEGORIES:Community Event
ATTACH;FMTTYPE=image/jpeg:https://morrismnchamber.org/wp-content/uploads/2022/02/spin-set-up-technique-class-2022-1.jpg
ORGANIZER;CN="Regional Fitness Center":MAILTO:rfc@morris.umn.edu
END:VEVENT
BEGIN:VEVENT
DTSTART;TZID=America/Chicago:20220324T173000
DTEND;TZID=America/Chicago:20220324T193000
DTSTAMP:20260421T140538
CREATED:20220310T125720Z
LAST-MODIFIED:20220310T150436Z
UID:5198-1648143000-1648150200@morrismnchamber.org
SUMMARY:Stevens County ECI Movie Night - Encanto
DESCRIPTION:Free family fun event:  Stevens County Early Childhood Initiative Movie Night showing the Disney movie “Encanto” on Thursday\, March 24th from 5:30 to 7:30 at the Morris Area Elementary School Gym\, 151 South Columbia Avenue. This event is for families with children birth to 6th Grade. Popcorn/Puffcorn & Water will be provided. The movie will start at 6:00:  Come beginning at 5:30 to set up your blankets\, pillow\, sleeping bags\, etc. on the gym floor to make yourself comfortable for the movie!
URL:https://morrismnchamber.org/community-event/stevens-county-eci-movie-night-encanto/
CATEGORIES:Community Event
ATTACH;FMTTYPE=image/jpeg:https://morrismnchamber.org/wp-content/uploads/2022/03/movie-night-flyer-2022.jpg
END:VEVENT
BEGIN:VEVENT
DTSTART;TZID=America/Chicago:20220328T190000
DTEND;TZID=America/Chicago:20220328T203000
DTSTAMP:20260421T140538
CREATED:20220317T210124Z
LAST-MODIFIED:20220318T151942Z
UID:5303-1648494000-1648499400@morrismnchamber.org
SUMMARY:EXPLORING IDENTITY AND CULTURE THROUGH THE LOVE OF FOOD
DESCRIPTION:Korean adoptee Melanie Meyer of Tiny Chef restaurant in St. Louis\, Missouri\, will host a food demo and tasting experience. Growing up the adopted daughter of white parents and as the only person of Asian heritage in a primarily white neighborhood\, Meyer has spent the past two years exploring her heritage through the food she creates. | When: Monday\, March 28\, 7 p.m. | Where: Turtle Mountain Cafe\, UMN Morris Student Center.
URL:https://morrismnchamber.org/community-event/exploring-identity-and-culture-through-the-love-of-food/
LOCATION:University of Minnesota Morris\, 600 E 4th St\, Morris\, MN\, 56267
CATEGORIES:Community Event
ATTACH;FMTTYPE=image/jpeg:https://morrismnchamber.org/wp-content/uploads/2022/03/archives-884-full.jpg
ORGANIZER;CN="University of Minnesota Morris":MAILTO:dietersm@morris.umn.edu
END:VEVENT
BEGIN:VEVENT
DTSTART;TZID=America/Chicago:20220329T061500
DTEND;TZID=America/Chicago:20220329T071500
DTSTAMP:20260421T140538
CREATED:20220224T201625Z
LAST-MODIFIED:20220224T205817Z
UID:4914-1648534500-1648538100@morrismnchamber.org
SUMMARY:RFC Biggest Loser Weigh in Competition
DESCRIPTION:Spring into a healthy lifestyle with a fun 8 weeks of healthy competition! \nWeigh in dates:\nTuesday\, March 29th- First weigh in\nTuesday\, April 5th- Week 2\nTuesday\, April 12th- Week 3\nTuesday\, April 19th- Week 4\nTuesday\, April 26th- Week 5\nTuesday\, May 3rd- Week 6\nTuesday\, May 10th- Week 7\nTuesday\, May 17th- Final weigh in \nWeigh in times:\nTuesdays 6:15-7:15am in the RFC fitness room with Elissa and 8:15am-9:15am with Shadow (or by appointment the same day\, if needed)\n-Entry fee of $30.00 paid to the RFC front desk or Shadow/Elissa\n-All participants MUST weigh in on Tuesdays\n-All participants MUST weigh in using the RFC fitness room scale (that is where you will meet us to weigh in)\n-Shoes/Jackets etc. must be taken off for first weigh in and kept consistent throughout\n-$1 fee for a missed weigh in\n-$1 for every pound gained at weekly weigh in (i.e. gain 3lbs pay in $3) \nEach week a weekly winner will be announced\, the weekly winner will get a small prize \nWinner at the end of the 8 weeks:\n1st place gets 60% of the pot\n2nd place gets 20% of the pot\n3rd place gets 10% of the pot\nThe RFC gets 10% to cover some of staff costs \nCall the RFC front desk (320)-589-6485 or stop in to sign up!!
URL:https://morrismnchamber.org/community-event/rfc-biggest-loser-weigh-in-competition/
LOCATION:Regional Fitness Center\, 626 E 2nd St\, Morris\, 56267
CATEGORIES:Community Event
ATTACH;FMTTYPE=image/jpeg:https://morrismnchamber.org/wp-content/uploads/2022/02/biggest-loser-flier-2022-1.jpg
ORGANIZER;CN="Regional Fitness Center":MAILTO:rfc@morris.umn.edu
END:VEVENT
BEGIN:VEVENT
DTSTART;TZID=America/Chicago:20220331T164500
DTEND;TZID=America/Chicago:20220421T173000
DTSTAMP:20260421T140538
CREATED:20220224T201243Z
LAST-MODIFIED:20220224T201521Z
UID:4911-1648745100-1650562200@morrismnchamber.org
SUMMARY:Prenatal Yoga Classes
DESCRIPTION:Join Shadow Rohloff for 4 sessions of Prenatal Yoga Thursday’s March 31st-April 21st 4:45-5:30pm in the Morris Area Elementary Library! \n$25- RFC Members\n$40- Non-members \nCall the RFC front desk @ 589-6485 to sign up or email Shadow at olso7527@morris.umn.edu. \nWhat to bring to class:\n-Yoga mat (please let the RFC or Shadow know if you don’t have one and we will provide one for you to use)\n– Water\n-A bolster or a blanket or two to prop and provide support in sitting & lying position\n-Please wear comfortable clothing \nSo excited for these classes and to embark on this amazing part of your motherhood journey with you! Invite your mama friends for this refreshing\, relaxing\, and rejuvenating time together! \n*Must have 6 registered to make it a go!*
URL:https://morrismnchamber.org/community-event/prenatal-yoga-classes/
LOCATION:MAES\, 201 S Columbia Ave\, Morris\, 56267
CATEGORIES:Community Event
ATTACH;FMTTYPE=image/jpeg:https://morrismnchamber.org/wp-content/uploads/2022/02/1.jpg
ORGANIZER;CN="Regional Fitness Center":MAILTO:rfc@morris.umn.edu
END:VEVENT
BEGIN:VEVENT
DTSTART;TZID=America/Chicago:20220331T190000
DTEND;TZID=America/Chicago:20220331T200000
DTSTAMP:20260421T140538
CREATED:20220223T001744Z
LAST-MODIFIED:20220223T145506Z
UID:4860-1648753200-1648756800@morrismnchamber.org
SUMMARY:NEA Big Read Book Discussion: The Best We Could Do by Thi Bui
DESCRIPTION:Join the Morris Public Library for this special event as part of the NEA Big Read\, a program of the National Endowment for the Arts in partnership with Arts Midwest.\nBook summary: Exploring the anguish of immigration and the lasting effects that displacement has on a child and her family\, Bui documents the story of her family’s daring escape after the fall of South Vietnam in the 1970s and the difficulties they faced building new lives for themselves in this highly acclaimed graphic novel memoir (American Book Award winner\, National Book Critics Circle finalist in autobiography\, and Eisner Award finalist in reality-based comics). \nBook discussion will take place in the Morris Public Library meeting room.
URL:https://morrismnchamber.org/community-event/nea-big-read-book-discussion-the-best-we-could-do-by-thi-bui/
LOCATION:Morris Public Library\, 102 E 6th St.\, Morris\, 56267
CATEGORIES:Community Event
ATTACH;FMTTYPE=image/png:https://morrismnchamber.org/wp-content/uploads/2022/02/big-read.png
ORGANIZER;CN="Morris Public Libary":MAILTO:morrispublib@gmail.com
END:VEVENT
END:VCALENDAR