BEGIN:VCALENDAR
VERSION:2.0
PRODID:-//Morris Area Chamber of Commerce - ECPv6.15.15//NONSGML v1.0//EN
CALSCALE:GREGORIAN
METHOD:PUBLISH
X-WR-CALNAME:Morris Area Chamber of Commerce
X-ORIGINAL-URL:https://morrismnchamber.org
X-WR-CALDESC:Events for Morris Area Chamber of Commerce
REFRESH-INTERVAL;VALUE=DURATION:PT1H
X-Robots-Tag:noindex
X-PUBLISHED-TTL:PT1H
BEGIN:VTIMEZONE
TZID:America/Chicago
BEGIN:DAYLIGHT
TZOFFSETFROM:-0600
TZOFFSETTO:-0500
TZNAME:CDT
DTSTART:20210314T080000
END:DAYLIGHT
BEGIN:STANDARD
TZOFFSETFROM:-0500
TZOFFSETTO:-0600
TZNAME:CST
DTSTART:20211107T070000
END:STANDARD
BEGIN:DAYLIGHT
TZOFFSETFROM:-0600
TZOFFSETTO:-0500
TZNAME:CDT
DTSTART:20220313T080000
END:DAYLIGHT
BEGIN:STANDARD
TZOFFSETFROM:-0500
TZOFFSETTO:-0600
TZNAME:CST
DTSTART:20221106T070000
END:STANDARD
BEGIN:DAYLIGHT
TZOFFSETFROM:-0600
TZOFFSETTO:-0500
TZNAME:CDT
DTSTART:20230312T080000
END:DAYLIGHT
BEGIN:STANDARD
TZOFFSETFROM:-0500
TZOFFSETTO:-0600
TZNAME:CST
DTSTART:20231105T070000
END:STANDARD
END:VTIMEZONE
BEGIN:VEVENT
DTSTART;TZID=America/Chicago:20220507T070000
DTEND;TZID=America/Chicago:20220507T120000
DTSTAMP:20260421T140538
CREATED:20220310T222033Z
LAST-MODIFIED:20220311T164429Z
UID:5203-1651906800-1651924800@morrismnchamber.org
SUMMARY:RFC 2022 Tinman Triathlon
DESCRIPTION:The 36th annual Tinman Triathlon will be held on May 7\, 2022. Packet pick-up and race-day registration will be held in the Regional Fitness Center Lobby.\nBoth the sprint and Olympic events can be done individually or as a relay with 2 or 3 person teams! \nEvent distances:\nOlympic: Swim – 1100yard Bike – 19mile Run – 10k\nSprint: Swim – 450yard Bike – 12miles Run – 5k \nOnline registration closes at 9:00 p.m. on Friday\, April 29. Race-day registrations will be accepted on Saturday starting at 7:00 a.m
URL:https://morrismnchamber.org/community-event/rfc-2022-tinman-triathlon/
LOCATION:Regional Fitness Center\, 626 E 2nd St\, Morris\, 56267
CATEGORIES:Community Event
ORGANIZER;CN="Regional Fitness Center":MAILTO:rfc@morris.umn.edu
END:VEVENT
BEGIN:VEVENT
DTSTART;TZID=America/Chicago:20220512T160000
DTEND;TZID=America/Chicago:20220512T183000
DTSTAMP:20260421T140538
CREATED:20220414T201054Z
LAST-MODIFIED:20220414T204448Z
UID:5360-1652371200-1652380200@morrismnchamber.org
SUMMARY:Courage Cottage Walking Taco Fundraiser
DESCRIPTION:During National Hospital Week SCMC Courage Cottage will have a Walking Taco Fundraiser from 4-6:30pm on Thursday\, May 12 off of the First Street entrance by NovaCare across the street from the Courage Cottage in Morris. Free Ice Cream will also be available. Free-will Donation. All proceeds will go to the Courage Cottage.
URL:https://morrismnchamber.org/community-event/courage-cottage-walking-taco-fundraiser/
LOCATION:Stevens Community Medical Center\, 400 E. 1st St.\, Morris\, 56267
CATEGORIES:Community Event
ATTACH;FMTTYPE=image/png:https://morrismnchamber.org/wp-content/uploads/2022/04/taco-img-web-graphic.png
ORGANIZER;CN="SCMC":MAILTO:info@scmcinc.org
END:VEVENT
BEGIN:VEVENT
DTSTART;TZID=America/Chicago:20220514T100000
DTEND;TZID=America/Chicago:20220514T150000
DTSTAMP:20260421T140538
CREATED:20220422T210810Z
LAST-MODIFIED:20220425T151127Z
UID:5400-1652522400-1652540400@morrismnchamber.org
SUMMARY:Vendor Show & Quarter Auction
DESCRIPTION:Fundraising event for RUSC Kinship Mentoring. Local Vendor show including Tastefully Simple\, Tupperware\, Pampered Chef\, Norwex\, Color Street\, Scentsy\, Yarn of my Dreams\, She Shack\, Thirty One\, Crafts and More will have tables from 10am-1pm. Quarter Auction starts at 1pm for your chance to bid on great vendor and local items. Paddles are purchased at $5 each.
URL:https://morrismnchamber.org/community-event/vendor-show-quarter-auction/
LOCATION:Old No.1 Bar &amp; Grill\, 412 Atlantic Ave.\, Morris\, 56267
CATEGORIES:Community Event
ATTACH;FMTTYPE=image/png:https://morrismnchamber.org/wp-content/uploads/2022/04/quarter-kraze-flyer.png
ORGANIZER;CN="RUSC Kinship Mentoring":MAILTO:rusckinship@gmail.com
END:VEVENT
BEGIN:VEVENT
DTSTART;TZID=America/Chicago:20220514T130000
DTEND;TZID=America/Chicago:20220514T153000
DTSTAMP:20260421T140538
CREATED:20220316T133801Z
LAST-MODIFIED:20220317T151152Z
UID:5296-1652533200-1652542200@morrismnchamber.org
SUMMARY:University of Minnesota Morris Commencement Exercises
DESCRIPTION:Commencement will be held on Saturday\, May 14\, at 1 p.m. on the UMN Morris campus mall. The public is invited to attend the ceremony or to watch it streamed online at morris.umn.edu. Learn more at morris.umn.edu/commencement.
URL:https://morrismnchamber.org/community-event/university-of-minnesota-morris-commencement-exercises/
LOCATION:University of Minnesota Morris\, 600 E 4th St\, Morris\, MN\, 56267
CATEGORIES:Community Event
ATTACH;FMTTYPE=image/png:https://morrismnchamber.org/wp-content/uploads/2022/03/m-morris.png
ORGANIZER;CN="University of Minnesota Morris":MAILTO:dietersm@morris.umn.edu
END:VEVENT
BEGIN:VEVENT
DTSTART;TZID=America/Chicago:20220521T090000
DTEND;TZID=America/Chicago:20220521T113000
DTSTAMP:20260421T140538
CREATED:20220420T031253Z
LAST-MODIFIED:20220420T145744Z
UID:5375-1653123600-1653132600@morrismnchamber.org
SUMMARY:Morris Area Women of Today Babysitting Clinic
DESCRIPTION:Babysitting course for new babysitters and those learning to stay safe home alone. Includes information on first aid\, infant care\, crafts\, games\, safety\, and general babysitting information. Registration due by May 16\, 2022. Price: $15 ($20 for late registrants).
URL:https://morrismnchamber.org/community-event/morris-area-women-of-today-babysitting-clinic/
LOCATION:First Lutheran Church\, 200 E 5th Street\, Morris\, 56267
CATEGORIES:Community Event
ATTACH;FMTTYPE=image/png:https://morrismnchamber.org/wp-content/uploads/2022/04/morris-area-women-of-today.png
END:VEVENT
BEGIN:VEVENT
DTSTART;TZID=America/Chicago:20220524T160000
DTEND;TZID=America/Chicago:20220524T180000
DTSTAMP:20260421T140538
CREATED:20220517T234651Z
LAST-MODIFIED:20220518T154018Z
UID:5466-1653408000-1653415200@morrismnchamber.org
SUMMARY:Community Tree Planting Project
DESCRIPTION:Due to the storm cleanup\, the Community Tree Planting Project has been rescheduled for Tuesday\, May 24th from 4:00 to 6:00 pm.\nAll ages are welcome!  Please bring a shovel and gloves\, if possible. Otherwise just come; tools will be provided.\nHelp us plant the next generation of trees. Even when they are young\, trees are awesome!
URL:https://morrismnchamber.org/community-event/community-tree-planting-project/
CATEGORIES:Community Event
ATTACH;FMTTYPE=image/jpeg:https://morrismnchamber.org/wp-content/uploads/2022/05/46f5fb9e-d081-4229-937b-7240ae245b66.jpeg
END:VEVENT
BEGIN:VEVENT
DTSTART;TZID=America/Chicago:20220531T170000
DTEND;TZID=America/Chicago:20220531T190000
DTSTAMP:20260421T140538
CREATED:20220520T155655Z
LAST-MODIFIED:20220520T161843Z
UID:5481-1654016400-1654023600@morrismnchamber.org
SUMMARY:Brownies & Blooms Fundraiser
DESCRIPTION:It’s that time of year again when things start budding and coming alive! We can always use more plants (and sweets!) This year you can support the SCMC Courage Cottage and the local Stevens County Dolly Parton Imagination Library program by purchasing plants\, flowers\, AND treats from our employee-run event on Tuesday\, May 31 from 5-7 pm at the Brownies & Blooms Fundraiser. Look for a white tent on the grassy lawn on the west side of SCMC (by the new Shipping/Receiving and Urgent & Respiratory Care Clinic.) \nIf you have plants or perennials you would like to donate to the event please contact Beth at 320-760-2596. In the event of inclement weather\, the sale will be moved to the SCMC patio by the NovaCare entrance off of First Street. Proceeds from this fundraiser will be split between the SCMC Courage Cottage & Dolly Parton Imagination Library.
URL:https://morrismnchamber.org/community-event/brownies-blooms-fundraiser/
LOCATION:Stevens Community Medical Center\, 400 E. 1st St.\, Morris\, 56267
CATEGORIES:Community Event
ATTACH;FMTTYPE=image/png:https://morrismnchamber.org/wp-content/uploads/2022/05/fb-event-graphic-1.png
ORGANIZER;CN="SCMC":MAILTO:info@scmcinc.org
END:VEVENT
END:VCALENDAR