BEGIN:VCALENDAR
VERSION:2.0
PRODID:-//Morris Area Chamber of Commerce - ECPv6.15.15//NONSGML v1.0//EN
CALSCALE:GREGORIAN
METHOD:PUBLISH
X-WR-CALNAME:Morris Area Chamber of Commerce
X-ORIGINAL-URL:https://morrismnchamber.org
X-WR-CALDESC:Events for Morris Area Chamber of Commerce
REFRESH-INTERVAL;VALUE=DURATION:PT1H
X-Robots-Tag:noindex
X-PUBLISHED-TTL:PT1H
BEGIN:VTIMEZONE
TZID:America/Chicago
BEGIN:DAYLIGHT
TZOFFSETFROM:-0600
TZOFFSETTO:-0500
TZNAME:CDT
DTSTART:20200308T080000
END:DAYLIGHT
BEGIN:STANDARD
TZOFFSETFROM:-0500
TZOFFSETTO:-0600
TZNAME:CST
DTSTART:20201101T070000
END:STANDARD
BEGIN:DAYLIGHT
TZOFFSETFROM:-0600
TZOFFSETTO:-0500
TZNAME:CDT
DTSTART:20210314T080000
END:DAYLIGHT
BEGIN:STANDARD
TZOFFSETFROM:-0500
TZOFFSETTO:-0600
TZNAME:CST
DTSTART:20211107T070000
END:STANDARD
BEGIN:DAYLIGHT
TZOFFSETFROM:-0600
TZOFFSETTO:-0500
TZNAME:CDT
DTSTART:20220313T080000
END:DAYLIGHT
BEGIN:STANDARD
TZOFFSETFROM:-0500
TZOFFSETTO:-0600
TZNAME:CST
DTSTART:20221106T070000
END:STANDARD
END:VTIMEZONE
BEGIN:VEVENT
DTSTART;TZID=America/Chicago:20210809T183000
DTEND;TZID=America/Chicago:20210809T203000
DTSTAMP:20260424T032842
CREATED:20210706T190126Z
LAST-MODIFIED:20210707T173230Z
UID:3492-1628533800-1628541000@morrismnchamber.org
SUMMARY:Labor\, Delivery & Beyond
DESCRIPTION:Labor\, Delivery and Beyond are classes set-up to acclimate you to preparing for childbirth and parenting. These classes are brought to you by the Stevens Community Medical Center\, Stevens County Family Service Collaborative which includes Options for Women\, Stevens County Ambulance Service and Morris ECFE. No exclusions for inability to pay. If you would like further information or to register\, please call Morris ECFE at (320) 585-2237. You can also register online through Morris Community Education at https://isd769.cr3.rschooltoday.com/public/getclass/category_id/77/program_id/4 \n2021 Summer Session: \nJuly 19\, 26 & Aug. 2 @ SCMC\nAug. 9 @ Ambulance Garage\nAug. 16 @ MAES \nTopics covered:\nPrenatal Health\, Fetal Development\, Stages of Labor\, Labor Techniques\, Comfort Measure\, C-Sections\, Baby Care\, Breastfeeding/Bottle Feeding\, Hospital Tour\, Child Development\, Parenting\, Cars seat Safety\, Adult & Child CPR and more. First three classes of session meet at SCMC in the multi-purpose room in the lower level. Fourth class is at the Stevens County Ambulance Garage and the last class meets at Morris Area Elementary School in the ECFE room Pod A. Classes are on Mondays from 6:30-8:30pm. Cost is $35. \n2021 Fall Session: \nOct. 11\, 18 & 25 @ SCMC\nNov. 1 @ Ambulance Garage\nNov. 8 @ MAES
URL:https://morrismnchamber.org/community-event/labor-delivery-beyond-9/
LOCATION:Stevens Community Medical Center\, 400 E. 1st St.\, Morris\, 56267
CATEGORIES:Community Event
ORGANIZER;CN="SCMC":MAILTO:info@scmcinc.org
END:VEVENT
END:VCALENDAR