BEGIN:VCALENDAR
VERSION:2.0
PRODID:-//Morris Area Chamber of Commerce - ECPv6.15.15//NONSGML v1.0//EN
CALSCALE:GREGORIAN
METHOD:PUBLISH
X-WR-CALNAME:Morris Area Chamber of Commerce
X-ORIGINAL-URL:https://morrismnchamber.org
X-WR-CALDESC:Events for Morris Area Chamber of Commerce
REFRESH-INTERVAL;VALUE=DURATION:PT1H
X-Robots-Tag:noindex
X-PUBLISHED-TTL:PT1H
BEGIN:VTIMEZONE
TZID:America/Chicago
BEGIN:DAYLIGHT
TZOFFSETFROM:-0600
TZOFFSETTO:-0500
TZNAME:CDT
DTSTART:20200308T080000
END:DAYLIGHT
BEGIN:STANDARD
TZOFFSETFROM:-0500
TZOFFSETTO:-0600
TZNAME:CST
DTSTART:20201101T070000
END:STANDARD
BEGIN:DAYLIGHT
TZOFFSETFROM:-0600
TZOFFSETTO:-0500
TZNAME:CDT
DTSTART:20210314T080000
END:DAYLIGHT
BEGIN:STANDARD
TZOFFSETFROM:-0500
TZOFFSETTO:-0600
TZNAME:CST
DTSTART:20211107T070000
END:STANDARD
BEGIN:DAYLIGHT
TZOFFSETFROM:-0600
TZOFFSETTO:-0500
TZNAME:CDT
DTSTART:20220313T080000
END:DAYLIGHT
BEGIN:STANDARD
TZOFFSETFROM:-0500
TZOFFSETTO:-0600
TZNAME:CST
DTSTART:20221106T070000
END:STANDARD
END:VTIMEZONE
BEGIN:VEVENT
DTSTART;TZID=America/Chicago:20211106T080000
DTEND;TZID=America/Chicago:20211106T140000
DTSTAMP:20260421T220630
CREATED:20211015T194628Z
LAST-MODIFIED:20211015T195735Z
UID:3798-1636185600-1636207200@morrismnchamber.org
SUMMARY:Morris Area Women of Today Rummage Sale
DESCRIPTION:Multi-family rummage sale with something for everyone! Saturday\, November 6\, from 8:00 a.m. to 2:00 p.m. at Old No.1 Southside\, Morris.
URL:https://morrismnchamber.org/community-event/morris-area-women-of-today-rummage-sale/
LOCATION:Old No.1 Bar &amp; Grill\, 412 Atlantic Ave.\, Morris\, 56267
CATEGORIES:Community Event
END:VEVENT
BEGIN:VEVENT
DTSTART;TZID=America/Chicago:20211106T093000
DTEND;TZID=America/Chicago:20211106T120000
DTSTAMP:20260421T220630
CREATED:20211012T142304Z
LAST-MODIFIED:20211012T143006Z
UID:3783-1636191000-1636200000@morrismnchamber.org
SUMMARY:TERCERO Training
DESCRIPTION:Use your bilingual skills to help a family gain access to local services! This workshop provides participants with foundational skills for effective community interpreting\, particularly in a school setting.
URL:https://morrismnchamber.org/community-event/tercero-training-3/
LOCATION:Zoom Meeting
CATEGORIES:Community Event
END:VEVENT
END:VCALENDAR