BEGIN:VCALENDAR
VERSION:2.0
PRODID:-//Morris Area Chamber of Commerce - ECPv6.15.15//NONSGML v1.0//EN
CALSCALE:GREGORIAN
METHOD:PUBLISH
X-WR-CALNAME:Morris Area Chamber of Commerce
X-ORIGINAL-URL:https://morrismnchamber.org
X-WR-CALDESC:Events for Morris Area Chamber of Commerce
REFRESH-INTERVAL;VALUE=DURATION:PT1H
X-Robots-Tag:noindex
X-PUBLISHED-TTL:PT1H
BEGIN:VTIMEZONE
TZID:America/Chicago
BEGIN:DAYLIGHT
TZOFFSETFROM:-0600
TZOFFSETTO:-0500
TZNAME:CDT
DTSTART:20200308T080000
END:DAYLIGHT
BEGIN:STANDARD
TZOFFSETFROM:-0500
TZOFFSETTO:-0600
TZNAME:CST
DTSTART:20201101T070000
END:STANDARD
BEGIN:DAYLIGHT
TZOFFSETFROM:-0600
TZOFFSETTO:-0500
TZNAME:CDT
DTSTART:20210314T080000
END:DAYLIGHT
BEGIN:STANDARD
TZOFFSETFROM:-0500
TZOFFSETTO:-0600
TZNAME:CST
DTSTART:20211107T070000
END:STANDARD
BEGIN:DAYLIGHT
TZOFFSETFROM:-0600
TZOFFSETTO:-0500
TZNAME:CDT
DTSTART:20220313T080000
END:DAYLIGHT
BEGIN:STANDARD
TZOFFSETFROM:-0500
TZOFFSETTO:-0600
TZNAME:CST
DTSTART:20221106T070000
END:STANDARD
END:VTIMEZONE
BEGIN:VEVENT
DTSTART;TZID=America/Chicago:20211115T180000
DTEND;TZID=America/Chicago:20211115T190000
DTSTAMP:20260421T220704
CREATED:20211104T193611Z
LAST-MODIFIED:20211104T194212Z
UID:3828-1636999200-1637002800@morrismnchamber.org
SUMMARY:RFC Core Clinic
DESCRIPTION:Join RFC instructors Ingrid\, Esther & Shadow on Monday\, November 15th 6:15-7:15pm in the RFC gym for a core clinic!\nFree to members + non-members! \n​What will we work on?\n-How to properly engage the core\, what this feels like\, and why it’s important\n-Proper core form + technique\n-Different areas and functions of the core and benefits to strengthening these areas\n-Exercises for the pelvic floor & how to work on improving diastasis recti & re-connecting that tissue to safely strengthen the core\n-Strengthening & stretching the core to improve posture & back pain and prevent injuries\n-Functional training \nWe will provide different exercises\, equipment and resources to show you how the core should feel when it is properly engaged and to challenge the deep core muscles in order to rebuild\, reconnect\, and reestablish strength in the core. We’d love to answer any questions you have!
URL:https://morrismnchamber.org/community-event/rfc-core-clinic/
LOCATION:Regional Fitness Center\, 626 E 2nd St\, Morris\, 56267
CATEGORIES:Community Event
ATTACH;FMTTYPE=image/jpeg:https://morrismnchamber.org/wp-content/uploads/2021/11/core-clinic-flier-nov-21-1.jpg
ORGANIZER;CN="Regional Fitness Center":MAILTO:rfc@morris.umn.edu
END:VEVENT
END:VCALENDAR