BEGIN:VCALENDAR
VERSION:2.0
PRODID:-//Morris Area Chamber of Commerce - ECPv6.15.15//NONSGML v1.0//EN
CALSCALE:GREGORIAN
METHOD:PUBLISH
X-ORIGINAL-URL:https://morrismnchamber.org
X-WR-CALDESC:Events for Morris Area Chamber of Commerce
REFRESH-INTERVAL;VALUE=DURATION:PT1H
X-Robots-Tag:noindex
X-PUBLISHED-TTL:PT1H
BEGIN:VTIMEZONE
TZID:America/Chicago
BEGIN:DAYLIGHT
TZOFFSETFROM:-0600
TZOFFSETTO:-0500
TZNAME:CDT
DTSTART:20210314T080000
END:DAYLIGHT
BEGIN:STANDARD
TZOFFSETFROM:-0500
TZOFFSETTO:-0600
TZNAME:CST
DTSTART:20211107T070000
END:STANDARD
BEGIN:DAYLIGHT
TZOFFSETFROM:-0600
TZOFFSETTO:-0500
TZNAME:CDT
DTSTART:20220313T080000
END:DAYLIGHT
BEGIN:STANDARD
TZOFFSETFROM:-0500
TZOFFSETTO:-0600
TZNAME:CST
DTSTART:20221106T070000
END:STANDARD
BEGIN:DAYLIGHT
TZOFFSETFROM:-0600
TZOFFSETTO:-0500
TZNAME:CDT
DTSTART:20230312T080000
END:DAYLIGHT
BEGIN:STANDARD
TZOFFSETFROM:-0500
TZOFFSETTO:-0600
TZNAME:CST
DTSTART:20231105T070000
END:STANDARD
END:VTIMEZONE
BEGIN:VEVENT
DTSTART;TZID=America/Chicago:20220328T190000
DTEND;TZID=America/Chicago:20220328T203000
DTSTAMP:20260421T141552
CREATED:20220317T210124Z
LAST-MODIFIED:20220318T151942Z
UID:5303-1648494000-1648499400@morrismnchamber.org
SUMMARY:EXPLORING IDENTITY AND CULTURE THROUGH THE LOVE OF FOOD
DESCRIPTION:Korean adoptee Melanie Meyer of Tiny Chef restaurant in St. Louis\, Missouri\, will host a food demo and tasting experience. Growing up the adopted daughter of white parents and as the only person of Asian heritage in a primarily white neighborhood\, Meyer has spent the past two years exploring her heritage through the food she creates. | When: Monday\, March 28\, 7 p.m. | Where: Turtle Mountain Cafe\, UMN Morris Student Center.
URL:https://morrismnchamber.org/community-event/exploring-identity-and-culture-through-the-love-of-food/
LOCATION:University of Minnesota Morris\, 600 E 4th St\, Morris\, MN\, 56267
CATEGORIES:Community Event
ATTACH;FMTTYPE=image/jpeg:https://morrismnchamber.org/wp-content/uploads/2022/03/archives-884-full.jpg
ORGANIZER;CN="University of Minnesota Morris":MAILTO:dietersm@morris.umn.edu
END:VEVENT
END:VCALENDAR