BEGIN:VCALENDAR
VERSION:2.0
PRODID:-//Morris Area Chamber of Commerce - ECPv6.15.15//NONSGML v1.0//EN
CALSCALE:GREGORIAN
METHOD:PUBLISH
X-ORIGINAL-URL:https://morrismnchamber.org
X-WR-CALDESC:Events for Morris Area Chamber of Commerce
REFRESH-INTERVAL;VALUE=DURATION:PT1H
X-Robots-Tag:noindex
X-PUBLISHED-TTL:PT1H
BEGIN:VTIMEZONE
TZID:America/Chicago
BEGIN:DAYLIGHT
TZOFFSETFROM:-0600
TZOFFSETTO:-0500
TZNAME:CDT
DTSTART:20210314T080000
END:DAYLIGHT
BEGIN:STANDARD
TZOFFSETFROM:-0500
TZOFFSETTO:-0600
TZNAME:CST
DTSTART:20211107T070000
END:STANDARD
BEGIN:DAYLIGHT
TZOFFSETFROM:-0600
TZOFFSETTO:-0500
TZNAME:CDT
DTSTART:20220313T080000
END:DAYLIGHT
BEGIN:STANDARD
TZOFFSETFROM:-0500
TZOFFSETTO:-0600
TZNAME:CST
DTSTART:20221106T070000
END:STANDARD
BEGIN:DAYLIGHT
TZOFFSETFROM:-0600
TZOFFSETTO:-0500
TZNAME:CDT
DTSTART:20230312T080000
END:DAYLIGHT
BEGIN:STANDARD
TZOFFSETFROM:-0500
TZOFFSETTO:-0600
TZNAME:CST
DTSTART:20231105T070000
END:STANDARD
END:VTIMEZONE
BEGIN:VEVENT
DTSTART;TZID=America/Chicago:20220331T164500
DTEND;TZID=America/Chicago:20220421T173000
DTSTAMP:20260421T140809
CREATED:20220224T201243Z
LAST-MODIFIED:20220224T201521Z
UID:4911-1648745100-1650562200@morrismnchamber.org
SUMMARY:Prenatal Yoga Classes
DESCRIPTION:Join Shadow Rohloff for 4 sessions of Prenatal Yoga Thursday’s March 31st-April 21st 4:45-5:30pm in the Morris Area Elementary Library! \n$25- RFC Members\n$40- Non-members \nCall the RFC front desk @ 589-6485 to sign up or email Shadow at olso7527@morris.umn.edu. \nWhat to bring to class:\n-Yoga mat (please let the RFC or Shadow know if you don’t have one and we will provide one for you to use)\n– Water\n-A bolster or a blanket or two to prop and provide support in sitting & lying position\n-Please wear comfortable clothing \nSo excited for these classes and to embark on this amazing part of your motherhood journey with you! Invite your mama friends for this refreshing\, relaxing\, and rejuvenating time together! \n*Must have 6 registered to make it a go!*
URL:https://morrismnchamber.org/community-event/prenatal-yoga-classes/
LOCATION:MAES\, 201 S Columbia Ave\, Morris\, 56267
CATEGORIES:Community Event
ATTACH;FMTTYPE=image/jpeg:https://morrismnchamber.org/wp-content/uploads/2022/02/1.jpg
ORGANIZER;CN="Regional Fitness Center":MAILTO:rfc@morris.umn.edu
END:VEVENT
BEGIN:VEVENT
DTSTART;TZID=America/Chicago:20220404T190000
DTEND;TZID=America/Chicago:20220404T203000
DTSTAMP:20260421T140809
CREATED:20220315T204012Z
LAST-MODIFIED:20220317T151157Z
UID:5294-1649098800-1649104200@morrismnchamber.org
SUMMARY:Sonatas\, Serenades\, and Boleros: Music of the Americas
DESCRIPTION:University of Minnesota Morris Distinguished Visiting Professor in the Liberal Arts\, Dr. José Lezcano will present a concert  featuring his compositions\, performed in collaboration with UMN Morris faculty performers Ann DuHamel (piano); Ming Hui-Lin (flute); Denise Odello (Cor anglais); Jarod Bendele (percussion); and Laura Wiebe (soprano). \nCurrently\, as Professor Emeritus and Lecturer in Music at Keene State College\, José teaches and coordinates the guitar program\, and courses in Latin American music.  He was honored by the Keene Sentinel for his contributions to the Arts in the Monadnock Region with a 2016 Ewing Award\, and since 2018 serves as an elected member of the New Hampshire State Council on the Arts\, where he advocates for New Hampshire’s creative communities.
URL:https://morrismnchamber.org/community-event/sonatas-serenades-and-boleros-music-of-the-americas/
LOCATION:University of Minnesota Morris\, 600 E 4th St\, Morris\, MN\, 56267
CATEGORIES:Community Event
ATTACH;FMTTYPE=image/jpeg:https://morrismnchamber.org/wp-content/uploads/2022/03/blue-and-yellow-tropical-music-festival-poster-1.jpg
ORGANIZER;CN="University of Minnesota Morris":MAILTO:dietersm@morris.umn.edu
END:VEVENT
END:VCALENDAR