BEGIN:VCALENDAR
VERSION:2.0
PRODID:-//Morris Area Chamber of Commerce - ECPv6.15.15//NONSGML v1.0//EN
CALSCALE:GREGORIAN
METHOD:PUBLISH
X-ORIGINAL-URL:https://morrismnchamber.org
X-WR-CALDESC:Events for Morris Area Chamber of Commerce
REFRESH-INTERVAL;VALUE=DURATION:PT1H
X-Robots-Tag:noindex
X-PUBLISHED-TTL:PT1H
BEGIN:VTIMEZONE
TZID:America/Chicago
BEGIN:DAYLIGHT
TZOFFSETFROM:-0600
TZOFFSETTO:-0500
TZNAME:CDT
DTSTART:20210314T080000
END:DAYLIGHT
BEGIN:STANDARD
TZOFFSETFROM:-0500
TZOFFSETTO:-0600
TZNAME:CST
DTSTART:20211107T070000
END:STANDARD
BEGIN:DAYLIGHT
TZOFFSETFROM:-0600
TZOFFSETTO:-0500
TZNAME:CDT
DTSTART:20220313T080000
END:DAYLIGHT
BEGIN:STANDARD
TZOFFSETFROM:-0500
TZOFFSETTO:-0600
TZNAME:CST
DTSTART:20221106T070000
END:STANDARD
BEGIN:DAYLIGHT
TZOFFSETFROM:-0600
TZOFFSETTO:-0500
TZNAME:CDT
DTSTART:20230312T080000
END:DAYLIGHT
BEGIN:STANDARD
TZOFFSETFROM:-0500
TZOFFSETTO:-0600
TZNAME:CST
DTSTART:20231105T070000
END:STANDARD
END:VTIMEZONE
BEGIN:VEVENT
DTSTART;TZID=America/Chicago:20220507T070000
DTEND;TZID=America/Chicago:20220507T120000
DTSTAMP:20260421T153833
CREATED:20220310T222033Z
LAST-MODIFIED:20220311T164429Z
UID:5203-1651906800-1651924800@morrismnchamber.org
SUMMARY:RFC 2022 Tinman Triathlon
DESCRIPTION:The 36th annual Tinman Triathlon will be held on May 7\, 2022. Packet pick-up and race-day registration will be held in the Regional Fitness Center Lobby.\nBoth the sprint and Olympic events can be done individually or as a relay with 2 or 3 person teams! \nEvent distances:\nOlympic: Swim – 1100yard Bike – 19mile Run – 10k\nSprint: Swim – 450yard Bike – 12miles Run – 5k \nOnline registration closes at 9:00 p.m. on Friday\, April 29. Race-day registrations will be accepted on Saturday starting at 7:00 a.m
URL:https://morrismnchamber.org/community-event/rfc-2022-tinman-triathlon/
LOCATION:Regional Fitness Center\, 626 E 2nd St\, Morris\, 56267
CATEGORIES:Community Event
ORGANIZER;CN="Regional Fitness Center":MAILTO:rfc@morris.umn.edu
END:VEVENT
END:VCALENDAR