BEGIN:VCALENDAR
VERSION:2.0
PRODID:-//Morris Area Chamber of Commerce - ECPv6.15.15//NONSGML v1.0//EN
CALSCALE:GREGORIAN
METHOD:PUBLISH
X-ORIGINAL-URL:https://morrismnchamber.org
X-WR-CALDESC:Events for Morris Area Chamber of Commerce
REFRESH-INTERVAL;VALUE=DURATION:PT1H
X-Robots-Tag:noindex
X-PUBLISHED-TTL:PT1H
BEGIN:VTIMEZONE
TZID:America/Chicago
BEGIN:DAYLIGHT
TZOFFSETFROM:-0600
TZOFFSETTO:-0500
TZNAME:CDT
DTSTART:20210314T080000
END:DAYLIGHT
BEGIN:STANDARD
TZOFFSETFROM:-0500
TZOFFSETTO:-0600
TZNAME:CST
DTSTART:20211107T070000
END:STANDARD
BEGIN:DAYLIGHT
TZOFFSETFROM:-0600
TZOFFSETTO:-0500
TZNAME:CDT
DTSTART:20220313T080000
END:DAYLIGHT
BEGIN:STANDARD
TZOFFSETFROM:-0500
TZOFFSETTO:-0600
TZNAME:CST
DTSTART:20221106T070000
END:STANDARD
BEGIN:DAYLIGHT
TZOFFSETFROM:-0600
TZOFFSETTO:-0500
TZNAME:CDT
DTSTART:20230312T080000
END:DAYLIGHT
BEGIN:STANDARD
TZOFFSETFROM:-0500
TZOFFSETTO:-0600
TZNAME:CST
DTSTART:20231105T070000
END:STANDARD
END:VTIMEZONE
BEGIN:VEVENT
DTSTART;TZID=America/Chicago:20220524T160000
DTEND;TZID=America/Chicago:20220524T180000
DTSTAMP:20260421T153833
CREATED:20220517T234651Z
LAST-MODIFIED:20220518T154018Z
UID:5466-1653408000-1653415200@morrismnchamber.org
SUMMARY:Community Tree Planting Project
DESCRIPTION:Due to the storm cleanup\, the Community Tree Planting Project has been rescheduled for Tuesday\, May 24th from 4:00 to 6:00 pm.\nAll ages are welcome!  Please bring a shovel and gloves\, if possible. Otherwise just come; tools will be provided.\nHelp us plant the next generation of trees. Even when they are young\, trees are awesome!
URL:https://morrismnchamber.org/community-event/community-tree-planting-project/
CATEGORIES:Community Event
ATTACH;FMTTYPE=image/jpeg:https://morrismnchamber.org/wp-content/uploads/2022/05/46f5fb9e-d081-4229-937b-7240ae245b66.jpeg
END:VEVENT
END:VCALENDAR