BEGIN:VCALENDAR
VERSION:2.0
PRODID:-//Morris Area Chamber of Commerce - ECPv6.15.15//NONSGML v1.0//EN
CALSCALE:GREGORIAN
METHOD:PUBLISH
X-ORIGINAL-URL:https://morrismnchamber.org
X-WR-CALDESC:Events for Morris Area Chamber of Commerce
REFRESH-INTERVAL;VALUE=DURATION:PT1H
X-Robots-Tag:noindex
X-PUBLISHED-TTL:PT1H
BEGIN:VTIMEZONE
TZID:America/Chicago
BEGIN:DAYLIGHT
TZOFFSETFROM:-0600
TZOFFSETTO:-0500
TZNAME:CDT
DTSTART:20210314T080000
END:DAYLIGHT
BEGIN:STANDARD
TZOFFSETFROM:-0500
TZOFFSETTO:-0600
TZNAME:CST
DTSTART:20211107T070000
END:STANDARD
BEGIN:DAYLIGHT
TZOFFSETFROM:-0600
TZOFFSETTO:-0500
TZNAME:CDT
DTSTART:20220313T080000
END:DAYLIGHT
BEGIN:STANDARD
TZOFFSETFROM:-0500
TZOFFSETTO:-0600
TZNAME:CST
DTSTART:20221106T070000
END:STANDARD
BEGIN:DAYLIGHT
TZOFFSETFROM:-0600
TZOFFSETTO:-0500
TZNAME:CDT
DTSTART:20230312T080000
END:DAYLIGHT
BEGIN:STANDARD
TZOFFSETFROM:-0500
TZOFFSETTO:-0600
TZNAME:CST
DTSTART:20231105T070000
END:STANDARD
END:VTIMEZONE
BEGIN:VEVENT
DTSTART;TZID=America/Chicago:20220531T170000
DTEND;TZID=America/Chicago:20220531T190000
DTSTAMP:20260421T153841
CREATED:20220520T155655Z
LAST-MODIFIED:20220520T161843Z
UID:5481-1654016400-1654023600@morrismnchamber.org
SUMMARY:Brownies & Blooms Fundraiser
DESCRIPTION:It’s that time of year again when things start budding and coming alive! We can always use more plants (and sweets!) This year you can support the SCMC Courage Cottage and the local Stevens County Dolly Parton Imagination Library program by purchasing plants\, flowers\, AND treats from our employee-run event on Tuesday\, May 31 from 5-7 pm at the Brownies & Blooms Fundraiser. Look for a white tent on the grassy lawn on the west side of SCMC (by the new Shipping/Receiving and Urgent & Respiratory Care Clinic.) \nIf you have plants or perennials you would like to donate to the event please contact Beth at 320-760-2596. In the event of inclement weather\, the sale will be moved to the SCMC patio by the NovaCare entrance off of First Street. Proceeds from this fundraiser will be split between the SCMC Courage Cottage & Dolly Parton Imagination Library.
URL:https://morrismnchamber.org/community-event/brownies-blooms-fundraiser/
LOCATION:Stevens Community Medical Center\, 400 E. 1st St.\, Morris\, 56267
CATEGORIES:Community Event
ATTACH;FMTTYPE=image/png:https://morrismnchamber.org/wp-content/uploads/2022/05/fb-event-graphic-1.png
ORGANIZER;CN="SCMC":MAILTO:info@scmcinc.org
END:VEVENT
END:VCALENDAR