BEGIN:VCALENDAR
VERSION:2.0
PRODID:-//Morris Area Chamber of Commerce - ECPv6.15.15//NONSGML v1.0//EN
CALSCALE:GREGORIAN
METHOD:PUBLISH
X-ORIGINAL-URL:https://morrismnchamber.org
X-WR-CALDESC:Events for Morris Area Chamber of Commerce
REFRESH-INTERVAL;VALUE=DURATION:PT1H
X-Robots-Tag:noindex
X-PUBLISHED-TTL:PT1H
BEGIN:VTIMEZONE
TZID:America/Chicago
BEGIN:DAYLIGHT
TZOFFSETFROM:-0600
TZOFFSETTO:-0500
TZNAME:CDT
DTSTART:20210314T080000
END:DAYLIGHT
BEGIN:STANDARD
TZOFFSETFROM:-0500
TZOFFSETTO:-0600
TZNAME:CST
DTSTART:20211107T070000
END:STANDARD
BEGIN:DAYLIGHT
TZOFFSETFROM:-0600
TZOFFSETTO:-0500
TZNAME:CDT
DTSTART:20220313T080000
END:DAYLIGHT
BEGIN:STANDARD
TZOFFSETFROM:-0500
TZOFFSETTO:-0600
TZNAME:CST
DTSTART:20221106T070000
END:STANDARD
BEGIN:DAYLIGHT
TZOFFSETFROM:-0600
TZOFFSETTO:-0500
TZNAME:CDT
DTSTART:20230312T080000
END:DAYLIGHT
BEGIN:STANDARD
TZOFFSETFROM:-0500
TZOFFSETTO:-0600
TZNAME:CST
DTSTART:20231105T070000
END:STANDARD
END:VTIMEZONE
BEGIN:VEVENT
DTSTART;TZID=America/Chicago:20220618T090000
DTEND;TZID=America/Chicago:20220618T120000
DTSTAMP:20260421T165337
CREATED:20220530T145845Z
LAST-MODIFIED:20220601T153753Z
UID:5505-1655542800-1655553600@morrismnchamber.org
SUMMARY:Golf Fore Mentoring
DESCRIPTION:Moved to a Saturday so we don’t finish golfing in the dark!\nGolf Fore Mentoring is a fundraiser for RUSC Kinship Mentoring who provides mentoring opportunities to youth and families in Stevens County\, MN.\n$60 a player\nCash prizes for 1st\, 2nd\, 3rd\nHole games with prizes\nMeal provided after golf\nComplimentary water & Soda\nCustom Golf Towel included\n8:30 – 8:55 Registration\n8:55 – 9am Announcements\n9am Shotgun start\nMeal provided by Blowin Smoke BBQ food truck
URL:https://morrismnchamber.org/community-event/golf-fore-mentoring/
LOCATION:Pomme De Terre Golf Club\, 24860 State Hwy 9\, Morris\, MN\, 56267\, United States
CATEGORIES:Community Event
ATTACH;FMTTYPE=image/png:https://morrismnchamber.org/wp-content/uploads/2022/05/2022-golf-flyer-1.png
ORGANIZER;CN="RUSC Kinship Mentoring":MAILTO:rusckinship@gmail.com
END:VEVENT
END:VCALENDAR