BEGIN:VCALENDAR
VERSION:2.0
PRODID:-//Morris Area Chamber of Commerce - ECPv6.15.15//NONSGML v1.0//EN
CALSCALE:GREGORIAN
METHOD:PUBLISH
X-ORIGINAL-URL:https://morrismnchamber.org
X-WR-CALDESC:Events for Morris Area Chamber of Commerce
REFRESH-INTERVAL;VALUE=DURATION:PT1H
X-Robots-Tag:noindex
X-PUBLISHED-TTL:PT1H
BEGIN:VTIMEZONE
TZID:America/Chicago
BEGIN:DAYLIGHT
TZOFFSETFROM:-0600
TZOFFSETTO:-0500
TZNAME:CDT
DTSTART:20210314T080000
END:DAYLIGHT
BEGIN:STANDARD
TZOFFSETFROM:-0500
TZOFFSETTO:-0600
TZNAME:CST
DTSTART:20211107T070000
END:STANDARD
BEGIN:DAYLIGHT
TZOFFSETFROM:-0600
TZOFFSETTO:-0500
TZNAME:CDT
DTSTART:20220313T080000
END:DAYLIGHT
BEGIN:STANDARD
TZOFFSETFROM:-0500
TZOFFSETTO:-0600
TZNAME:CST
DTSTART:20221106T070000
END:STANDARD
BEGIN:DAYLIGHT
TZOFFSETFROM:-0600
TZOFFSETTO:-0500
TZNAME:CDT
DTSTART:20230312T080000
END:DAYLIGHT
BEGIN:STANDARD
TZOFFSETFROM:-0500
TZOFFSETTO:-0600
TZNAME:CST
DTSTART:20231105T070000
END:STANDARD
END:VTIMEZONE
BEGIN:VEVENT
DTSTART;TZID=America/Chicago:20220625T160000
DTEND;TZID=America/Chicago:20220625T220000
DTSTAMP:20260421T165338
CREATED:20220520T182154Z
LAST-MODIFIED:20220523T191656Z
UID:5488-1656172800-1656194400@morrismnchamber.org
SUMMARY:Conexiones Day
DESCRIPTION:Join us in celebrating our community at the third annual Conexiones Day festival! \nJune 25\, 2022\n4-10pm\nLee Community Center\n101 Co Rd 22\, Morris\, MN 56267 \nALL ARE WELCOME and encouraged to attend! This year we will have some exciting new activities including balloon twisting\, face painting\, a photo booth\, 4-H animal alley\, and more! We will also be bringing back some staple events such as the beautiful Mexican Folkloric dance performance\, taco eating contest and live music! \nFor more information visit our Facebook page https://www.facebook.com/conexionesmn or call Autumn at 320-444-7875.
URL:https://morrismnchamber.org/community-event/conexiones-day-2/
CATEGORIES:Community Event
ATTACH;FMTTYPE=image/png:https://morrismnchamber.org/wp-content/uploads/2022/05/conexiones-day.png
ORGANIZER;CN="Conexiones":MAILTO:autumnc@conexiones-mn.org
END:VEVENT
END:VCALENDAR