BEGIN:VCALENDAR
VERSION:2.0
PRODID:-//Morris Area Chamber of Commerce - ECPv6.15.15//NONSGML v1.0//EN
CALSCALE:GREGORIAN
METHOD:PUBLISH
X-WR-CALNAME:Morris Area Chamber of Commerce
X-ORIGINAL-URL:https://morrismnchamber.org
X-WR-CALDESC:Events for Morris Area Chamber of Commerce
REFRESH-INTERVAL;VALUE=DURATION:PT1H
X-Robots-Tag:noindex
X-PUBLISHED-TTL:PT1H
BEGIN:VTIMEZONE
TZID:America/Chicago
BEGIN:DAYLIGHT
TZOFFSETFROM:-0600
TZOFFSETTO:-0500
TZNAME:CDT
DTSTART:20210314T080000
END:DAYLIGHT
BEGIN:STANDARD
TZOFFSETFROM:-0500
TZOFFSETTO:-0600
TZNAME:CST
DTSTART:20211107T070000
END:STANDARD
BEGIN:DAYLIGHT
TZOFFSETFROM:-0600
TZOFFSETTO:-0500
TZNAME:CDT
DTSTART:20220313T080000
END:DAYLIGHT
BEGIN:STANDARD
TZOFFSETFROM:-0500
TZOFFSETTO:-0600
TZNAME:CST
DTSTART:20221106T070000
END:STANDARD
BEGIN:DAYLIGHT
TZOFFSETFROM:-0600
TZOFFSETTO:-0500
TZNAME:CDT
DTSTART:20230312T080000
END:DAYLIGHT
BEGIN:STANDARD
TZOFFSETFROM:-0500
TZOFFSETTO:-0600
TZNAME:CST
DTSTART:20231105T070000
END:STANDARD
END:VTIMEZONE
BEGIN:VEVENT
DTSTART;TZID=America/Chicago:20220905T080000
DTEND;TZID=America/Chicago:20220905T110000
DTSTAMP:20260421T220704
CREATED:20220613T175442Z
LAST-MODIFIED:20220613T180957Z
UID:5633-1662364800-1662375600@morrismnchamber.org
SUMMARY:Pope County Farm Bureau - Breakfast on the Farm
DESCRIPTION:Pope County Farm Bureau would like to invite you to our 4th annual Breakfast on the Farm\, at Rolling Forks Vineyards!\nSAVE THE DATE: September 5\, 2022 for a FREE eggbake breakfast\, along with vineyard tours\, activities\, and demonstrations! What a great opportunity for a family outing!\nLocated just south of Glenwood\, Rolling Forks Vineyards is a family owned vineyard with picturesque views of Lake Minnewaska. They would love visitors to share their story with!\nFood will be served from 8 – 11 am (or until the food runs out)\, and activities will last until noon! We hope to see you there!
URL:https://morrismnchamber.org/community-event/pope-county-farm-bureau-breakfast-on-the-farm/
LOCATION:Rolling Forks Vineyards\, 21505 Selnes Road\, Glenwood MN\, 56334
CATEGORIES:Community Event
ATTACH;FMTTYPE=image/png:https://morrismnchamber.org/wp-content/uploads/2022/06/bof-2022-logo-red.png
END:VEVENT
END:VCALENDAR