BEGIN:VCALENDAR
VERSION:2.0
PRODID:-//Morris Area Chamber of Commerce - ECPv6.15.15//NONSGML v1.0//EN
CALSCALE:GREGORIAN
METHOD:PUBLISH
X-ORIGINAL-URL:https://morrismnchamber.org
X-WR-CALDESC:Events for Morris Area Chamber of Commerce
REFRESH-INTERVAL;VALUE=DURATION:PT1H
X-Robots-Tag:noindex
X-PUBLISHED-TTL:PT1H
BEGIN:VTIMEZONE
TZID:America/Chicago
BEGIN:DAYLIGHT
TZOFFSETFROM:-0600
TZOFFSETTO:-0500
TZNAME:CDT
DTSTART:20210314T080000
END:DAYLIGHT
BEGIN:STANDARD
TZOFFSETFROM:-0500
TZOFFSETTO:-0600
TZNAME:CST
DTSTART:20211107T070000
END:STANDARD
BEGIN:DAYLIGHT
TZOFFSETFROM:-0600
TZOFFSETTO:-0500
TZNAME:CDT
DTSTART:20220313T080000
END:DAYLIGHT
BEGIN:STANDARD
TZOFFSETFROM:-0500
TZOFFSETTO:-0600
TZNAME:CST
DTSTART:20221106T070000
END:STANDARD
BEGIN:DAYLIGHT
TZOFFSETFROM:-0600
TZOFFSETTO:-0500
TZNAME:CDT
DTSTART:20230312T080000
END:DAYLIGHT
BEGIN:STANDARD
TZOFFSETFROM:-0500
TZOFFSETTO:-0600
TZNAME:CST
DTSTART:20231105T070000
END:STANDARD
END:VTIMEZONE
BEGIN:VEVENT
DTSTART;TZID=America/Chicago:20221109T180000
DTEND;TZID=America/Chicago:20221109T193000
DTSTAMP:20260424T083828
CREATED:20221012T193809Z
LAST-MODIFIED:20221012T194828Z
UID:6330-1668016800-1668022200@morrismnchamber.org
SUMMARY:Kickboxing Technique Class
DESCRIPTION:Kickboxing Technique ClassKickboxing Technique ClassWednesday November 9th in the RFC gym.  6-7pm Forms and Technique\, 7-7:30 30 min kicking boxing class with Suzie\, Ingrid and Shadow. \nThis is a FREE class designed to help you feel comfortable stepping into our kicking class by practicing and learning safe and proper technique ahead of time.  We’ll break down all of the moves used in the RFC Kickboxing class. \nWe will go over all the benefits of a kickboxing workout including cardio\, stress relief\, core strength\, muscle memory\, power and more! Come join us\, learn and ask questions so you can make this part of your weekly routine.
URL:https://morrismnchamber.org/community-event/kickboxing-technique-class/
LOCATION:Regional Fitness Center\, 626 E 2nd St\, Morris\, 56267
CATEGORIES:Community Event
ATTACH;FMTTYPE=application/pdf:https://morrismnchamber.org/wp-content/uploads/2022/10/kickboxing-technique-class.pdf
END:VEVENT
END:VCALENDAR