BEGIN:VCALENDAR
VERSION:2.0
PRODID:-//Morris Area Chamber of Commerce - ECPv6.15.15//NONSGML v1.0//EN
CALSCALE:GREGORIAN
METHOD:PUBLISH
X-WR-CALNAME:Morris Area Chamber of Commerce
X-ORIGINAL-URL:https://morrismnchamber.org
X-WR-CALDESC:Events for Morris Area Chamber of Commerce
REFRESH-INTERVAL;VALUE=DURATION:PT1H
X-Robots-Tag:noindex
X-PUBLISHED-TTL:PT1H
BEGIN:VTIMEZONE
TZID:America/Chicago
BEGIN:DAYLIGHT
TZOFFSETFROM:-0600
TZOFFSETTO:-0500
TZNAME:CDT
DTSTART:20220313T080000
END:DAYLIGHT
BEGIN:STANDARD
TZOFFSETFROM:-0500
TZOFFSETTO:-0600
TZNAME:CST
DTSTART:20221106T070000
END:STANDARD
BEGIN:DAYLIGHT
TZOFFSETFROM:-0600
TZOFFSETTO:-0500
TZNAME:CDT
DTSTART:20230312T080000
END:DAYLIGHT
BEGIN:STANDARD
TZOFFSETFROM:-0500
TZOFFSETTO:-0600
TZNAME:CST
DTSTART:20231105T070000
END:STANDARD
BEGIN:DAYLIGHT
TZOFFSETFROM:-0600
TZOFFSETTO:-0500
TZNAME:CDT
DTSTART:20240310T080000
END:DAYLIGHT
BEGIN:STANDARD
TZOFFSETFROM:-0500
TZOFFSETTO:-0600
TZNAME:CST
DTSTART:20241103T070000
END:STANDARD
END:VTIMEZONE
BEGIN:VEVENT
DTSTART;TZID=America/Chicago:20230727T100000
DTEND;TZID=America/Chicago:20230727T200000
DTSTAMP:20260420T023715
CREATED:20230720T152735Z
LAST-MODIFIED:20230720T152735Z
UID:6931-1690452000-1690488000@morrismnchamber.org
SUMMARY:Friends of the Morris Public Library Book Sale
DESCRIPTION:Used book/DVD/game/puzzle sale at the Morris Public Library. All proceeds go to supporting the Library’s programming and materials. Bag sale on Friday!
URL:https://morrismnchamber.org/community-event/friends-of-the-morris-public-library-book-sale-4/
LOCATION:Morris Public Library\, 102 E 6th St.\, Morris\, 56267
END:VEVENT
BEGIN:VEVENT
DTSTART;TZID=America/Chicago:20230726T110000
DTEND;TZID=America/Chicago:20230726T130000
DTSTAMP:20260420T023715
CREATED:20230720T153114Z
LAST-MODIFIED:20230720T153114Z
UID:6934-1690369200-1690376400@morrismnchamber.org
SUMMARY:Feed My Starving Children Hosting Brat Feed at Willies
DESCRIPTION:All proceeds go to help pay for ingredients for our FMAC mobile pack event on August 28\,29\,30th.  We appreciate your support! Call Robin with any advance orders or questions at 320-226-1902
URL:https://morrismnchamber.org/community-event/feed-my-starving-children-hosting-brat-feed-at-willies/
LOCATION:Willie’s SuperValu\, Morris\, MN\, 56267\, United States
END:VEVENT
BEGIN:VEVENT
DTSTART;TZID=America/Chicago:20230726T100000
DTEND;TZID=America/Chicago:20230726T200000
DTSTAMP:20260420T023715
CREATED:20230720T152750Z
LAST-MODIFIED:20230720T152750Z
UID:6928-1690365600-1690401600@morrismnchamber.org
SUMMARY:Friends of the Morris Public Library Book Sale
DESCRIPTION:Used book/DVD/game/puzzle sale at the Morris Public Library. All proceeds go to supporting the Library’s programming and materials. Bag sale on Friday!
URL:https://morrismnchamber.org/community-event/friends-of-the-morris-public-library-book-sale-5/
LOCATION:Morris Public Library\, 102 E 6th St.\, Morris\, 56267
CATEGORIES:Community Event
ATTACH;FMTTYPE=image/jpeg:https://morrismnchamber.org/wp-content/uploads/2023/07/book-sale.jpg
END:VEVENT
BEGIN:VEVENT
DTSTART;VALUE=DATE:20230726
DTEND;VALUE=DATE:20230727
DTSTAMP:20260420T023715
CREATED:20230411T141416Z
LAST-MODIFIED:20230626T164150Z
UID:6701-1690329600-1690415999@morrismnchamber.org
SUMMARY:Crazy Days
DESCRIPTION:
URL:https://morrismnchamber.org/community-event/crazy-days-2/
LOCATION:City of Morris\, Morris\, MN\, 56267\, United States
ATTACH;FMTTYPE=image/png:https://morrismnchamber.org/wp-content/uploads/2023/06/2023-all-activities.png
ORGANIZER;CN="Morris Area Chamber of Commerce":MAILTO:morrismnchamber@gmail.com
END:VEVENT
BEGIN:VEVENT
DTSTART;TZID=America/Chicago:20230722T130000
DTEND;TZID=America/Chicago:20230722T140000
DTSTAMP:20260420T023715
CREATED:20230524T152915Z
LAST-MODIFIED:20230524T152915Z
UID:6865-1690030800-1690034400@morrismnchamber.org
SUMMARY:Edible Book Contest
DESCRIPTION:Get creative and design edible art that has something to do with a book/books in shape or content for this contest judged by Johanna of Creative Confections.
URL:https://morrismnchamber.org/community-event/edible-book-contest/
LOCATION:Morris Public Library\, 102 E 6th St.\, Morris\, 56267
ATTACH;FMTTYPE=image/png:https://morrismnchamber.org/wp-content/uploads/2023/05/join-us-this-summer-for-events-performances-and-book-clubs-for-all-ages-follow-along-on-facebook-or-visit-our-website-for-the-full-schedule-of-activities-and-summer-reading-incentives.png
END:VEVENT
BEGIN:VEVENT
DTSTART;TZID=America/Chicago:20230719T183000
DTEND;TZID=America/Chicago:20230719T193000
DTSTAMP:20260420T023715
CREATED:20230524T152710Z
LAST-MODIFIED:20230524T152710Z
UID:6863-1689791400-1689795000@morrismnchamber.org
SUMMARY:Family Cookbook Book Club
DESCRIPTION:Join us for an all ages potluck featuring a variety of recipes chosen from 2 cookbooks by America’s Test Kitchen.  Stop in and sign up for a recipe from The Complete Cookbook for Young Chefs\, or The Complete Baking Book for Young Chefs.
URL:https://morrismnchamber.org/community-event/family-cookbook-book-club/
LOCATION:Morris Public Library\, 102 E 6th St.\, Morris\, 56267
ATTACH;FMTTYPE=image/png:https://morrismnchamber.org/wp-content/uploads/2023/05/join-us-this-summer-for-events-performances-and-book-clubs-for-all-ages-follow-along-on-facebook-or-visit-our-website-for-the-full-schedule-of-activities-and-summer-reading-incentives.png
END:VEVENT
BEGIN:VEVENT
DTSTART;TZID=America/Chicago:20230719T130000
DTEND;TZID=America/Chicago:20230719T150000
DTSTAMP:20260420T023715
CREATED:20230524T152504Z
LAST-MODIFIED:20230524T152504Z
UID:6861-1689771600-1689778800@morrismnchamber.org
SUMMARY:Puppet-Making with Liz Spohr
DESCRIPTION:Pre-Register ages 9+ Learn the basics of sewing with fiber artist Liz Spohr and make your own puppets.
URL:https://morrismnchamber.org/community-event/puppet-making-with-liz-spohr/
LOCATION:Morris Public Library\, 102 E 6th St.\, Morris\, 56267
ATTACH;FMTTYPE=image/png:https://morrismnchamber.org/wp-content/uploads/2023/05/join-us-this-summer-for-events-performances-and-book-clubs-for-all-ages-follow-along-on-facebook-or-visit-our-website-for-the-full-schedule-of-activities-and-summer-reading-incentives.png
END:VEVENT
BEGIN:VEVENT
DTSTART;TZID=America/Chicago:20230718T103000
DTEND;TZID=America/Chicago:20230718T113000
DTSTAMP:20260420T023715
CREATED:20230524T152301Z
LAST-MODIFIED:20230524T152301Z
UID:6859-1689676200-1689679800@morrismnchamber.org
SUMMARY:CLIMB Theatre: The Ant and the Grasshopper\, Mini Play
DESCRIPTION:An original interactive production inspired by Aesop’s Fable\, featuring a two-person cast.  Morris Public Library and Viking Library System sponsor this program.  This project was funded in part or whole with monies from Minnesota’s Arts and Cultural Heritage fund.
URL:https://morrismnchamber.org/community-event/climb-theatre-the-ant-and-the-grasshopper-mini-play/
LOCATION:Morris Public Library\, 102 E 6th St.\, Morris\, 56267
ATTACH;FMTTYPE=image/png:https://morrismnchamber.org/wp-content/uploads/2023/05/join-us-this-summer-for-events-performances-and-book-clubs-for-all-ages-follow-along-on-facebook-or-visit-our-website-for-the-full-schedule-of-activities-and-summer-reading-incentives.png
END:VEVENT
BEGIN:VEVENT
DTSTART;TZID=America/Chicago:20230713T120000
DTEND;TZID=America/Chicago:20230713T130000
DTSTAMP:20260420T023715
CREATED:20230524T151920Z
LAST-MODIFIED:20230524T151920Z
UID:6857-1689249600-1689253200@morrismnchamber.org
SUMMARY:Kids Graphic Novel Book Club
DESCRIPTION:Elementary-aged kids are invited to read and discuss The Tea Dragon Society series by Katie O’Neill.  The Tea Dragon Festival and The Tea Dragon Tapestry
URL:https://morrismnchamber.org/community-event/kids-graphic-novel-book-club-4/
LOCATION:Morris Public Library\, 102 E 6th St.\, Morris\, 56267
ATTACH;FMTTYPE=image/png:https://morrismnchamber.org/wp-content/uploads/2023/05/join-us-this-summer-for-events-performances-and-book-clubs-for-all-ages-follow-along-on-facebook-or-visit-our-website-for-the-full-schedule-of-activities-and-summer-reading-incentives.png
END:VEVENT
BEGIN:VEVENT
DTSTART;TZID=America/Chicago:20230705T190000
DTEND;TZID=America/Chicago:20230705T200000
DTSTAMP:20260420T023715
CREATED:20230524T151600Z
LAST-MODIFIED:20230524T151600Z
UID:6855-1688583600-1688587200@morrismnchamber.org
SUMMARY:Flute Music with Mike Peterson
DESCRIPTION:A wooden flute performance by Mike Peterson from St. John’s Abbey
URL:https://morrismnchamber.org/community-event/flute-music-with-mike-peterson/
LOCATION:Morris Public Library\, 102 E 6th St.\, Morris\, 56267
ATTACH;FMTTYPE=image/png:https://morrismnchamber.org/wp-content/uploads/2023/05/join-us-this-summer-for-events-performances-and-book-clubs-for-all-ages-follow-along-on-facebook-or-visit-our-website-for-the-full-schedule-of-activities-and-summer-reading-incentives.png
END:VEVENT
BEGIN:VEVENT
DTSTART;TZID=America/Chicago:20230629T190000
DTEND;TZID=America/Chicago:20230629T200000
DTSTAMP:20260420T023715
CREATED:20230524T151420Z
LAST-MODIFIED:20230524T151420Z
UID:6853-1688065200-1688068800@morrismnchamber.org
SUMMARY:Library Book Club
DESCRIPTION:Open to Adults: Join us for a discussion of Women Talking by Miriam Toews.  Then join us for a viewing of its Oscar-winning 2022 film adaptation at the Morris Theater! The movie date is TBA
URL:https://morrismnchamber.org/community-event/library-book-club/
END:VEVENT
BEGIN:VEVENT
DTSTART;TZID=America/Chicago:20230627T130000
DTEND;TZID=America/Chicago:20230627T150000
DTSTAMP:20260420T023715
CREATED:20230524T150623Z
LAST-MODIFIED:20230524T150623Z
UID:6845-1687870800-1687878000@morrismnchamber.org
SUMMARY:Youth Creative Writing Club with Seth Kelly
DESCRIPTION:For grades 5-12\, pre-register. Join MAHS English teacher Seth Kelly for an introduction to writing fiction\, poetry\, and scripts.  We’ll explore these genres and collaborate on a performance project.
URL:https://morrismnchamber.org/community-event/youth-creative-writing-club-with-seth-kelly-3/
LOCATION:Morris Public Library\, 102 E 6th St.\, Morris\, 56267
ATTACH;FMTTYPE=image/png:https://morrismnchamber.org/wp-content/uploads/2023/05/join-us-this-summer-for-events-performances-and-book-clubs-for-all-ages-follow-along-on-facebook-or-visit-our-website-for-the-full-schedule-of-activities-and-summer-reading-incentives.png
END:VEVENT
BEGIN:VEVENT
DTSTART;TZID=America/Chicago:20230627T103000
DTEND;TZID=America/Chicago:20230627T113000
DTSTAMP:20260420T023715
CREATED:20230523T141215Z
LAST-MODIFIED:20230523T141215Z
UID:6833-1687861800-1687865400@morrismnchamber.org
SUMMARY:Siama's Congo Roots Performance
DESCRIPTION:Siama’s Congo Roots\nTuesday\, June 27th\, 10:30 am\nFeel-good sounds from the heart of Africa  \nOn this very special musical journey to Africa\, Siama plays guitar and traditional instruments like Mbira (thumb piano) and Balafon (marimba) while Dallas Johnson encourages everyone to sing along in Kikongo\, Lingala & English and they both share fun stories that bring Siama’s rural homeland to life. This program is especially designed for kids and families but it’s enjoyed by everyone so don’t miss it!\nThis program is sponsored by Morris Public Library and Viking Library System. This project was funded in part or in whole with monies from Minnesota’s Arts and Cultural Heritage fund.
URL:https://morrismnchamber.org/community-event/siamas-congo-roots-performance/
LOCATION:Morris Public Library\, 102 E 6th St.\, Morris\, 56267
ATTACH;FMTTYPE=image/png:https://morrismnchamber.org/wp-content/uploads/2023/05/join-us-this-summer-for-events-performances-and-book-clubs-for-all-ages-follow-along-on-facebook-or-visit-our-website-for-the-full-schedule-of-activities-and-summer-reading-incentives.png
ORGANIZER;CN="Morris Public Libary":MAILTO:morrispublib@gmail.com
END:VEVENT
BEGIN:VEVENT
DTSTART;TZID=America/Chicago:20230622T120000
DTEND;TZID=America/Chicago:20230622T130000
DTSTAMP:20260420T023715
CREATED:20230524T151232Z
LAST-MODIFIED:20230524T151232Z
UID:6851-1687435200-1687438800@morrismnchamber.org
SUMMARY:Kids Graphic Novel Book Club
DESCRIPTION:Elementary aged kids are invited to read and discuss The Tea Dragon Society series by Katie O’Neill
URL:https://morrismnchamber.org/community-event/kids-graphic-novel-book-club-3/
LOCATION:Morris Public Library\, 102 E 6th St.\, Morris\, 56267
ATTACH;FMTTYPE=image/png:https://morrismnchamber.org/wp-content/uploads/2023/05/join-us-this-summer-for-events-performances-and-book-clubs-for-all-ages-follow-along-on-facebook-or-visit-our-website-for-the-full-schedule-of-activities-and-summer-reading-incentives.png
END:VEVENT
BEGIN:VEVENT
DTSTART;TZID=America/Chicago:20230622T110000
DTEND;TZID=America/Chicago:20230622T140000
DTSTAMP:20260420T023715
CREATED:20230620T140428Z
LAST-MODIFIED:20230620T140428Z
UID:6900-1687431600-1687442400@morrismnchamber.org
SUMMARY:Community Development Bank - Customer Appreciation Lunch
DESCRIPTION:Join us in Hancock for our annual Customer Appreciation Luch from 11:00 – 2:00 on Thursday\, June 22nd. We’ll be serving Wurst Machers pork loin sandwiches\, chips and fresh cut fruit.
URL:https://morrismnchamber.org/community-event/community-development-bank-customer-appreciation-lunch-3/
CATEGORIES:Community Event
ATTACH;FMTTYPE=image/jpeg:https://morrismnchamber.org/wp-content/uploads/2023/06/customer-lunch.jpg
ORGANIZER;CN="Community Development Bank":MAILTO:jcronen@comdevbank.com
END:VEVENT
BEGIN:VEVENT
DTSTART;TZID=America/Chicago:20230622T110000
DTEND;TZID=America/Chicago:20230622T140000
DTSTAMP:20260420T023715
CREATED:20230620T140411Z
LAST-MODIFIED:20230620T140411Z
UID:6904-1687431600-1687442400@morrismnchamber.org
SUMMARY:Community Development Bank - Customer Appreciation Lunch
DESCRIPTION:Join us at the bank on Thursday for lunch catered by Wurst Machers. We’ll be serving from 11:00 – 2:00
URL:https://morrismnchamber.org/community-event/community-development-bank-customer-appreciation-lunch-2/
ORGANIZER;CN="Community Development Bank":MAILTO:jcronen@comdevbank.com
END:VEVENT
BEGIN:VEVENT
DTSTART;TZID=America/Chicago:20230621T200000
DTEND;TZID=America/Chicago:20230621T203000
DTSTAMP:20260420T023715
CREATED:20230524T151044Z
LAST-MODIFIED:20230524T151044Z
UID:6849-1687377600-1687379400@morrismnchamber.org
SUMMARY:Graphic Novel Book Club
DESCRIPTION:This book club for Teens and Adults will read and discuss M is for Monster by Talia Dutton
URL:https://morrismnchamber.org/community-event/graphic-novel-book-club/
LOCATION:Morris Public Library\, 102 E 6th St.\, Morris\, 56267
ATTACH;FMTTYPE=image/png:https://morrismnchamber.org/wp-content/uploads/2023/05/join-us-this-summer-for-events-performances-and-book-clubs-for-all-ages-follow-along-on-facebook-or-visit-our-website-for-the-full-schedule-of-activities-and-summer-reading-incentives.png
END:VEVENT
BEGIN:VEVENT
DTSTART;TZID=America/Chicago:20230621T180000
DTEND;TZID=America/Chicago:20230621T193000
DTSTAMP:20260420T023715
CREATED:20230523T141307Z
LAST-MODIFIED:20230523T141307Z
UID:6803-1687370400-1687375800@morrismnchamber.org
SUMMARY:Lawn Games & Pizza Party
DESCRIPTION:Morris Public Library\nSummer Reading Program\nJune 5th-July 31st \nWednesday\, June 21st\, 6-7:30 pm\nBring the whole family to play outdoor games on the lawn! Pizzas donated by Pizza Ranch.
URL:https://morrismnchamber.org/community-event/lawn-games-pizza-party/
LOCATION:Morris Public Library\, 102 E 6th St.\, Morris\, 56267
ATTACH;FMTTYPE=image/png:https://morrismnchamber.org/wp-content/uploads/2023/05/mpl-postcard.png
ORGANIZER;CN="Morris Public Libary":MAILTO:morrispublib@gmail.com
END:VEVENT
BEGIN:VEVENT
DTSTART;TZID=America/Chicago:20230620T130000
DTEND;TZID=America/Chicago:20230620T150000
DTSTAMP:20260420T023715
CREATED:20230524T150511Z
LAST-MODIFIED:20230524T150511Z
UID:6843-1687266000-1687273200@morrismnchamber.org
SUMMARY:Youth Creative Writing Club with Seth Kelly
DESCRIPTION:For grades 5-12\, pre-register. Join MAHS English teacher Seth Kelly for an introduction to writing fiction\, poetry\, and scripts.  We’ll explore these genres and collaborate on a performance project.
URL:https://morrismnchamber.org/community-event/youth-creative-writing-club-with-seth-kelly-2/
LOCATION:Morris Public Library\, 102 E 6th St.\, Morris\, 56267
ATTACH;FMTTYPE=image/png:https://morrismnchamber.org/wp-content/uploads/2023/05/join-us-this-summer-for-events-performances-and-book-clubs-for-all-ages-follow-along-on-facebook-or-visit-our-website-for-the-full-schedule-of-activities-and-summer-reading-incentives.png
END:VEVENT
BEGIN:VEVENT
DTSTART;TZID=America/Chicago:20230615T173000
DTEND;TZID=America/Chicago:20230615T193000
DTSTAMP:20260420T023715
CREATED:20230523T141417Z
LAST-MODIFIED:20230523T141417Z
UID:6823-1686850200-1686857400@morrismnchamber.org
SUMMARY:Fiber Arts Workshop
DESCRIPTION:Fiber Arts Workshop Series with Lori Kurpiers\n4 sessions\, 5:30-7:30pm\n       Tuesday\, June 6 – Crochet\n       Thursday\, June 8 – Knitting\n       Wednesday\, June 14 – Sewing\n       Thurs\, June 15 – Weaving\nFor children (ages 9+) and adults. Space is limited\, pre-register.\nThis four-part fiber arts workshop series will demystify sewing\, crochet\, knitting\, and weaving by teaching basic skills in each art form. With support from Prairie Renaissance Cultural Alliance (PRCA).\nThis program is sponsored by Morris Public Library and Viking Library System. This project was funded in part or in whole with monies from Minnesota’s Arts and Cultural Heritage fund.
URL:https://morrismnchamber.org/community-event/fiber-arts-workshop-3/
LOCATION:Morris Public Library\, 102 E 6th St.\, Morris\, 56267
ORGANIZER;CN="Morris Public Libary":MAILTO:morrispublib@gmail.com
END:VEVENT
BEGIN:VEVENT
DTSTART;TZID=America/Chicago:20230614T173000
DTEND;TZID=America/Chicago:20230614T193000
DTSTAMP:20260420T023715
CREATED:20230523T141435Z
LAST-MODIFIED:20230523T141445Z
UID:6820-1686763800-1686771000@morrismnchamber.org
SUMMARY:Fiber Arts Workshop
DESCRIPTION:Fiber Arts Workshop Series with Lori Kurpiers\n4 sessions\, 5:30-7:30pm\n       Tuesday\, June 6 – Crochet\n       Thursday\, June 8 – Knitting\n       Wednesday\, June 14 – Sewing\n       Thurs\, June 15 – Weaving\nFor children (ages 9+) and adults. Space is limited\, pre-register.\nThis four-part fiber arts workshop series will demystify sewing\, crochet\, knitting\, and weaving by teaching basic skills in each art form. With support from Prairie Renaissance Cultural Alliance (PRCA).\nThis program is sponsored by Morris Public Library and Viking Library System. This project was funded in part or in whole with monies from Minnesota’s Arts and Cultural Heritage fund.
URL:https://morrismnchamber.org/community-event/fiber-arts-workshop-4/
LOCATION:Morris Public Library\, 102 E 6th St.\, Morris\, 56267
ATTACH;FMTTYPE=image/jpeg:https://morrismnchamber.org/wp-content/uploads/2023/05/fiber-arts-workshop-poster-summer-2023-1-1.jpg
ORGANIZER;CN="Morris Public Libary":MAILTO:morrispublib@gmail.com
END:VEVENT
BEGIN:VEVENT
DTSTART;TZID=America/Chicago:20230613T183000
DTEND;TZID=America/Chicago:20230613T193000
DTSTAMP:20260420T023715
CREATED:20230524T150850Z
LAST-MODIFIED:20230524T150850Z
UID:6847-1686681000-1686684600@morrismnchamber.org
SUMMARY:Special PJ Story Time
DESCRIPTION:Bring your stuffed animal and wear your pajamas for this special evening storytime.  A light snack will be provided.  Then\, leave your stuffed animal with us for a sleepover in the library.  Kids will get a memento of their stuffies’slumber party.
URL:https://morrismnchamber.org/community-event/special-pj-story-time/
LOCATION:Morris Public Library\, 102 E 6th St.\, Morris\, 56267
ATTACH;FMTTYPE=image/png:https://morrismnchamber.org/wp-content/uploads/2023/05/join-us-this-summer-for-events-performances-and-book-clubs-for-all-ages-follow-along-on-facebook-or-visit-our-website-for-the-full-schedule-of-activities-and-summer-reading-incentives.png
END:VEVENT
BEGIN:VEVENT
DTSTART;TZID=America/Chicago:20230613T130000
DTEND;TZID=America/Chicago:20230613T150000
DTSTAMP:20260420T023715
CREATED:20230524T150355Z
LAST-MODIFIED:20230524T150355Z
UID:6841-1686661200-1686668400@morrismnchamber.org
SUMMARY:Youth Creative Writing Club with Seth Kelly
DESCRIPTION:For grades 5-12\, pre-register. Join MAHS English teacher Seth Kelly for an introduction to writing fiction\, poetry\, and scripts.  We’ll explore these genres and collaborate on a performance project.
URL:https://morrismnchamber.org/community-event/youth-creative-writing-club-with-seth-kelly/
LOCATION:Morris Public Library\, 102 E 6th St.\, Morris\, 56267
ATTACH;FMTTYPE=image/png:https://morrismnchamber.org/wp-content/uploads/2023/05/join-us-this-summer-for-events-performances-and-book-clubs-for-all-ages-follow-along-on-facebook-or-visit-our-website-for-the-full-schedule-of-activities-and-summer-reading-incentives.png
END:VEVENT
BEGIN:VEVENT
DTSTART;TZID=America/Chicago:20230608T173000
DTEND;TZID=America/Chicago:20230608T193000
DTSTAMP:20260420T023715
CREATED:20230523T141556Z
LAST-MODIFIED:20230523T141556Z
UID:6811-1686245400-1686252600@morrismnchamber.org
SUMMARY:Fiber Arts Workshop
DESCRIPTION:Fiber Arts Workshop Series with Lori Kurpiers\n4 sessions\, 5:30-7:30pm\n       Tuesday\, June 6 – Crochet\n       Thursday\, June 8 – Knitting\n       Wednesday\, June 14 – Sewing\n       Thurs\, June 15 – Weaving\nFor children (ages 9+) and adults. Space is limited\, pre-register.\nThis four-part fiber arts workshop series will demystify sewing\, crochet\, knitting\, and weaving by teaching basic skills in each art form. With support from Prairie Renaissance Cultural Alliance (PRCA).\nThis program is sponsored by Morris Public Library and Viking Library System. This project was funded in part or in whole with monies from Minnesota’s Arts and Cultural Heritage fund.
URL:https://morrismnchamber.org/community-event/fiber-arts-workshop-8/
LOCATION:Morris Public Library\, 102 E 6th St.\, Morris\, 56267
ORGANIZER;CN="Morris Public Libary":MAILTO:morrispublib@gmail.com
END:VEVENT
BEGIN:VEVENT
DTSTART;TZID=America/Chicago:20230608T090000
DTEND;TZID=America/Chicago:20230608T130000
DTSTAMP:20260420T023715
CREATED:20230428T141109Z
LAST-MODIFIED:20230428T141109Z
UID:6745-1686214800-1686229200@morrismnchamber.org
SUMMARY:Oil Seeds and Soil Needs Field Day
DESCRIPTION:The North Central Soil Conservation Research Laboratory (Soils Lab) invites you to a Summer Field Day at the Swan Lake Research Farm.   \nOn-site demonstrations and talks about the research progress on oilseed crop agronomy\, how they improve soil health\, and how the Soils Lab is working to benefit the community.   \nThe day begins at 9 a.m. at the Soils Lab\, 803 Iowa Avenue\, and we’ll catch a bus to the research farm.  There will be 3\, 30-minute talks on *Soil Health & Climate Change; *USDA-ARS Ongoing Research\, and *Cropping Systems and Rotation.   \nA complimentary lunch will be provided at noon by our stakeholder support group\, the Barnes-Aastad Soil and Water Conservation Research Association.
URL:https://morrismnchamber.org/community-event/oil-seeds-and-soil-needs-field-day/
LOCATION:North Central Soil Conservation Research Laboratory\, 803 Iowa Avenue\, Morris\, MN
CATEGORIES:Community Event
ATTACH;FMTTYPE=image/jpeg:https://morrismnchamber.org/wp-content/uploads/2023/04/labphotospring1-1.jpg
ORGANIZER;CN="Barnes-Aastad Association":MAILTO:smadieter@gmail.com
END:VEVENT
BEGIN:VEVENT
DTSTART;TZID=America/Chicago:20230607T150000
DTEND;TZID=America/Chicago:20230607T180000
DTSTAMP:20260420T023715
CREATED:20230523T141619Z
LAST-MODIFIED:20230523T141619Z
UID:6836-1686150000-1686160800@morrismnchamber.org
SUMMARY:Mobile Sign Shop
DESCRIPTION:Mobile Sign Shop\nWednesday\, June 7th\, 3-6 pm\nWith teaching artist Peter Haakon Thompson. The Mobile Sign Shop is housed on a trailer and holds workshops for participants to create their own\, customized\, carved wooden signs\, inspired by the vernacular of Northern Minnesota cabin signs.\nThis program is sponsored by Morris Public Library and Viking Library System. This project was funded in part or in whole with monies from Minnesota’s Arts and Cultural Heritage fund.
URL:https://morrismnchamber.org/community-event/mobile-sign-shop/
LOCATION:Morris Public Library\, 102 E 6th St.\, Morris\, 56267
ORGANIZER;CN="Morris Public Libary":MAILTO:morrispublib@gmail.com
END:VEVENT
BEGIN:VEVENT
DTSTART;TZID=America/Chicago:20230606T173000
DTEND;TZID=America/Chicago:20230606T193000
DTSTAMP:20260420T023715
CREATED:20230523T141647Z
LAST-MODIFIED:20230523T141647Z
UID:6808-1686072600-1686079800@morrismnchamber.org
SUMMARY:Fiber Arts Workshop
DESCRIPTION:Fiber Arts Workshop Series with Lori Kurpiers\n4 sessions\, 5:30-7:30pm\n       Tuesday\, June 6 – Crochet\n       Thursday\, June 8 – Knitting\n       Wednesday\, June 14 – Sewing\n       Thurs\, June 15 – Weaving\nFor children (ages 9+) and adults. Space is limited\, pre-register.\nThis four-part fiber arts workshop series will demystify sewing\, crochet\, knitting\, and weaving by teaching basic skills in each art form. With support from Prairie Renaissance Cultural Alliance (PRCA).\nThis program is sponsored by Morris Public Library and Viking Library System. This project was funded in part or in whole with monies from Minnesota’s Arts and Cultural Heritage fund.
URL:https://morrismnchamber.org/community-event/fiber-arts-workshop-9/
LOCATION:Morris Public Library\, 102 E 6th St.\, Morris\, 56267
ATTACH;FMTTYPE=image/jpeg:https://morrismnchamber.org/wp-content/uploads/2023/05/fiber-arts-workshop-poster-summer-2023.jpg
ORGANIZER;CN="Morris Public Libary":MAILTO:morrispublib@gmail.com
END:VEVENT
BEGIN:VEVENT
DTSTART;TZID=America/Chicago:20230603T100000
DTEND;TZID=America/Chicago:20230603T130000
DTSTAMP:20260420T023715
CREATED:20230509T175840Z
LAST-MODIFIED:20230509T175840Z
UID:6782-1685786400-1685797200@morrismnchamber.org
SUMMARY:Compost Barrel Giveaway
DESCRIPTION:Are you interested in organics recycling? Come pick up free materials to get you started!\nParticipate via community dropsites\, backyard composting\, or both.\n125 gallon backyard compost barrels will be available on a first come first serve basis along with household organics starter kits.\nWith questions contact 320-208-6574 or www.co.stevens.mn.us/organics
URL:https://morrismnchamber.org/community-event/compost-barrel-giveaway/
LOCATION:Stevens County Highway Department\, 1762 State Hwy 9\, Morris\, 56267
ORGANIZER;CN="Stevens County Organics":MAILTO:sydneybauer@co.stevens.mn.us
END:VEVENT
BEGIN:VEVENT
DTSTART;TZID=America/Chicago:20230602T110000
DTEND;TZID=America/Chicago:20230602T130000
DTSTAMP:20260420T023715
CREATED:20230509T175916Z
LAST-MODIFIED:20230509T175916Z
UID:6777-1685703600-1685710800@morrismnchamber.org
SUMMARY:Compost Barrel Giveaway
DESCRIPTION:Are you interested in organics recycling? Come pick up free materials to get you started!\nParticipate via community dropsites\, backyard composting\, or both.\n125 gallon backyard compost barrels will be available on a first come first serve basis along with household organics starter kits.\nWith questions contact 320-208-6574 or www.co.stevens.mn.us/organics
URL:https://morrismnchamber.org/community-event/compost-barrel-giveaway-2/
LOCATION:Stevens County Highway Department\, 1762 State Hwy 9\, Morris\, 56267
CATEGORIES:Community Event
ATTACH;FMTTYPE=image/jpeg:https://morrismnchamber.org/wp-content/uploads/2023/05/stevens-county-compost-barrel-giveaway.jpg
ORGANIZER;CN="Stevens County Organics":MAILTO:sydneybauer@co.stevens.mn.us
END:VEVENT
BEGIN:VEVENT
DTSTART;TZID=America/Chicago:20230530T160000
DTEND;TZID=America/Chicago:20230530T183000
DTSTAMP:20260420T023715
CREATED:20230519T183919Z
LAST-MODIFIED:20230519T183919Z
UID:6797-1685462400-1685471400@morrismnchamber.org
SUMMARY:Brownies & Blooms Fundraiser
DESCRIPTION:Support the SCMC Courage Cottage & the local Stevens County Dolly Parton Imagination Library Program by purchasing plants and flowers from our annual employee-ran fundraiser! \nTuesday\, May 30 from 4-6:30 pm at the Courage Cottage\, located right outside on the patio & lawn of the Cottage along First Street & Columbia Ave. in Morris. \nIf you would like to donate any perennials or plants contact Beth by Friday\, May 26 @ 320-760-2596.
URL:https://morrismnchamber.org/community-event/brownies-blooms-fundraiser-2/
LOCATION:SCMC Courage Cottage\, 409 E. First Street\, Morris\, 56237
CATEGORIES:Community Event
ATTACH;FMTTYPE=image/png:https://morrismnchamber.org/wp-content/uploads/2023/05/blooms.png
ORGANIZER;CN="SCMC":MAILTO:info@scmcinc.org
END:VEVENT
END:VCALENDAR