BEGIN:VCALENDAR
VERSION:2.0
PRODID:-//Morris Area Chamber of Commerce - ECPv6.15.15//NONSGML v1.0//EN
CALSCALE:GREGORIAN
METHOD:PUBLISH
X-WR-CALNAME:Morris Area Chamber of Commerce
X-ORIGINAL-URL:https://morrismnchamber.org
X-WR-CALDESC:Events for Morris Area Chamber of Commerce
REFRESH-INTERVAL;VALUE=DURATION:PT1H
X-Robots-Tag:noindex
X-PUBLISHED-TTL:PT1H
BEGIN:VTIMEZONE
TZID:America/Chicago
BEGIN:DAYLIGHT
TZOFFSETFROM:-0600
TZOFFSETTO:-0500
TZNAME:CDT
DTSTART:20210314T080000
END:DAYLIGHT
BEGIN:STANDARD
TZOFFSETFROM:-0500
TZOFFSETTO:-0600
TZNAME:CST
DTSTART:20211107T070000
END:STANDARD
BEGIN:DAYLIGHT
TZOFFSETFROM:-0600
TZOFFSETTO:-0500
TZNAME:CDT
DTSTART:20220313T080000
END:DAYLIGHT
BEGIN:STANDARD
TZOFFSETFROM:-0500
TZOFFSETTO:-0600
TZNAME:CST
DTSTART:20221106T070000
END:STANDARD
BEGIN:DAYLIGHT
TZOFFSETFROM:-0600
TZOFFSETTO:-0500
TZNAME:CDT
DTSTART:20230312T080000
END:DAYLIGHT
BEGIN:STANDARD
TZOFFSETFROM:-0500
TZOFFSETTO:-0600
TZNAME:CST
DTSTART:20231105T070000
END:STANDARD
END:VTIMEZONE
BEGIN:VEVENT
DTSTART;TZID=America/Chicago:20220924T120000
DTEND;TZID=America/Chicago:20220924T170000
DTSTAMP:20260419T165539
CREATED:20220803T230024Z
LAST-MODIFIED:20220804T113017Z
UID:6242-1664020800-1664038800@morrismnchamber.org
SUMMARY:PRCA Metal Arts Festival
DESCRIPTION:About the Metal Arts Festival\nIn honor of the PRCA’s 20th Anniversary\, we’re inviting community members to attend our Metal Arts Festival – the first ever in our region! \nPRCA 20th Anniversary Arts Celebration\nMetal Arts Festival\nSeptember 24\, 2022\nNoon to 5 p.m.\nStevens County Fairgrounds\nFree admission \nJoin us for a free festival showcasing metal arts created by local people \n-Live Metalworks Auction\n-Silent Art Auction\n-LIVE MUSIC featuring Dave Herzog’s Island Time Steel Drums Band (http://www.islandsteeldrums.com/)\n-People’s Choice Competition: Vote for your favorite sculptures\, $600 in cash prizes for the winning artists!\n-Food and Refreshments \nHelp us showcase two decades of arts accomplishments and support the artistry of local welders and metal workers!\nThe PRCA is a non-profit organization whose mission is to connect our community by creating\nspaces to experience the arts in Stevens County\, including the operation of Prairie Art & Gifts\, our gallery located in Morris\, MN.\nAll proceeds from the Metal Arts Festival will benefit the PRCA and its mission.
URL:https://morrismnchamber.org/community-event/prca-metal-arts-festival/
LOCATION:Prairie Renaissance Cultural Alliance\, 630 Atlantic Ave\, Morris\, 56267
ATTACH;FMTTYPE=image/png:https://morrismnchamber.org/wp-content/uploads/2022/08/fb-cover-photo-1024x576-1.png
ORGANIZER;CN="Prairie Renaissance Cultural Alliance":MAILTO:prca@prairierenaissance.org
END:VEVENT
BEGIN:VEVENT
DTSTART;TZID=America/Chicago:20220922T171500
DTEND;TZID=America/Chicago:20220922T191500
DTSTAMP:20260419T165539
CREATED:20220621T201537Z
LAST-MODIFIED:20220622T165107Z
UID:5739-1663866900-1663874100@morrismnchamber.org
SUMMARY:Pomme de Terre Garden Club September Meeting
DESCRIPTION:Pomme de Terre Garden Club will meet Thursday\, September 22\, 2022 at 5:15 pm.  Program will be Fresha\, LLC.  Location to meet TBD at either Fresha\, LLC &/or Morris Public Library.  Contact President Bonnie Wall for more information at bifwall@yahoo.com
URL:https://morrismnchamber.org/community-event/pomme-de-terre-garden-club-september-meeting/
CATEGORIES:Community Event
ORGANIZER;CN="Pomme de Terre Garden Club (Diane Kill)":MAILTO:killdk@morris.umn.edu
END:VEVENT
BEGIN:VEVENT
DTSTART;VALUE=DATE:20220917
DTEND;VALUE=DATE:20220919
DTSTAMP:20260419T165539
CREATED:20220428T144610Z
LAST-MODIFIED:20220428T144816Z
UID:5417-1663372800-1663545599@morrismnchamber.org
SUMMARY:Prairie Harvest Fest
DESCRIPTION:The Annual Morris Town Celebration! Join us for food\, activities\, entertainment\, golf\, a car show\, and more!
URL:https://morrismnchamber.org/community-event/prairie-harvest-fest/
LOCATION:Stevens County Fairgrounds\, 177 Co Rd 22\, Morris\, MN 56267\, MN\, 56267\, United States
CATEGORIES:Community Event
ATTACH;FMTTYPE=image/jpeg:https://morrismnchamber.org/wp-content/uploads/2022/04/save-the-date-fb.jpg
END:VEVENT
BEGIN:VEVENT
DTSTART;TZID=America/Chicago:20220908T160000
DTEND;TZID=America/Chicago:20220908T180000
DTSTAMP:20260419T165539
CREATED:20220621T203720Z
LAST-MODIFIED:20220622T165051Z
UID:5742-1662652800-1662660000@morrismnchamber.org
SUMMARY:Pomme de Terre Garden Club FALL PLANT SALE
DESCRIPTION:The Pomme de Terre Garden Club will hold their annual fall plant sale on Thursday\, September 8 at East Side Park shelter.  Hours are 4 pm – 6 pm.\nFall is a great time to plant perennials!  We will also have houseplants and other miscellaneous garden items including fresh fall flower arrangements.
URL:https://morrismnchamber.org/community-event/pomme-de-terre-garden-club-fall-plant-sale/
LOCATION:East Side Park\, Morris\, 52488 180TH STREET\, MORRIS\, MN\, 56267\, United States
CATEGORIES:Community Event
ORGANIZER;CN="Pomme de Terre Garden Club (Diane Kill)":MAILTO:killdk@morris.umn.edu
END:VEVENT
BEGIN:VEVENT
DTSTART;TZID=America/Chicago:20220905T080000
DTEND;TZID=America/Chicago:20220905T110000
DTSTAMP:20260419T165539
CREATED:20220613T175442Z
LAST-MODIFIED:20220613T180957Z
UID:5633-1662364800-1662375600@morrismnchamber.org
SUMMARY:Pope County Farm Bureau - Breakfast on the Farm
DESCRIPTION:Pope County Farm Bureau would like to invite you to our 4th annual Breakfast on the Farm\, at Rolling Forks Vineyards!\nSAVE THE DATE: September 5\, 2022 for a FREE eggbake breakfast\, along with vineyard tours\, activities\, and demonstrations! What a great opportunity for a family outing!\nLocated just south of Glenwood\, Rolling Forks Vineyards is a family owned vineyard with picturesque views of Lake Minnewaska. They would love visitors to share their story with!\nFood will be served from 8 – 11 am (or until the food runs out)\, and activities will last until noon! We hope to see you there!
URL:https://morrismnchamber.org/community-event/pope-county-farm-bureau-breakfast-on-the-farm/
LOCATION:Rolling Forks Vineyards\, 21505 Selnes Road\, Glenwood MN\, 56334
CATEGORIES:Community Event
ATTACH;FMTTYPE=image/png:https://morrismnchamber.org/wp-content/uploads/2022/06/bof-2022-logo-red.png
END:VEVENT
BEGIN:VEVENT
DTSTART;VALUE=DATE:20220820
DTEND;VALUE=DATE:20220821
DTSTAMP:20260419T165539
CREATED:20220715T205328Z
LAST-MODIFIED:20220720T183250Z
UID:6199-1660953600-1661039999@morrismnchamber.org
SUMMARY:UMN Morris Move in Day
DESCRIPTION:The University of Minnesota Morris will be welcoming new students to campus for the 2022-2023 school year
URL:https://morrismnchamber.org/community-event/umn-morris-move-in-day/
LOCATION:University of Minnesota Morris\, 600 E 4th St\, Morris\, MN\, 56267
CATEGORIES:Community Event
ATTACH;FMTTYPE=image/png:https://morrismnchamber.org/wp-content/uploads/2022/07/m-morris.png
ORGANIZER;CN="University of Minnesota Morris":MAILTO:dietersm@morris.umn.edu
END:VEVENT
BEGIN:VEVENT
DTSTART;TZID=America/Chicago:20220811T180000
DTEND;TZID=America/Chicago:20220811T200000
DTSTAMP:20260419T165539
CREATED:20220803T225731Z
LAST-MODIFIED:20220804T113028Z
UID:6240-1660240800-1660248000@morrismnchamber.org
SUMMARY:John George Larson reception
DESCRIPTION:Out of Clay\nby John George Larson\nJuly 28 – September 3\, 2022 \nIn-Person Reception August 11\, 2022\, 6-8PM\nArtist talk: 6:30PM \nJoin us for the artist talk via Zoom! Link on website.
URL:https://morrismnchamber.org/community-event/john-george-larson-reception/
LOCATION:Prairie Renaissance Cultural Alliance\, 630 Atlantic Ave\, Morris\, 56267
ATTACH;FMTTYPE=image/jpeg:https://morrismnchamber.org/wp-content/uploads/2022/08/john-george-larson-poster-2022-page-001-791x1024-1.jpg
ORGANIZER;CN="Prairie Renaissance Cultural Alliance":MAILTO:prca@prairierenaissance.org
END:VEVENT
BEGIN:VEVENT
DTSTART;TZID=America/Chicago:20220729T100000
DTEND;TZID=America/Chicago:20220729T170000
DTSTAMP:20260419T165539
CREATED:20220617T141716Z
LAST-MODIFIED:20220617T142646Z
UID:5654-1659088800-1659114000@morrismnchamber.org
SUMMARY:Friends of the Morris Public Library Book Sale
DESCRIPTION:Annual book sale fundraiser for the Friends of the Morris Public Library. Funds from the annual book sale go directly into MPL programming\, collections\, and events!
URL:https://morrismnchamber.org/community-event/friends-of-the-morris-public-library-book-sale/
LOCATION:Morris Public Library\, 102 E 6th St.\, Morris\, 56267
END:VEVENT
BEGIN:VEVENT
DTSTART;TZID=America/Chicago:20220728T190000
DTEND;TZID=America/Chicago:20220728T200000
DTSTAMP:20260419T165539
CREATED:20220620T175036Z
LAST-MODIFIED:20220621T153959Z
UID:5721-1659034800-1659038400@morrismnchamber.org
SUMMARY:Maus: A Survivor's Tale book club series
DESCRIPTION:Book Club Series\nMaus: A Survivor’s Tale \nOpen to Teens and Adults\nDiscussion held in the library meeting room. Please pre-register. Copies are available to check out at the library.\nMaus is a nonfiction book presented in the graphic novel style\, written by American cartoonist Art Spiegelman. Serialized from 1980 to 1991\, it depicts Spiegelman interviewing his father about his experiences as a Polish Jew and Holocaust survivor. \nThursday\, June 30th at 7PM\nMaus I by Art Spiegelman \nThursday\, July 28th at 7PM\nMaus II by Art Spiegelman
URL:https://morrismnchamber.org/community-event/maus-a-survivors-tale-book-club-series/
LOCATION:Morris Public Library\, 102 E 6th St.\, Morris\, 56267
ORGANIZER;CN="Morris Public Libary":MAILTO:morrispublib@gmail.com
END:VEVENT
BEGIN:VEVENT
DTSTART;TZID=America/Chicago:20220728T160000
DTEND;TZID=America/Chicago:20220728T200000
DTSTAMP:20260419T165539
CREATED:20220414T140611Z
LAST-MODIFIED:20220414T140803Z
UID:5354-1659024000-1659038400@morrismnchamber.org
SUMMARY:Horticulture Night
DESCRIPTION:Join us for our largest event of the year! Horticulture Night offers several hands-on gardening demonstrations and horticulture presentations\, all in the beauty of the Horticulture Display Garden. Featuring Keynote speaker\, Dr. Mark Seeley\, U of MN Climatologist and Meteorologist. Food and vendor booths available\, farm tours\, and live music. Open to the public; no admission fee. Registration upon arrival.
URL:https://morrismnchamber.org/community-event/horticulture-night-2/
LOCATION:West Central Research and Outreach Center\, 46352 State Hwy 329\, Morris\, 56267
CATEGORIES:Community Event
ATTACH;FMTTYPE=image/jpeg:https://morrismnchamber.org/wp-content/uploads/2022/04/maes-20130725-58395.jpg
ORGANIZER;CN="West Central Research and Outreach Center":MAILTO:ejordan@umn.edu
END:VEVENT
BEGIN:VEVENT
DTSTART;TZID=America/Chicago:20220728T103000
DTEND;TZID=America/Chicago:20220728T110000
DTSTAMP:20260419T165539
CREATED:20220620T172953Z
LAST-MODIFIED:20220621T154037Z
UID:5713-1659004200-1659006000@morrismnchamber.org
SUMMARY:Storytime at Morris Public Library
DESCRIPTION:Story Time on the Lawn! with Peter Bremer\nThursdays at 10:30AM\nBring lawn chairs or blankets for our weekly story time series on the library lawn.
URL:https://morrismnchamber.org/community-event/storytime-at-morris-public-library/
LOCATION:Morris Public Library\, 102 E 6th St.\, Morris\, 56267
ORGANIZER;CN="Morris Public Libary":MAILTO:morrispublib@gmail.com
END:VEVENT
BEGIN:VEVENT
DTSTART;TZID=America/Chicago:20220728T100000
DTEND;TZID=America/Chicago:20220728T180000
DTSTAMP:20260419T165539
CREATED:20220617T141628Z
LAST-MODIFIED:20220617T142652Z
UID:5653-1659002400-1659031200@morrismnchamber.org
SUMMARY:Friends of the Morris Public Library Book Sale
DESCRIPTION:Annual book sale fundraiser for the Friends of the Morris Public Library. Funds from the annual book sale go directly into MPL programming\, collections\, and events!
URL:https://morrismnchamber.org/community-event/friends-of-the-morris-public-library-book-sale-2/
LOCATION:Morris Public Library\, 102 E 6th St.\, Morris\, 56267
END:VEVENT
BEGIN:VEVENT
DTSTART;TZID=America/Chicago:20220727T180000
DTEND;TZID=America/Chicago:20220727T190000
DTSTAMP:20260419T165539
CREATED:20220620T173712Z
LAST-MODIFIED:20220621T154022Z
UID:5715-1658944800-1658948400@morrismnchamber.org
SUMMARY:Edible Book Contest at Morris Public Library
DESCRIPTION:Edible Book Contest\nWednesday\, July 27th\, 6 – 7PM\nGet creative and design edible art that has something to do with a book/books in shape or content for this contest judged by Johanna Franey of Creative Confections.  \nPlease bring a copy of the inspiration material to display next to your creation.\nPeople may work alone or in teams of up to 3 people.\nCreations must be completely edible. However\, toothpicks or skewers may be used for structural support and cupcakes may have paper shells.\nPlease list any possible allergens.\nEntries should be brought to the library before 6:00 PM on July 27th. Judging and public viewing of the creations will be from 6 to 6:30PM\, with winners will be announced shortly after 6:30PM. Finally\, the creations will be cut into and sampled. \nPick up a sheet with complete rules at the library desk.
URL:https://morrismnchamber.org/community-event/edible-book-contest-at-morris-public-library/
LOCATION:Morris Public Library\, 102 E 6th St.\, Morris\, 56267
ATTACH;FMTTYPE=image/png:https://morrismnchamber.org/wp-content/uploads/2022/06/bingo-1.png
ORGANIZER;CN="Morris Public Libary":MAILTO:morrispublib@gmail.com
END:VEVENT
BEGIN:VEVENT
DTSTART;TZID=America/Chicago:20220727T110000
DTEND;TZID=America/Chicago:20220727T140000
DTSTAMP:20260419T165539
CREATED:20220617T142828Z
LAST-MODIFIED:20220617T142950Z
UID:5670-1658919600-1658930400@morrismnchamber.org
SUMMARY:Crazy Days Food Court
DESCRIPTION:Find the food on Oregon Avenue on the side of the Library!
URL:https://morrismnchamber.org/community-event/crazy-days-food-court/
ORGANIZER;CN="Morris Area Chamber of Commerce":MAILTO:morrismnchamber@gmail.com
END:VEVENT
BEGIN:VEVENT
DTSTART;TZID=America/Chicago:20220727T100000
DTEND;TZID=America/Chicago:20220727T180000
DTSTAMP:20260419T165539
CREATED:20220617T141432Z
LAST-MODIFIED:20220617T142657Z
UID:5645-1658916000-1658944800@morrismnchamber.org
SUMMARY:Friends of the Morris Public Library Book Sale
DESCRIPTION:Annual book sale fundraiser for the Friends of the Morris Public Library. Funds from the annual book sale go directly into MPL programming\, collections\, and events!
URL:https://morrismnchamber.org/community-event/friends-of-the-morris-public-library-book-sale-3/
LOCATION:Morris Public Library\, 102 E 6th St.\, Morris\, 56267
ATTACH;FMTTYPE=image/png:https://morrismnchamber.org/wp-content/uploads/2022/06/fompl-book-sale-2022-poster-final.png
END:VEVENT
BEGIN:VEVENT
DTSTART;VALUE=DATE:20220727
DTEND;VALUE=DATE:20220728
DTSTAMP:20260419T165539
CREATED:20220617T142413Z
LAST-MODIFIED:20220617T201937Z
UID:5660-1658880000-1658966399@morrismnchamber.org
SUMMARY:Crazy Days
DESCRIPTION:The Morris Area Chamber is excited to host Crazy Days 2022!\n🛍Stores open at 7am!\n⚽️Kids activities and games in the library lawn from 10am-1pm\n🍔Food Court open on Oregon Ave 11am-2pm
URL:https://morrismnchamber.org/community-event/crazy-days/
ORGANIZER;CN="Morris Area Chamber of Commerce":MAILTO:morrismnchamber@gmail.com
END:VEVENT
BEGIN:VEVENT
DTSTART;TZID=America/Chicago:20220726T190000
DTEND;TZID=America/Chicago:20220726T200000
DTSTAMP:20260419T165539
CREATED:20220620T175615Z
LAST-MODIFIED:20220621T153943Z
UID:5723-1658862000-1658865600@morrismnchamber.org
SUMMARY:Book Club at Morris Public Library
DESCRIPTION:Afro-Futurism/Sci-fi/Fantasy (ASFF) Book Club\nOpen to Teens and Adults\nHeld in the library meeting room\, with hybrid meeting option available. Please pre-register. \nTuesday\, July 26th\, 7 – 8PM\nWitchmark by C.L. Polk \nWitchmark is a 2018 fantasy novel by Canadian author C. L. Polk. It features a murder mystery set in an alternate history England\, and has been described as gaslamp fantasy. Witchmark won the World Fantasy Award for Best Novel in 2019
URL:https://morrismnchamber.org/community-event/book-club-at-morris-public-library/
LOCATION:Morris Public Library\, 102 E 6th St.\, Morris\, 56267
ORGANIZER;CN="Morris Public Libary":MAILTO:morrispublib@gmail.com
END:VEVENT
BEGIN:VEVENT
DTSTART;TZID=America/Chicago:20220723T120000
DTEND;TZID=America/Chicago:20220723T130000
DTSTAMP:20260419T165539
CREATED:20220620T175225Z
LAST-MODIFIED:20220621T153949Z
UID:5722-1658577600-1658581200@morrismnchamber.org
SUMMARY:Kids Graphic Novel Book Club
DESCRIPTION:Join Anne and read some fantastic graphic novels this summer! Open to Elementary age school kids. Bring a lunch or a snack. You can pick up a copy at the library desk. Call 320-589-1634 or come into the library to register.\nPerfect for fans of Raina Telgemeier\, Cece Bell\, and Victoria Jamieson\, Vera Brosgol’s Be Prepared is a funny and relatable middle-grade graphic novel about navigating your own culture\, struggling to belong\, and the value of true friendship
URL:https://morrismnchamber.org/community-event/kids-graphic-novel-book-club-2/
LOCATION:Morris Public Library\, 102 E 6th St.\, Morris\, 56267
ORGANIZER;CN="Morris Public Libary":MAILTO:morrispublib@gmail.com
END:VEVENT
BEGIN:VEVENT
DTSTART;TZID=America/Chicago:20220722T130000
DTEND;TZID=America/Chicago:20220722T150000
DTSTAMP:20260419T165539
CREATED:20220718T212436Z
LAST-MODIFIED:20220720T183245Z
UID:6201-1658494800-1658502000@morrismnchamber.org
SUMMARY:Family Movie Matinee
DESCRIPTION:Join us for Family Flicks \nJuly 22nd\nThe Bad Guys (2022)\, rated PG. 1h 40m \nAfter a lifetime of legendary heists\, notorious criminals Mr. Wolf\, Mr. Snake\, Mr. Piranha\, Mr. Shark and Ms. Tarantula are finally caught. To avoid a prison sentence\, the animal outlaws must pull off their most challenging con yet — becoming model citizens. Under the tutelage of their mentor\, Professor Marmalade\, the dubious gang sets out to fool the world that they’re turning good. \nMovies rated PG and geared toward all ages with some camp and outdoor themes! Popcorn and drinks provided.\nThis project was funded in part or in whole with monies from Minnesota’s Arts and Cultural Heritage fund. This program is sponsored by Morris Public Library and Viking Library System
URL:https://morrismnchamber.org/community-event/family-movie-matinee-5/
LOCATION:Morris Public Library\, 102 E 6th St.\, Morris\, 56267
ATTACH;FMTTYPE=image/png:https://morrismnchamber.org/wp-content/uploads/2022/07/posters.png
ORGANIZER;CN="Morris Public Libary":MAILTO:morrispublib@gmail.com
END:VEVENT
BEGIN:VEVENT
DTSTART;TZID=America/Chicago:20220721T103000
DTEND;TZID=America/Chicago:20220721T110000
DTSTAMP:20260419T165539
CREATED:20220620T172911Z
LAST-MODIFIED:20220621T154042Z
UID:5712-1658399400-1658401200@morrismnchamber.org
SUMMARY:Storytime at Morris Public Library
DESCRIPTION:Story Time on the Lawn! with Ranger Randee Hokanson.\nThursdays at 10:30AM\nBring lawn chairs or blankets for our weekly story time series on the library lawn.
URL:https://morrismnchamber.org/community-event/storytime-at-morris-public-library-2/
LOCATION:Morris Public Library\, 102 E 6th St.\, Morris\, 56267
ORGANIZER;CN="Morris Public Libary":MAILTO:morrispublib@gmail.com
END:VEVENT
BEGIN:VEVENT
DTSTART;TZID=America/Chicago:20220720T160000
DTEND;TZID=America/Chicago:20220720T190000
DTSTAMP:20260419T165539
CREATED:20220620T173224Z
LAST-MODIFIED:20220621T154028Z
UID:5714-1658332800-1658343600@morrismnchamber.org
SUMMARY:Game Night at Morris Public Library
DESCRIPTION:Game Night!\nWednesday\, July 20th\, 4 – 7PM\nDrop in anytime\, by yourself or with a group\, and play your favorite games\, or try some new ones! Held in the library meeting room. Pizza provided by Pizza Ranch!
URL:https://morrismnchamber.org/community-event/game-night-at-morris-public-library/
LOCATION:Morris Public Library\, 102 E 6th St.\, Morris\, 56267
ORGANIZER;CN="Morris Public Libary":MAILTO:morrispublib@gmail.com
END:VEVENT
BEGIN:VEVENT
DTSTART;TZID=America/Chicago:20220720T130000
DTEND;TZID=America/Chicago:20220720T140000
DTSTAMP:20260419T165539
CREATED:20220602T184132Z
LAST-MODIFIED:20220603T171516Z
UID:5541-1658322000-1658325600@morrismnchamber.org
SUMMARY:Creative Writing for Teens & Adults with Brent Olson
DESCRIPTION:“Finding your voice by finding your stories.” Creative Writing Workshops with Brent Olson\nPlease pre-register. Through a series of fast paced\, entertaining exercises\, award winning author Brent Olson will not only help polish your writing\, but also help you discover the stories you might not know you carry deep within. \nWednesday\, July 20th\, 1PM\nOpen to Teens and Adults
URL:https://morrismnchamber.org/community-event/creative-writing-for-teens-adults-with-brent-olson/
LOCATION:Morris Public Library\, 102 E 6th St.\, Morris\, 56267
ATTACH;FMTTYPE=image/jpeg:https://morrismnchamber.org/wp-content/uploads/2022/06/283078704-5351898928164049-6896371246085782949-n.jpg
ORGANIZER;CN="Morris Public Libary":MAILTO:morrispublib@gmail.com
END:VEVENT
BEGIN:VEVENT
DTSTART;TZID=America/Chicago:20220719T170000
DTEND;TZID=America/Chicago:20220719T193000
DTSTAMP:20260419T165539
CREATED:20220627T192714Z
LAST-MODIFIED:20220627T193634Z
UID:5778-1658250000-1658259000@morrismnchamber.org
SUMMARY:Kids 'N Kinship Garden Gala
DESCRIPTION:All are welcome to the Kids ‘N Kinship Garden Gala is a community event and fundraiser all in one! Enjoy a meal from Mi Mexico for a free will donation and root beer floats from Bank of the West! There are free children’s activities including face painting and crafts. \nNew this year! Join us for the Story Walk! West Central Initiative has created a children’s book that highlights White Earth and the nine counties in their region called “Let’s Go! Ten Adventures through West Central Minnesota”.  The Story Walk will bring the pages of the book to life.  Families with children birth to age 5 will receive a copy of the book to take home.  In case of inclement weather this event will be held at the AgCountry Auditorium and look for more details to come.
URL:https://morrismnchamber.org/community-event/kids-n-kinship-garden-gala/
LOCATION:horticulture gardens\, 46352 MN-329\, Morris\, 56267
CATEGORIES:Community Event
ATTACH;FMTTYPE=image/jpeg:https://morrismnchamber.org/wp-content/uploads/2022/06/eventflyer2022.jpg
ORGANIZER;CN="RUSC Kinship Mentoring":MAILTO:rusckinship@gmail.com
END:VEVENT
BEGIN:VEVENT
DTSTART;TZID=America/Chicago:20220715T130000
DTEND;TZID=America/Chicago:20220715T143000
DTSTAMP:20260419T165539
CREATED:20220602T202226Z
LAST-MODIFIED:20220603T171438Z
UID:5551-1657890000-1657895400@morrismnchamber.org
SUMMARY:Movie Matinee
DESCRIPTION:Join us for Teen/Adult Flicks \nJuly 15th\nMoonrise Kingdom Rated PG-13\nRun time: 1h 33m \nSummary: Moonrise Kingdom is a 2012 American coming-of-age comedy-drama film directed by Wes Anderson\, written by Anderson and Roman Coppola\, and starring Bruce Willis\, Edward Norton\, Bill Murray\, Frances McDormand\, Tilda Swinton\, Jason Schwartzman\, Bob Balaban\, and introducing Jared Gilman and Kara Hayward \nMovies rated PG-13 and geared toward teens and adults with some camp and outdoor themes! Popcorn and drinks provided.\nThis project was funded in part or in whole with monies from Minnesota’s Arts and Cultural Heritage fund. This program is sponsored by Morris Public Library and Viking Library System
URL:https://morrismnchamber.org/community-event/movie-matinee/
LOCATION:Morris Public Library\, 102 E 6th St.\, Morris\, 56267
ATTACH;FMTTYPE=image/jpeg:https://morrismnchamber.org/wp-content/uploads/2022/06/1mki5ufecetrb3hzbyt6vtn7k9m.jpg
ORGANIZER;CN="Morris Public Libary":MAILTO:morrispublib@gmail.com
END:VEVENT
BEGIN:VEVENT
DTSTART;TZID=America/Chicago:20220714T103000
DTEND;TZID=America/Chicago:20220714T110000
DTSTAMP:20260419T165539
CREATED:20220620T172816Z
LAST-MODIFIED:20220621T154048Z
UID:5711-1657794600-1657796400@morrismnchamber.org
SUMMARY:Storytime at Morris Public Library
DESCRIPTION:Story Time on the Lawn! with Naomi Skulan.\nThursdays at 10:30AM\nBring lawn chairs or blankets for our weekly story time series on the library lawn.
URL:https://morrismnchamber.org/community-event/storytime-at-morris-public-library-5/
LOCATION:Morris Public Library\, 102 E 6th St.\, Morris\, 56267
ORGANIZER;CN="Morris Public Libary":MAILTO:morrispublib@gmail.com
END:VEVENT
BEGIN:VEVENT
DTSTART;TZID=America/Chicago:20220713T180000
DTEND;TZID=America/Chicago:20220713T200000
DTSTAMP:20260419T165539
CREATED:20220620T174417Z
LAST-MODIFIED:20220621T154011Z
UID:5718-1657735200-1657742400@morrismnchamber.org
SUMMARY:Cake Mix Box Books Class
DESCRIPTION:Cake Mix Box Books Class\nWednesday\, July 13th\, 6PM-8PM\nPre-registration required. Space is limited to 10 Participants. Geared toward Teens and Adults only.  Call 320-589-1634 \nLibrarian Angie Vetsch will teach basic bookbinding techniques and stitches to turn recycled cake mix (or other fun) food packaging into notebooks.
URL:https://morrismnchamber.org/community-event/cake-mix-box-books-class/
LOCATION:Morris Public Library\, 102 E 6th St.\, Morris\, 56267
ATTACH;FMTTYPE=image/png:https://morrismnchamber.org/wp-content/uploads/2022/06/bingo-3.png
ORGANIZER;CN="Morris Public Libary":MAILTO:morrispublib@gmail.com
END:VEVENT
BEGIN:VEVENT
DTSTART;TZID=America/Chicago:20220709T130000
DTEND;TZID=America/Chicago:20220709T150000
DTSTAMP:20260419T165539
CREATED:20220620T174218Z
LAST-MODIFIED:20220621T154016Z
UID:5717-1657371600-1657378800@morrismnchamber.org
SUMMARY:Paint a Selfie like Frida Kahlo! Art Class
DESCRIPTION:Paint a Selfie like Frida Kahlo!\nSaturday\, July 9th\, 1 – 3PM\nPre-registration required. Space is limited to 10 participants. 3rd grade and up.  Call 320-589-1634 \nStudents will learn about the Mexican artist Frida Kahlo and create art work in the style of Kahlo’s portraiture. Materials provided.
URL:https://morrismnchamber.org/community-event/paint-a-selfie-like-frida-kahlo-art-class/
LOCATION:Morris Public Library\, 102 E 6th St.\, Morris\, 56267
ORGANIZER;CN="Morris Public Libary":MAILTO:morrispublib@gmail.com
END:VEVENT
BEGIN:VEVENT
DTSTART;TZID=America/Chicago:20220708T170000
DTEND;TZID=America/Chicago:20220708T190000
DTSTAMP:20260419T165539
CREATED:20220630T153121Z
LAST-MODIFIED:20220720T183258Z
UID:5798-1657299600-1657306800@morrismnchamber.org
SUMMARY:PRCA Juried Exhibition Reception
DESCRIPTION:Making Your Place\nJuried exhibition\nVarious artists\nJune 9 – July 16 \, 2022 \nReception July 8\, 5-7PM \nThe theme of this show focuses on art that defines your place and the qualities that distinguish it from other places. The theme can be as broad as your region and its ecology\, physical aspects\, climate\, or particular nature. The theme can be as narrow as your physical space and your unique response to place. \n630 Atlantic Ave\nMorris\, MN 56267 \nThis activity is funded in part by a grant from the Lake Region Arts Council through a Minnesota State Legislative appropriation.
URL:https://morrismnchamber.org/community-event/prca-juried-exhibition-reception/
LOCATION:Prairie Renaissance Cultural Alliance\, 630 Atlantic Ave\, Morris\, 56267
ATTACH;FMTTYPE=image/jpeg:https://morrismnchamber.org/wp-content/uploads/2022/06/making-your-place-poster-page-001-791x1024-1.jpg
ORGANIZER;CN="Prairie Renaissance Cultural Alliance":MAILTO:prca@prairierenaissance.org
END:VEVENT
BEGIN:VEVENT
DTSTART;TZID=America/Chicago:20220708T130000
DTEND;TZID=America/Chicago:20220708T150000
DTSTAMP:20260419T165539
CREATED:20220602T201930Z
LAST-MODIFIED:20220603T171446Z
UID:5549-1657285200-1657292400@morrismnchamber.org
SUMMARY:Family Movie Matinee
DESCRIPTION:Join us for Family Flicks \nJuly 8th\nThe Parent Trap (1998) PG\nRun time: 2h 8min \nSummary: In this update of a 1961 film\, twins Annie and Hallie (Lindsay Lohan) are strangers until happenstance unites them. The preteen girls’ divorced parents\, Nick (Dennis Quaid) and Elizabeth (Natasha Richardson)\, are living on opposite sides of the Atlantic\, each with one child. After meeting at camp\, American Hallie and British-raised Annie engineer an identity swap\, giving both the chance to spend time with the parent they’ve missed. If the scheme works\, it might just make the family whole again. \nMovies rated PG and geared toward all ages with some camp and outdoor themes! Popcorn and drinks provided.\nThis project was funded in part or in whole with monies from Minnesota’s Arts and Cultural Heritage fund. This program is sponsored by Morris Public Library and Viking Library System
URL:https://morrismnchamber.org/community-event/family-movie-matinee/
LOCATION:Morris Public Library\, 102 E 6th St.\, Morris\, 56267
ATTACH;FMTTYPE=image/jpeg:https://morrismnchamber.org/wp-content/uploads/2022/06/mgid-ao-image-mtv.jpg
ORGANIZER;CN="Morris Public Libary":MAILTO:morrispublib@gmail.com
END:VEVENT
BEGIN:VEVENT
DTSTART;TZID=America/Chicago:20220707T103000
DTEND;TZID=America/Chicago:20220707T110000
DTSTAMP:20260419T165539
CREATED:20220620T172720Z
LAST-MODIFIED:20220621T154057Z
UID:5710-1657189800-1657191600@morrismnchamber.org
SUMMARY:Storytime at Morris Public Library
DESCRIPTION:Story Time on the Lawn! with Stevens County 4-H\nThursdays at 10:30AM\nBring lawn chairs or blankets for our weekly story time series on the library lawn.
URL:https://morrismnchamber.org/community-event/storytime-at-morris-public-library-6/
LOCATION:Morris Public Library\, 102 E 6th St.\, Morris\, 56267
ORGANIZER;CN="Morris Public Libary":MAILTO:morrispublib@gmail.com
END:VEVENT
END:VCALENDAR