BEGIN:VCALENDAR
VERSION:2.0
PRODID:-//Morris Area Chamber of Commerce - ECPv6.15.15//NONSGML v1.0//EN
CALSCALE:GREGORIAN
METHOD:PUBLISH
X-WR-CALNAME:Morris Area Chamber of Commerce
X-ORIGINAL-URL:https://morrismnchamber.org
X-WR-CALDESC:Events for Morris Area Chamber of Commerce
REFRESH-INTERVAL;VALUE=DURATION:PT1H
X-Robots-Tag:noindex
X-PUBLISHED-TTL:PT1H
BEGIN:VTIMEZONE
TZID:America/Chicago
BEGIN:DAYLIGHT
TZOFFSETFROM:-0600
TZOFFSETTO:-0500
TZNAME:CDT
DTSTART:20200308T080000
END:DAYLIGHT
BEGIN:STANDARD
TZOFFSETFROM:-0500
TZOFFSETTO:-0600
TZNAME:CST
DTSTART:20201101T070000
END:STANDARD
BEGIN:DAYLIGHT
TZOFFSETFROM:-0600
TZOFFSETTO:-0500
TZNAME:CDT
DTSTART:20210314T080000
END:DAYLIGHT
BEGIN:STANDARD
TZOFFSETFROM:-0500
TZOFFSETTO:-0600
TZNAME:CST
DTSTART:20211107T070000
END:STANDARD
BEGIN:DAYLIGHT
TZOFFSETFROM:-0600
TZOFFSETTO:-0500
TZNAME:CDT
DTSTART:20220313T080000
END:DAYLIGHT
BEGIN:STANDARD
TZOFFSETFROM:-0500
TZOFFSETTO:-0600
TZNAME:CST
DTSTART:20221106T070000
END:STANDARD
END:VTIMEZONE
BEGIN:VEVENT
DTSTART;VALUE=DATE:20210710
DTEND;VALUE=DATE:20210711
DTSTAMP:20260420T143420
CREATED:20210628T140522Z
LAST-MODIFIED:20210628T140522Z
UID:3437-1625875200-1625961599@morrismnchamber.org
SUMMARY:American Legion Riders Ride & Hog Roast
DESCRIPTION:Ride with meal & Door Prizes to follow\nRegistration 10:00 AM\nKickstands up 10:30PM\nReturn 5:00PM\nDJ Kim Wolf 8:00PM-Midnight\nThis is a Fundraising event to benefit Miss Morris Scholarship and future benefits
URL:https://morrismnchamber.org/community-event/american-legion-riders-ride-hog-roast/
CATEGORIES:Community Event
ATTACH;FMTTYPE=image/jpeg:https://morrismnchamber.org/wp-content/uploads/2021/06/legion-riders-hog-roast.jpg
END:VEVENT
BEGIN:VEVENT
DTSTART;VALUE=DATE:20210710
DTEND;VALUE=DATE:20210711
DTSTAMP:20260420T143420
CREATED:20210616T150854Z
LAST-MODIFIED:20210616T150854Z
UID:3374-1625875200-1625961599@morrismnchamber.org
SUMMARY:Makers Art Festival
DESCRIPTION:Get ready for a one-day art & making extravaganza in Morris\, Minnesota!  Mark your calendars for Saturday\, July 10\, 2021! \nWe received a grant through the Lake Region Arts Council to provide a community-building event centered around the notions of making\, artistic experiences\, and healthy communities. \nHere is a taste of what’s to come! \n– Demonstration of how to paint a barn quilt at the museum \n– Unveiling of the new Stevens County mural at the museum \n– Rock painting and fluid painting through the Prairie Renaissance Cultural Alliance (PRCA) in East Side Park \n– Samples of local food at Stone’s Throw Café \n– Card making classes at the museum \n– Music by local musicians at East Side Park \n– An exhibition by Michael Weatherly at the PRCA gallery \n– A community mural painting project behind Stone’s Throw Café \n– Take-and-make sun prints kits from the Morris Public Library \n– A farmers market on the lawn in front of the library (Sign up online to have a booth!) \n– Demonstration of using pastels by artist Faythe Mills at the PRCA gallery \n– A knitting circle in East Side Park \n– Art vendors in East Side Park (Sign up online to have an artist booth!) \n– A reception for the art exhibit\, Horizontal Grandeur\, at the museum (7-8pm) \n– Music on the museum lawn (6-7pm) \n– And MORE!  Check out our event site for more details at www.stevenshistorymuseum.com/makers-art-festival \n“This activity is made possible by the voters of Minnesota through grants from the Lake Region Arts Council\, thanks to a legislative appropriation from the Arts and Cultural Heritage fund.”
URL:https://morrismnchamber.org/community-event/makers-art-festival/
LOCATION:Stevens County Historical Society &amp; Museum\, 116 W 6th St\, Morris\, MN\, 56267\, United States
CATEGORIES:Community Event
ATTACH;FMTTYPE=image/png:https://morrismnchamber.org/wp-content/uploads/2021/06/makers-art-festival-small-logo-color.png
ORGANIZER;CN="Stevens County Historical Society &amp%3Bamp%3B Museum":MAILTO:info@stevenshistorymuseum.com
END:VEVENT
BEGIN:VEVENT
DTSTART;VALUE=DATE:20210709
DTEND;VALUE=DATE:20210716
DTSTAMP:20260420T143420
CREATED:20210709T151049Z
LAST-MODIFIED:20210709T151049Z
UID:3598-1625788800-1626393599@morrismnchamber.org
SUMMARY:Morris Theatre Movies July 9 - 15\, 2021
DESCRIPTION:Morris Theatre\nJuly 9 – 15\, 2021 \nBlack Widow \nMonday – Saturday 7:00PM & 9:15PM\nSunday 2:00PM & 4:15PM & 7:00PM & 9:15PM \nScarlett Johansson reprises her role as Natasha/Black Widow in Marvel Studios’ action-packed spy thriller “Black Widow”—the first film in Phase Four of the Marvel Cinematic Universe. Florence Pugh stars as Yelena\, David Harbour as Alexei aka The Red Guardian and Rachel Weisz as Melina. Directed by Cate Shortland and produced by Kevin Feige\, “Black Widow” hits U.S. theaters on June 9\, 2021.  Rated PG-13\, 133 minutes.  From Walt Disney. \nThe Boss Baby: Family Business \nMonday – Saturday 7:10PM & 9:30PM\nSunday 2:10PM & 4:30PM & 7:10PM & 9:30PM \nIn the sequel to DreamWorks Animation’s Oscar®-nominated blockbuster comedy\, the Templeton brothers—Tim (James Marsden\, X-Men franchise) and his Boss Baby little bro Ted (Alec Baldwin)—have become adults and drifted away from each other. Tim is now a married stay-at-home dad. Ted is a hedge fund CEO. But a new boss baby with a cutting-edge approach and a can-do attitude is about to bring them together again … and inspire a new family business.  Tim and his wife\, Carol (Eva Longoria)\, the breadwinner of the family\, live in the suburbs with their super-smart 7-year-old daughter Tabitha (Ariana Greenblatt\, Avengers: Infinity War)\, and adorable new infant Tina (Amy Sedaris\, Netflix’s BoJack Horseman). Tabitha\, who’s at the top her class at the prestigious Acorn Center for Advanced Childhood\, idolizes her Uncle Ted and wants to become like him\, but Tim\, still in touch with his overactive youthful imagination\, worries that she’s working too hard and is missing out on a normal childhood. When baby Tina reveals that she’s—ta-da!—a top secret agent for BabyCorp on a mission to uncover the dark secrets behind Tabitha’s school and its mysterious founder\, Dr. Edwin Armstrong (Jeff Goldblum)\, it will reunite the Templeton brothers in unexpected ways\, lead them to re-evaluate the meaning of family and discover what truly matters.  Lisa Kudrow and Jimmy Kimmel also reprise their roles as Ted and Tim’s parents. Building on the success of the first film\, which earned more than $500 million worldwide\, The Boss Baby: Family Business is directed by returning filmmaker Tom McGrath and is produced by Jeff Hermann (Kung Fu Panda 3).  Rated PG\, 107 minutes.  From Universal Pictures.
URL:https://morrismnchamber.org/community-event/morris-theatre-movies-july-9-15-2021/
END:VEVENT
BEGIN:VEVENT
DTSTART;TZID=America/Chicago:20210708T184500
DTEND;TZID=America/Chicago:20210708T193000
DTSTAMP:20260420T143420
CREATED:20210617T195325Z
LAST-MODIFIED:20210617T195325Z
UID:3394-1625769900-1625772600@morrismnchamber.org
SUMMARY:Yoga in the Gardens
DESCRIPTION:Come join RFC Yoga instructors for a relaxing Yoga session every Thursday evening\, 6:45 – 7:30 pm\, in the Horticulture Display Gardens at the West Central Research and Outreach Center!
URL:https://morrismnchamber.org/community-event/yoga-in-the-gardens-4/
ATTACH;FMTTYPE=image/jpeg:https://morrismnchamber.org/wp-content/uploads/2021/06/201978005-5751501368225111-9099324532043358491-n.jpg
END:VEVENT
BEGIN:VEVENT
DTSTART;TZID=America/Chicago:20210707T190000
DTEND;TZID=America/Chicago:20210707T200000
DTSTAMP:20260420T143420
CREATED:20210707T182229Z
LAST-MODIFIED:20210708T133830Z
UID:3544-1625684400-1625688000@morrismnchamber.org
SUMMARY:Bilingual Women’s Health Series/Serie Bilingüe de Salud de la Mujer
DESCRIPTION:Conexiones and ELC Fitness have created a free\, fun and educational series of bilingual classes about important women’s health topics! Join other women in the community to relax\, have fun\, and learn together! Check out the poster for more details.  \nConexiones y ELC Fitness están ofreciendo una serie de talleres gratuitos\, divertidos y educativos de clases bilingües sobre temas importantes acerca de la salud de la mujer. ¡Únase a otras mujeres de la comunidad para relajarse\, divertirse y aprender juntas!
URL:https://morrismnchamber.org/community-event/bilingual-womens-health-series-serie-bilingue-de-salud-de-la-mujer/
ORGANIZER;CN="Conexiones":MAILTO:autumnc@conexiones-mn.org
END:VEVENT
BEGIN:VEVENT
DTSTART;TZID=America/Chicago:20210707T190000
DTEND;TZID=America/Chicago:20210707T200000
DTSTAMP:20260420T143420
CREATED:20210707T182000Z
LAST-MODIFIED:20210708T200646Z
UID:3540-1625684400-1625688000@morrismnchamber.org
SUMMARY:Bilingual Women’s Health Series/ Serie Bilingüe de  Salud de la Mujer
DESCRIPTION:Conexiones and ELC Fitness have created a free\, fun and educational series of bilingual classes about important women’s health topics! Join other women in the community to relax\, have fun\, and learn together! Check out the poster for more details.  \nConexiones y ELC Fitness están ofreciendo una serie de talleres gratuitos\, divertidos y educativos de clases bilingües sobre temas importantes acerca de la salud de la mujer. ¡Únase a otras mujeres de la comunidad para relajarse\, divertirse y aprender juntas!
URL:https://morrismnchamber.org/community-event/bilingual-womens-health-series-serie-bilingue-de-salud-de-la-mujer-4/
CATEGORIES:Community Event
ATTACH;FMTTYPE=image/png:https://morrismnchamber.org/wp-content/uploads/2021/07/198708014-1204277676681724-4061682274398666697-n.png
ORGANIZER;CN="Conexiones":MAILTO:autumnc@conexiones-mn.org
END:VEVENT
BEGIN:VEVENT
DTSTART;TZID=America/Chicago:20210701T184500
DTEND;TZID=America/Chicago:20210701T193000
DTSTAMP:20260420T143420
CREATED:20210617T195307Z
LAST-MODIFIED:20210617T195307Z
UID:3392-1625165100-1625167800@morrismnchamber.org
SUMMARY:Yoga in the Gardens
DESCRIPTION:Come join RFC Yoga instructors for a relaxing Yoga session every Thursday evening\, 6:45 – 7:30 pm\, in the Horticulture Display Gardens at the West Central Research and Outreach Center!
URL:https://morrismnchamber.org/community-event/yoga-in-the-gardens-3/
ATTACH;FMTTYPE=image/jpeg:https://morrismnchamber.org/wp-content/uploads/2021/06/201978005-5751501368225111-9099324532043358491-n.jpg
END:VEVENT
BEGIN:VEVENT
DTSTART;TZID=America/Chicago:20210626T160000
DTEND;TZID=America/Chicago:20210626T220000
DTSTAMP:20260420T143420
CREATED:20210610T171529Z
LAST-MODIFIED:20210610T172427Z
UID:3320-1624723200-1624744800@morrismnchamber.org
SUMMARY:Conexiones Day
DESCRIPTION:An evening of culture & community! Enjoy games\, a traditional Mexican clothing fashion show\, food vendors\, Folkloric dance group\, taco eating contest and live music! 4pm-10pm at the Lee Community Center
URL:https://morrismnchamber.org/community-event/conexiones-day/
ATTACH;FMTTYPE=image/png:https://morrismnchamber.org/wp-content/uploads/2021/06/conexiones-day-2021-poster-eng.png
END:VEVENT
BEGIN:VEVENT
DTSTART;TZID=America/Chicago:20210625T140000
DTEND;TZID=America/Chicago:20210625T170000
DTSTAMP:20260420T143420
CREATED:20210526T170524Z
LAST-MODIFIED:20210526T173254Z
UID:3239-1624629600-1624640400@morrismnchamber.org
SUMMARY:1st Annual St. Mary's Education Fund Golf Tournament
DESCRIPTION:Tournament will have a Traditional 9 hole tournament and a Modified Par 3 tournament where golfers could use fling sticks as their club of choice.
URL:https://morrismnchamber.org/community-event/1st-annual-st-marys-education-fund-golf-tournament/
LOCATION:Pomme De Terre Golf Club\, 24860 State Hwy 9\, Morris\, MN\, 56267\, United States
CATEGORIES:Community Event
ATTACH;FMTTYPE=image/jpeg:https://morrismnchamber.org/wp-content/uploads/2021/05/st-marys-golf-tournament.jpg
ORGANIZER;CN="St. Mary's School":MAILTO:EndowmentFund@stmarysmorris.com
END:VEVENT
BEGIN:VEVENT
DTSTART;VALUE=DATE:20210625
DTEND;VALUE=DATE:20210702
DTSTAMP:20260420T143420
CREATED:20210621T215348Z
LAST-MODIFIED:20210622T152134Z
UID:3418-1624579200-1625183999@morrismnchamber.org
SUMMARY:Morris Theatre Movies June 25 - July 1\, 2021
DESCRIPTION:Morris Theatre\nJune 25 – July 1\, 2021 \nF9 – The Fast Saga \nMonday – Saturday 7:00PM & 9:00PM\nSunday 2:00PM & 4:00PM & 7:00PM & 9:00PM \nVin Diesel’s Dom Toretto is leading a quiet life off the grid with Letty and his son\, little Brian\, but they know that danger always lurks just over their peaceful horizon. This time\, that threat will force Dom to confront the sins of his past if he’s going to save those he loves most. His crew joins together to stop a world-shattering plot led by the most skilled assassin and high-performance driver they’ve ever encountered: a man who also happens to be Dom’s forsaken brother\, Jakob (John Cena\, next year’s The Suicide Squad).  Rated PG-13\, 143 minutes.  From Universal. \nPeter Rabbit 2: The Runaway \nMonday – Saturday 7:10PM & 9:40PM\nSunday 2:10PM & 4:40PM & 7:10PM & 9:40PM \nThe lovable rogue is back. Bea\, Thomas\, and the rabbits have created a makeshift family\, but despite his best efforts\, Peter can’t seem to shake his mischievous reputation. Adventuring out of the garden\, Peter finds himself in a world where his mischief is appreciated\, but when his family risks everything to come looking for him\, Peter must figure out what kind of bunny he wants to be.  Rated PG\, 93 minutes.  From Sony Pictures.
URL:https://morrismnchamber.org/community-event/morris-theatre-movies-june-25-july-1-2021/
END:VEVENT
BEGIN:VEVENT
DTSTART;TZID=America/Chicago:20210624T184500
DTEND;TZID=America/Chicago:20210624T193000
DTSTAMP:20260420T143420
CREATED:20210617T195143Z
LAST-MODIFIED:20210617T195224Z
UID:3390-1624560300-1624563000@morrismnchamber.org
SUMMARY:Yoga in the Gardens
DESCRIPTION:Come join RFC Yoga instructors for a relaxing Yoga session every Thursday evening\, 6:45 – 7:30 pm\, in the Horticulture Display Gardens at the West Central Research and Outreach Center!
URL:https://morrismnchamber.org/community-event/yoga-in-the-gardens-2/
ATTACH;FMTTYPE=image/jpeg:https://morrismnchamber.org/wp-content/uploads/2021/06/201978005-5751501368225111-9099324532043358491-n.jpg
END:VEVENT
BEGIN:VEVENT
DTSTART;TZID=America/Chicago:20210624T180000
DTEND;TZID=America/Chicago:20210624T200000
DTSTAMP:20260420T143420
CREATED:20210616T150946Z
LAST-MODIFIED:20210616T150946Z
UID:3370-1624557600-1624564800@morrismnchamber.org
SUMMARY:Art Reception
DESCRIPTION:Michael Weatherly’s art exhibition\, Behind the Door\, is now on display at the PRCA art gallery in downtown Morris! \nExhibition dates: June 3-July 17\, 2021\nIn-person reception: Thursday\, June 24 from 6-8pm with artist talk at 6:30pm \nFree and open to the public
URL:https://morrismnchamber.org/community-event/art-reception/
LOCATION:Prairie Renaissance Cultural Alliance\, 630 Atlantic Ave\, Morris\, 56267
CATEGORIES:Community Event
ATTACH;FMTTYPE=image/jpeg:https://morrismnchamber.org/wp-content/uploads/2021/06/screenshot-2021-06-16-094033.jpg
ORGANIZER;CN="Prairie Renaissance Cultural Alliance":MAILTO:prca@prairierenaissance.org
END:VEVENT
BEGIN:VEVENT
DTSTART;TZID=America/Chicago:20210624T173000
DTEND;TZID=America/Chicago:20210624T193000
DTSTAMP:20260420T143420
CREATED:20210609T171916Z
LAST-MODIFIED:20210609T171916Z
UID:3286-1624555800-1624563000@morrismnchamber.org
SUMMARY:FAMILY FUN NIGHT Aquatic Invasive  Species
DESCRIPTION:
URL:https://morrismnchamber.org/community-event/family-fun-night-aquatic-invasive-species/
LOCATION:Perkins Lake Access picnic shelter\, Morris\, 56267\, United States
CATEGORIES:Community Event
END:VEVENT
BEGIN:VEVENT
DTSTART;TZID=America/Chicago:20210623T170000
DTEND;TZID=America/Chicago:20210623T193000
DTSTAMP:20260420T143420
CREATED:20210610T142826Z
LAST-MODIFIED:20210610T171609Z
UID:3316-1624467600-1624476600@morrismnchamber.org
SUMMARY:RUSC Kinship Garden Gala
DESCRIPTION:RUSC Kinship Mentoring’s Community and Fundraising Event at Pomme de Terre Park. Call (320) 585-RUSC to learn more!
URL:https://morrismnchamber.org/community-event/rusc-kinship-garden-gala/
ATTACH;FMTTYPE=image/png:https://morrismnchamber.org/wp-content/uploads/2021/06/screenshot-2021-06-03-143723.png
END:VEVENT
BEGIN:VEVENT
DTSTART;TZID=America/Chicago:20210623T120000
DTEND;TZID=America/Chicago:20210623T130000
DTSTAMP:20260420T143420
CREATED:20210610T141540Z
LAST-MODIFIED:20210610T171615Z
UID:3314-1624449600-1624453200@morrismnchamber.org
SUMMARY:How to Give your Website a Makeover
DESCRIPTION:You don’t have to be a designer or developer to give your website a visual facelift. Images\, fonts\, and icons are huge opportunities to make your content stand out and have visitors take notice. With a few simple techniques\, you can give your site a contemporary look that stands out from the crowd.
URL:https://morrismnchamber.org/community-event/how-to-give-your-website-a-makeover/
LOCATION:Zoom Meeting
ATTACH;FMTTYPE=image/png:https://morrismnchamber.org/wp-content/uploads/2021/06/screenshot-2021-06-02-095257.png
END:VEVENT
BEGIN:VEVENT
DTSTART;TZID=America/Chicago:20210618T080000
DTEND;TZID=America/Chicago:20210618T180000
DTSTAMP:20260420T143420
CREATED:20210526T170054Z
LAST-MODIFIED:20210526T173301Z
UID:3235-1624003200-1624039200@morrismnchamber.org
SUMMARY:Ready\, Set\, Summer
DESCRIPTION:Who’s ready for SUMMER?! The Morris Area Chamber is excited to present the Ready\, Set\, Summer event on June 18th. Check out the stores in Morris to get all you need to be summer ready! \n\nHeartland Motor Company\nSecond Chance Boutique + Consignment\nInherit\, Co.\nB Inspired\nTown and Country\nWillies\nOld No. 1\nTwisted Ivy\nSweet Lily’s Flowers\nGimme Some Grilling
URL:https://morrismnchamber.org/community-event/ready-set-summer/
LOCATION:Downtown Morris
CATEGORIES:Chamber Event
ATTACH;FMTTYPE=image/jpeg:https://morrismnchamber.org/wp-content/uploads/2021/05/ready-set-summer.jpg
ORGANIZER;CN="Morris Area Chamber of Commerce":MAILTO:morrismnchamber@gmail.com
END:VEVENT
BEGIN:VEVENT
DTSTART;VALUE=DATE:20210618
DTEND;VALUE=DATE:20210625
DTSTAMP:20260420T143420
CREATED:20210618T142023Z
LAST-MODIFIED:20210618T142023Z
UID:3413-1623974400-1624579199@morrismnchamber.org
SUMMARY:Morris Theatre Movies June 18-24\, 2021
DESCRIPTION:Morris Theatre\nOPEN AGAIN!\nJune 18 – 24\, 2021 \nCruella \nMonday – Saturday 7:00PM & 9:00PM\nSunday 2:00PM & 4:00PM & 7:00PM & 9:00PM \nCruella\, which is set in 1970s London amidst the punk rock revolution\, follows a young grifter named Estella\, a clever and creative girl determined to make a name for herself with her designs. She befriends a pair of young thieves who appreciate her appetite for mischief\, and together they are able to build a life for themselves on the London streets. One day\, Estella’s flair for fashion catches the eye of the Baroness von Hellman\, a fashion legend who is devastatingly chic and terrifyingly haute. But their relationship sets in motion a course of events and revelations that will cause Estella to embrace her wicked side and become the raucous\, fashionable and revenge-bent Cruella.  Rated PG-13\, 134 minutes.  From Walt Disney Pictures. \nSpirit Untamed \nMonday – Saturday 7:10PM & 9:30PM\nSunday 2:10PM & 4:30PM & 7:10PM & 9:30PM \nLucky Prescott’s life is changed forever when she move from her home in the city to a small frontier town and befriends a wild mustang named Spirit.  Rated PG\, 87 minutes.  From Universal.
URL:https://morrismnchamber.org/community-event/morris-theatre-movies-june-18-24-2021/
END:VEVENT
BEGIN:VEVENT
DTSTART;TZID=America/Chicago:20210617T184500
DTEND;TZID=America/Chicago:20210617T193000
DTSTAMP:20260420T143420
CREATED:20210617T194425Z
LAST-MODIFIED:20210617T195058Z
UID:3387-1623955500-1623958200@morrismnchamber.org
SUMMARY:Yoga in the Gardens
DESCRIPTION:Come join RFC Yoga instructors for a relaxing Yoga session every Thursday evening\, 6:45 – 7:30 pm\, in the Horticulture Display Gardens at the West Central Research and Outreach Center!
URL:https://morrismnchamber.org/community-event/yoga-in-the-gardens/
ATTACH;FMTTYPE=image/jpeg:https://morrismnchamber.org/wp-content/uploads/2021/06/201978005-5751501368225111-9099324532043358491-n.jpg
END:VEVENT
BEGIN:VEVENT
DTSTART;TZID=America/Chicago:20210614T170000
DTEND;TZID=America/Chicago:20210614T190000
DTSTAMP:20260420T143420
CREATED:20210610T143005Z
LAST-MODIFIED:20210610T171621Z
UID:3318-1623690000-1623697200@morrismnchamber.org
SUMMARY:Bike Safety Night
DESCRIPTION:The Morris Police Department is hosting a Bike Safety Night in the Morris Area Elementary School parking lot. Helmets will be given away after a presentation on helmet safety.
URL:https://morrismnchamber.org/community-event/bike-safety-night/
ATTACH;FMTTYPE=image/png:https://morrismnchamber.org/wp-content/uploads/2021/06/screenshot-2021-06-03-150742.png
END:VEVENT
BEGIN:VEVENT
DTSTART;VALUE=DATE:20210611
DTEND;VALUE=DATE:20210618
DTSTAMP:20260420T143420
CREATED:20210611T183553Z
LAST-MODIFIED:20210611T190959Z
UID:3352-1623369600-1623974399@morrismnchamber.org
SUMMARY:Morris Theatre Movies June 11-17\, 2021
DESCRIPTION:Morris Theatre\nOPEN AGAIN!\nJune 11 – 17\, 2021 \nCruella \nMonday\, Tuesday & Wednesday 7:10PM & 9:00PM\nThursday\, Friday & Saturday 7:00PM & 9:10PM\nSunday 2:00PM & 4:10PM & 7:00PM & 9:10PM \nCruella\, which is set in 1970s London amidst the punk rock revolution\, follows a young grifter named Estella\, a clever and creative girl determined to make a name for herself with her designs. She befriends a pair of young thieves who appreciate her appetite for mischief\, and together they are able to build a life for themselves on the London streets. One day\, Estella’s flair for fashion catches the eye of the Baroness von Hellman\, a fashion legend who is devastatingly chic and terrifyingly haute. But their relationship sets in motion a course of events and revelations that will cause Estella to embrace her wicked side and become the raucous\, fashionable and revenge-bent Cruella.  Rated PG-13\, 134 minutes.  From Walt Disney Pictures. \nA Quite Place II \nMonday\, Tuesday & Wednesday 7:00PM & 9:40PM\nThursday\, Friday & Saturday 7:10PM & 9:30PM\nSunday 2:10PM & 4:30PM & 7:10PM & 9:30PM \nFollowing the deadly events at home\, the Abbott family (Emily Blunt\, Millicent Simmonds\, Noah Jupe) must now face the terrors of the outside world as they continue their fight for survival in silence. Forced to venture into the unknown\, they quickly realize that the creatures that hunt by sound are not the only threats that lurk beyond the sand path.  Rated PG-13\, 97 minutes.  From Paramount.
URL:https://morrismnchamber.org/community-event/morris-theatre-movies-june-11-17-2021/
LOCATION:New Venue\, 123 Main Street\, Alexandria\, MN\, 56308
ORGANIZER;CN="Morris Theatre Cooperative":MAILTO:manager@morristheatre.net
END:VEVENT
BEGIN:VEVENT
DTSTART;TZID=America/Chicago:20210603T183000
DTEND;TZID=America/Chicago:20210603T193000
DTSTAMP:20260420T143420
CREATED:20210526T154446Z
LAST-MODIFIED:20210526T173306Z
UID:3229-1622745000-1622748600@morrismnchamber.org
SUMMARY:Cozy Mystery Book Club\, Morris Public Library
DESCRIPTION:Join Roxane to discuss “Elementary\, She Read” by Vicky Delaney via Zoom.
URL:https://morrismnchamber.org/community-event/cozy-mystery-book-club-morris-public-library/
LOCATION:Zoom Meeting
CATEGORIES:Community Event
ATTACH;FMTTYPE=image/jpeg:https://morrismnchamber.org/wp-content/uploads/2021/05/cozy-mystery-book-club.jpg
ORGANIZER;CN="Morris Public Libary":MAILTO:morrispublib@gmail.com
END:VEVENT
END:VCALENDAR