BEGIN:VCALENDAR
VERSION:2.0
PRODID:-//Morris Area Chamber of Commerce - ECPv6.15.15//NONSGML v1.0//EN
CALSCALE:GREGORIAN
METHOD:PUBLISH
X-WR-CALNAME:Morris Area Chamber of Commerce
X-ORIGINAL-URL:https://morrismnchamber.org
X-WR-CALDESC:Events for Morris Area Chamber of Commerce
REFRESH-INTERVAL;VALUE=DURATION:PT1H
X-Robots-Tag:noindex
X-PUBLISHED-TTL:PT1H
BEGIN:VTIMEZONE
TZID:America/Chicago
BEGIN:DAYLIGHT
TZOFFSETFROM:-0600
TZOFFSETTO:-0500
TZNAME:CDT
DTSTART:20200308T080000
END:DAYLIGHT
BEGIN:STANDARD
TZOFFSETFROM:-0500
TZOFFSETTO:-0600
TZNAME:CST
DTSTART:20201101T070000
END:STANDARD
BEGIN:DAYLIGHT
TZOFFSETFROM:-0600
TZOFFSETTO:-0500
TZNAME:CDT
DTSTART:20210314T080000
END:DAYLIGHT
BEGIN:STANDARD
TZOFFSETFROM:-0500
TZOFFSETTO:-0600
TZNAME:CST
DTSTART:20211107T070000
END:STANDARD
BEGIN:DAYLIGHT
TZOFFSETFROM:-0600
TZOFFSETTO:-0500
TZNAME:CDT
DTSTART:20220313T080000
END:DAYLIGHT
BEGIN:STANDARD
TZOFFSETFROM:-0500
TZOFFSETTO:-0600
TZNAME:CST
DTSTART:20221106T070000
END:STANDARD
END:VTIMEZONE
BEGIN:VEVENT
DTSTART;TZID=America/Chicago:20210617T184500
DTEND;TZID=America/Chicago:20210617T193000
DTSTAMP:20260423T024728
CREATED:20210617T194425Z
LAST-MODIFIED:20210617T195058Z
UID:3387-1623955500-1623958200@morrismnchamber.org
SUMMARY:Yoga in the Gardens
DESCRIPTION:Come join RFC Yoga instructors for a relaxing Yoga session every Thursday evening\, 6:45 – 7:30 pm\, in the Horticulture Display Gardens at the West Central Research and Outreach Center!
URL:https://morrismnchamber.org/community-event/yoga-in-the-gardens/
ATTACH;FMTTYPE=image/jpeg:https://morrismnchamber.org/wp-content/uploads/2021/06/201978005-5751501368225111-9099324532043358491-n.jpg
END:VEVENT
BEGIN:VEVENT
DTSTART;TZID=America/Chicago:20210614T170000
DTEND;TZID=America/Chicago:20210614T190000
DTSTAMP:20260423T024728
CREATED:20210610T143005Z
LAST-MODIFIED:20210610T171621Z
UID:3318-1623690000-1623697200@morrismnchamber.org
SUMMARY:Bike Safety Night
DESCRIPTION:The Morris Police Department is hosting a Bike Safety Night in the Morris Area Elementary School parking lot. Helmets will be given away after a presentation on helmet safety.
URL:https://morrismnchamber.org/community-event/bike-safety-night/
ATTACH;FMTTYPE=image/png:https://morrismnchamber.org/wp-content/uploads/2021/06/screenshot-2021-06-03-150742.png
END:VEVENT
BEGIN:VEVENT
DTSTART;VALUE=DATE:20210611
DTEND;VALUE=DATE:20210618
DTSTAMP:20260423T024728
CREATED:20210611T183553Z
LAST-MODIFIED:20210611T190959Z
UID:3352-1623369600-1623974399@morrismnchamber.org
SUMMARY:Morris Theatre Movies June 11-17\, 2021
DESCRIPTION:Morris Theatre\nOPEN AGAIN!\nJune 11 – 17\, 2021 \nCruella \nMonday\, Tuesday & Wednesday 7:10PM & 9:00PM\nThursday\, Friday & Saturday 7:00PM & 9:10PM\nSunday 2:00PM & 4:10PM & 7:00PM & 9:10PM \nCruella\, which is set in 1970s London amidst the punk rock revolution\, follows a young grifter named Estella\, a clever and creative girl determined to make a name for herself with her designs. She befriends a pair of young thieves who appreciate her appetite for mischief\, and together they are able to build a life for themselves on the London streets. One day\, Estella’s flair for fashion catches the eye of the Baroness von Hellman\, a fashion legend who is devastatingly chic and terrifyingly haute. But their relationship sets in motion a course of events and revelations that will cause Estella to embrace her wicked side and become the raucous\, fashionable and revenge-bent Cruella.  Rated PG-13\, 134 minutes.  From Walt Disney Pictures. \nA Quite Place II \nMonday\, Tuesday & Wednesday 7:00PM & 9:40PM\nThursday\, Friday & Saturday 7:10PM & 9:30PM\nSunday 2:10PM & 4:30PM & 7:10PM & 9:30PM \nFollowing the deadly events at home\, the Abbott family (Emily Blunt\, Millicent Simmonds\, Noah Jupe) must now face the terrors of the outside world as they continue their fight for survival in silence. Forced to venture into the unknown\, they quickly realize that the creatures that hunt by sound are not the only threats that lurk beyond the sand path.  Rated PG-13\, 97 minutes.  From Paramount.
URL:https://morrismnchamber.org/community-event/morris-theatre-movies-june-11-17-2021/
LOCATION:New Venue\, 123 Main Street\, Alexandria\, MN\, 56308
ORGANIZER;CN="Morris Theatre Cooperative":MAILTO:manager@morristheatre.net
END:VEVENT
BEGIN:VEVENT
DTSTART;TZID=America/Chicago:20210603T183000
DTEND;TZID=America/Chicago:20210603T193000
DTSTAMP:20260423T024728
CREATED:20210526T154446Z
LAST-MODIFIED:20210526T173306Z
UID:3229-1622745000-1622748600@morrismnchamber.org
SUMMARY:Cozy Mystery Book Club\, Morris Public Library
DESCRIPTION:Join Roxane to discuss “Elementary\, She Read” by Vicky Delaney via Zoom.
URL:https://morrismnchamber.org/community-event/cozy-mystery-book-club-morris-public-library/
LOCATION:Zoom Meeting
CATEGORIES:Community Event
ATTACH;FMTTYPE=image/jpeg:https://morrismnchamber.org/wp-content/uploads/2021/05/cozy-mystery-book-club.jpg
ORGANIZER;CN="Morris Public Libary":MAILTO:morrispublib@gmail.com
END:VEVENT
END:VCALENDAR