BEGIN:VCALENDAR
VERSION:2.0
PRODID:-//Morris Area Chamber of Commerce - ECPv6.15.15//NONSGML v1.0//EN
CALSCALE:GREGORIAN
METHOD:PUBLISH
X-WR-CALNAME:Morris Area Chamber of Commerce
X-ORIGINAL-URL:https://morrismnchamber.org
X-WR-CALDESC:Events for Morris Area Chamber of Commerce
REFRESH-INTERVAL;VALUE=DURATION:PT1H
X-Robots-Tag:noindex
X-PUBLISHED-TTL:PT1H
BEGIN:VTIMEZONE
TZID:America/Chicago
BEGIN:DAYLIGHT
TZOFFSETFROM:-0600
TZOFFSETTO:-0500
TZNAME:CDT
DTSTART:20200308T080000
END:DAYLIGHT
BEGIN:STANDARD
TZOFFSETFROM:-0500
TZOFFSETTO:-0600
TZNAME:CST
DTSTART:20201101T070000
END:STANDARD
BEGIN:DAYLIGHT
TZOFFSETFROM:-0600
TZOFFSETTO:-0500
TZNAME:CDT
DTSTART:20210314T080000
END:DAYLIGHT
BEGIN:STANDARD
TZOFFSETFROM:-0500
TZOFFSETTO:-0600
TZNAME:CST
DTSTART:20211107T070000
END:STANDARD
BEGIN:DAYLIGHT
TZOFFSETFROM:-0600
TZOFFSETTO:-0500
TZNAME:CDT
DTSTART:20220313T080000
END:DAYLIGHT
BEGIN:STANDARD
TZOFFSETFROM:-0500
TZOFFSETTO:-0600
TZNAME:CST
DTSTART:20221106T070000
END:STANDARD
END:VTIMEZONE
BEGIN:VEVENT
DTSTART;TZID=America/Chicago:20210624T180000
DTEND;TZID=America/Chicago:20210624T200000
DTSTAMP:20260420T134803
CREATED:20210616T150946Z
LAST-MODIFIED:20210616T150946Z
UID:3370-1624557600-1624564800@morrismnchamber.org
SUMMARY:Art Reception
DESCRIPTION:Michael Weatherly’s art exhibition\, Behind the Door\, is now on display at the PRCA art gallery in downtown Morris! \nExhibition dates: June 3-July 17\, 2021\nIn-person reception: Thursday\, June 24 from 6-8pm with artist talk at 6:30pm \nFree and open to the public
URL:https://morrismnchamber.org/community-event/art-reception/
LOCATION:Prairie Renaissance Cultural Alliance\, 630 Atlantic Ave\, Morris\, 56267
CATEGORIES:Community Event
ATTACH;FMTTYPE=image/jpeg:https://morrismnchamber.org/wp-content/uploads/2021/06/screenshot-2021-06-16-094033.jpg
ORGANIZER;CN="Prairie Renaissance Cultural Alliance":MAILTO:prca@prairierenaissance.org
END:VEVENT
BEGIN:VEVENT
DTSTART;TZID=America/Chicago:20210624T173000
DTEND;TZID=America/Chicago:20210624T193000
DTSTAMP:20260420T134803
CREATED:20210609T171916Z
LAST-MODIFIED:20210609T171916Z
UID:3286-1624555800-1624563000@morrismnchamber.org
SUMMARY:FAMILY FUN NIGHT Aquatic Invasive  Species
DESCRIPTION:
URL:https://morrismnchamber.org/community-event/family-fun-night-aquatic-invasive-species/
LOCATION:Perkins Lake Access picnic shelter\, Morris\, 56267\, United States
CATEGORIES:Community Event
END:VEVENT
BEGIN:VEVENT
DTSTART;TZID=America/Chicago:20210623T170000
DTEND;TZID=America/Chicago:20210623T193000
DTSTAMP:20260420T134803
CREATED:20210610T142826Z
LAST-MODIFIED:20210610T171609Z
UID:3316-1624467600-1624476600@morrismnchamber.org
SUMMARY:RUSC Kinship Garden Gala
DESCRIPTION:RUSC Kinship Mentoring’s Community and Fundraising Event at Pomme de Terre Park. Call (320) 585-RUSC to learn more!
URL:https://morrismnchamber.org/community-event/rusc-kinship-garden-gala/
ATTACH;FMTTYPE=image/png:https://morrismnchamber.org/wp-content/uploads/2021/06/screenshot-2021-06-03-143723.png
END:VEVENT
BEGIN:VEVENT
DTSTART;TZID=America/Chicago:20210623T120000
DTEND;TZID=America/Chicago:20210623T130000
DTSTAMP:20260420T134803
CREATED:20210610T141540Z
LAST-MODIFIED:20210610T171615Z
UID:3314-1624449600-1624453200@morrismnchamber.org
SUMMARY:How to Give your Website a Makeover
DESCRIPTION:You don’t have to be a designer or developer to give your website a visual facelift. Images\, fonts\, and icons are huge opportunities to make your content stand out and have visitors take notice. With a few simple techniques\, you can give your site a contemporary look that stands out from the crowd.
URL:https://morrismnchamber.org/community-event/how-to-give-your-website-a-makeover/
LOCATION:Zoom Meeting
ATTACH;FMTTYPE=image/png:https://morrismnchamber.org/wp-content/uploads/2021/06/screenshot-2021-06-02-095257.png
END:VEVENT
BEGIN:VEVENT
DTSTART;TZID=America/Chicago:20210618T080000
DTEND;TZID=America/Chicago:20210618T180000
DTSTAMP:20260420T134803
CREATED:20210526T170054Z
LAST-MODIFIED:20210526T173301Z
UID:3235-1624003200-1624039200@morrismnchamber.org
SUMMARY:Ready\, Set\, Summer
DESCRIPTION:Who’s ready for SUMMER?! The Morris Area Chamber is excited to present the Ready\, Set\, Summer event on June 18th. Check out the stores in Morris to get all you need to be summer ready! \n\nHeartland Motor Company\nSecond Chance Boutique + Consignment\nInherit\, Co.\nB Inspired\nTown and Country\nWillies\nOld No. 1\nTwisted Ivy\nSweet Lily’s Flowers\nGimme Some Grilling
URL:https://morrismnchamber.org/community-event/ready-set-summer/
LOCATION:Downtown Morris
CATEGORIES:Chamber Event
ATTACH;FMTTYPE=image/jpeg:https://morrismnchamber.org/wp-content/uploads/2021/05/ready-set-summer.jpg
ORGANIZER;CN="Morris Area Chamber of Commerce":MAILTO:morrismnchamber@gmail.com
END:VEVENT
BEGIN:VEVENT
DTSTART;VALUE=DATE:20210618
DTEND;VALUE=DATE:20210625
DTSTAMP:20260420T134803
CREATED:20210618T142023Z
LAST-MODIFIED:20210618T142023Z
UID:3413-1623974400-1624579199@morrismnchamber.org
SUMMARY:Morris Theatre Movies June 18-24\, 2021
DESCRIPTION:Morris Theatre\nOPEN AGAIN!\nJune 18 – 24\, 2021 \nCruella \nMonday – Saturday 7:00PM & 9:00PM\nSunday 2:00PM & 4:00PM & 7:00PM & 9:00PM \nCruella\, which is set in 1970s London amidst the punk rock revolution\, follows a young grifter named Estella\, a clever and creative girl determined to make a name for herself with her designs. She befriends a pair of young thieves who appreciate her appetite for mischief\, and together they are able to build a life for themselves on the London streets. One day\, Estella’s flair for fashion catches the eye of the Baroness von Hellman\, a fashion legend who is devastatingly chic and terrifyingly haute. But their relationship sets in motion a course of events and revelations that will cause Estella to embrace her wicked side and become the raucous\, fashionable and revenge-bent Cruella.  Rated PG-13\, 134 minutes.  From Walt Disney Pictures. \nSpirit Untamed \nMonday – Saturday 7:10PM & 9:30PM\nSunday 2:10PM & 4:30PM & 7:10PM & 9:30PM \nLucky Prescott’s life is changed forever when she move from her home in the city to a small frontier town and befriends a wild mustang named Spirit.  Rated PG\, 87 minutes.  From Universal.
URL:https://morrismnchamber.org/community-event/morris-theatre-movies-june-18-24-2021/
END:VEVENT
BEGIN:VEVENT
DTSTART;TZID=America/Chicago:20210617T184500
DTEND;TZID=America/Chicago:20210617T193000
DTSTAMP:20260420T134803
CREATED:20210617T194425Z
LAST-MODIFIED:20210617T195058Z
UID:3387-1623955500-1623958200@morrismnchamber.org
SUMMARY:Yoga in the Gardens
DESCRIPTION:Come join RFC Yoga instructors for a relaxing Yoga session every Thursday evening\, 6:45 – 7:30 pm\, in the Horticulture Display Gardens at the West Central Research and Outreach Center!
URL:https://morrismnchamber.org/community-event/yoga-in-the-gardens/
ATTACH;FMTTYPE=image/jpeg:https://morrismnchamber.org/wp-content/uploads/2021/06/201978005-5751501368225111-9099324532043358491-n.jpg
END:VEVENT
BEGIN:VEVENT
DTSTART;TZID=America/Chicago:20210614T170000
DTEND;TZID=America/Chicago:20210614T190000
DTSTAMP:20260420T134803
CREATED:20210610T143005Z
LAST-MODIFIED:20210610T171621Z
UID:3318-1623690000-1623697200@morrismnchamber.org
SUMMARY:Bike Safety Night
DESCRIPTION:The Morris Police Department is hosting a Bike Safety Night in the Morris Area Elementary School parking lot. Helmets will be given away after a presentation on helmet safety.
URL:https://morrismnchamber.org/community-event/bike-safety-night/
ATTACH;FMTTYPE=image/png:https://morrismnchamber.org/wp-content/uploads/2021/06/screenshot-2021-06-03-150742.png
END:VEVENT
BEGIN:VEVENT
DTSTART;VALUE=DATE:20210611
DTEND;VALUE=DATE:20210618
DTSTAMP:20260420T134803
CREATED:20210611T183553Z
LAST-MODIFIED:20210611T190959Z
UID:3352-1623369600-1623974399@morrismnchamber.org
SUMMARY:Morris Theatre Movies June 11-17\, 2021
DESCRIPTION:Morris Theatre\nOPEN AGAIN!\nJune 11 – 17\, 2021 \nCruella \nMonday\, Tuesday & Wednesday 7:10PM & 9:00PM\nThursday\, Friday & Saturday 7:00PM & 9:10PM\nSunday 2:00PM & 4:10PM & 7:00PM & 9:10PM \nCruella\, which is set in 1970s London amidst the punk rock revolution\, follows a young grifter named Estella\, a clever and creative girl determined to make a name for herself with her designs. She befriends a pair of young thieves who appreciate her appetite for mischief\, and together they are able to build a life for themselves on the London streets. One day\, Estella’s flair for fashion catches the eye of the Baroness von Hellman\, a fashion legend who is devastatingly chic and terrifyingly haute. But their relationship sets in motion a course of events and revelations that will cause Estella to embrace her wicked side and become the raucous\, fashionable and revenge-bent Cruella.  Rated PG-13\, 134 minutes.  From Walt Disney Pictures. \nA Quite Place II \nMonday\, Tuesday & Wednesday 7:00PM & 9:40PM\nThursday\, Friday & Saturday 7:10PM & 9:30PM\nSunday 2:10PM & 4:30PM & 7:10PM & 9:30PM \nFollowing the deadly events at home\, the Abbott family (Emily Blunt\, Millicent Simmonds\, Noah Jupe) must now face the terrors of the outside world as they continue their fight for survival in silence. Forced to venture into the unknown\, they quickly realize that the creatures that hunt by sound are not the only threats that lurk beyond the sand path.  Rated PG-13\, 97 minutes.  From Paramount.
URL:https://morrismnchamber.org/community-event/morris-theatre-movies-june-11-17-2021/
LOCATION:New Venue\, 123 Main Street\, Alexandria\, MN\, 56308
ORGANIZER;CN="Morris Theatre Cooperative":MAILTO:manager@morristheatre.net
END:VEVENT
BEGIN:VEVENT
DTSTART;TZID=America/Chicago:20210603T183000
DTEND;TZID=America/Chicago:20210603T193000
DTSTAMP:20260420T134803
CREATED:20210526T154446Z
LAST-MODIFIED:20210526T173306Z
UID:3229-1622745000-1622748600@morrismnchamber.org
SUMMARY:Cozy Mystery Book Club\, Morris Public Library
DESCRIPTION:Join Roxane to discuss “Elementary\, She Read” by Vicky Delaney via Zoom.
URL:https://morrismnchamber.org/community-event/cozy-mystery-book-club-morris-public-library/
LOCATION:Zoom Meeting
CATEGORIES:Community Event
ATTACH;FMTTYPE=image/jpeg:https://morrismnchamber.org/wp-content/uploads/2021/05/cozy-mystery-book-club.jpg
ORGANIZER;CN="Morris Public Libary":MAILTO:morrispublib@gmail.com
END:VEVENT
END:VCALENDAR