BEGIN:VCALENDAR
VERSION:2.0
PRODID:-//Morris Area Chamber of Commerce - ECPv6.15.15//NONSGML v1.0//EN
CALSCALE:GREGORIAN
METHOD:PUBLISH
X-WR-CALNAME:Morris Area Chamber of Commerce
X-ORIGINAL-URL:https://morrismnchamber.org
X-WR-CALDESC:Events for Morris Area Chamber of Commerce
REFRESH-INTERVAL;VALUE=DURATION:PT1H
X-Robots-Tag:noindex
X-PUBLISHED-TTL:PT1H
BEGIN:VTIMEZONE
TZID:America/Chicago
BEGIN:DAYLIGHT
TZOFFSETFROM:-0600
TZOFFSETTO:-0500
TZNAME:CDT
DTSTART:20210314T080000
END:DAYLIGHT
BEGIN:STANDARD
TZOFFSETFROM:-0500
TZOFFSETTO:-0600
TZNAME:CST
DTSTART:20211107T070000
END:STANDARD
BEGIN:DAYLIGHT
TZOFFSETFROM:-0600
TZOFFSETTO:-0500
TZNAME:CDT
DTSTART:20220313T080000
END:DAYLIGHT
BEGIN:STANDARD
TZOFFSETFROM:-0500
TZOFFSETTO:-0600
TZNAME:CST
DTSTART:20221106T070000
END:STANDARD
BEGIN:DAYLIGHT
TZOFFSETFROM:-0600
TZOFFSETTO:-0500
TZNAME:CDT
DTSTART:20230312T080000
END:DAYLIGHT
BEGIN:STANDARD
TZOFFSETFROM:-0500
TZOFFSETTO:-0600
TZNAME:CST
DTSTART:20231105T070000
END:STANDARD
BEGIN:DAYLIGHT
TZOFFSETFROM:-0600
TZOFFSETTO:-0500
TZNAME:CDT
DTSTART:20240310T080000
END:DAYLIGHT
BEGIN:STANDARD
TZOFFSETFROM:-0500
TZOFFSETTO:-0600
TZNAME:CST
DTSTART:20241103T070000
END:STANDARD
END:VTIMEZONE
BEGIN:VEVENT
DTSTART;TZID=America/Chicago:20221107T080000
DTEND;TZID=America/Chicago:20221210T150000
DTSTAMP:20260423T064420
CREATED:20221107T171309Z
LAST-MODIFIED:20221107T171309Z
UID:6371-1667808000-1670684400@morrismnchamber.org
SUMMARY:Homemade Lefsa for Sale (Pre-Order Only)
DESCRIPTION:Kongsvinger Lutheran Church Lefsa Sale \n4 rounds for $12 \nPre-orders only!!! Call 320-246-3454 and leave a message with your name\, contact phone number\, your lefsa order and which pick up date. \nPick up your pre-order from 1-3pm on November 19 or December 10.  Norwegian sweets and Christmas goodies will be available for sale at both pickup times. \n$5 Raffle Tickets are also available Drawing is December 10 at 3pm  need not be present to win.
URL:https://morrismnchamber.org/community-event/homemade-lefsa-for-sale-pre-order-only/
LOCATION:Kongsvinger Lutheran Church\, Herman\, Minnesota
END:VEVENT
BEGIN:VEVENT
DTSTART;TZID=America/Chicago:20221107T080000
DTEND;TZID=America/Chicago:20221220T170000
DTSTAMP:20260423T064420
CREATED:20221107T170531Z
LAST-MODIFIED:20221107T170531Z
UID:6368-1667808000-1671555600@morrismnchamber.org
SUMMARY:Salvation Army needs local Bell Ringers
DESCRIPTION:Will local “Ringers” be up to the challenge this year?  You can be certain that with “bells in hand” they’ll be out in Stevens County at Willies Grocery Store.  Please help us if you can.  If you would like to make a check out to the Salvation Army please send it to Verna Zeiher\, 1 Northridge Dr\, Morris\, MN 56267 Please make a notation on the memo on the check that it is for Stevens County MN.  If you are interested in Ringing a Bell please call Verna at 320-589-4002
URL:https://morrismnchamber.org/community-event/salvation-army-needs-local-bell-ringers/
LOCATION:The Salvation Army
END:VEVENT
BEGIN:VEVENT
DTSTART;TZID=America/Chicago:20221110T080000
DTEND;TZID=America/Chicago:20221230T170000
DTSTAMP:20260423T064420
CREATED:20221103T181654Z
LAST-MODIFIED:20221103T181654Z
UID:6357-1668067200-1672419600@morrismnchamber.org
SUMMARY:Holiday Exhibit Sale
DESCRIPTION:Take the art home with you the same day you buy it!
URL:https://morrismnchamber.org/community-event/holiday-exhibit-sale/
LOCATION:prairie art and gifts\, 630 Atlantic Ave\, Morris\, MN\, 56267
END:VEVENT
BEGIN:VEVENT
DTSTART;TZID=America/Chicago:20221130T080000
DTEND;TZID=America/Chicago:20230116T170000
DTSTAMP:20260423T064420
CREATED:20221130T185017Z
LAST-MODIFIED:20221130T185017Z
UID:6378-1669795200-1673888400@morrismnchamber.org
SUMMARY:RFC's Healthy Living Group
DESCRIPTION:Registered Dietitian\, Alyssa Thooft and RFC’s Certified Trainer\, Shadow Rohloff\, are teaming up to bring you a 7 week virtual health program.  January 23- March 10th \nRFC Members $120 Non Members $160 \nRegister now call 589-6485 or stop by the RFC and sign up by January 16th
URL:https://morrismnchamber.org/community-event/rfcs-healthy-living-group/
LOCATION:Regional Fitness Center\, 626 E 2nd St\, Morris\, 56267
ATTACH;FMTTYPE=image/jpeg:https://morrismnchamber.org/wp-content/uploads/2022/11/imgonline-com-ua-resize-bbhnaxkqfnlnah.jpg
END:VEVENT
BEGIN:VEVENT
DTSTART;TZID=America/Chicago:20221203T100000
DTEND;TZID=America/Chicago:20221203T160000
DTSTAMP:20260423T064420
CREATED:20221103T181806Z
LAST-MODIFIED:20221103T181806Z
UID:6360-1670061600-1670083200@morrismnchamber.org
SUMMARY:Holiday Stroll
DESCRIPTION:Come to the Holiday Stroll on Saturday Dec 3rd 10am-4pm
URL:https://morrismnchamber.org/community-event/holiday-stroll-2/
LOCATION:prairie art and gifts\, 630 Atlantic Ave\, Morris\, MN\, 56267
END:VEVENT
BEGIN:VEVENT
DTSTART;TZID=America/Chicago:20221217T100000
DTEND;TZID=America/Chicago:20221217T160000
DTSTAMP:20260423T064420
CREATED:20221103T182021Z
LAST-MODIFIED:20221103T182021Z
UID:6364-1671271200-1671292800@morrismnchamber.org
SUMMARY:Shop with Santa's Helpers
DESCRIPTION:Especially for parents and children.  Cookies and Hot Chocolate will be served.
URL:https://morrismnchamber.org/community-event/shop-with-santas-helpers/
LOCATION:prairie art and gifts\, 630 Atlantic Ave\, Morris\, MN\, 56267
END:VEVENT
END:VCALENDAR