BEGIN:VCALENDAR
VERSION:2.0
PRODID:-//Morris Area Chamber of Commerce - ECPv6.15.15//NONSGML v1.0//EN
CALSCALE:GREGORIAN
METHOD:PUBLISH
X-WR-CALNAME:Morris Area Chamber of Commerce
X-ORIGINAL-URL:https://morrismnchamber.org
X-WR-CALDESC:Events for Morris Area Chamber of Commerce
REFRESH-INTERVAL;VALUE=DURATION:PT1H
X-Robots-Tag:noindex
X-PUBLISHED-TTL:PT1H
BEGIN:VTIMEZONE
TZID:America/Chicago
BEGIN:DAYLIGHT
TZOFFSETFROM:-0600
TZOFFSETTO:-0500
TZNAME:CDT
DTSTART:20210314T080000
END:DAYLIGHT
BEGIN:STANDARD
TZOFFSETFROM:-0500
TZOFFSETTO:-0600
TZNAME:CST
DTSTART:20211107T070000
END:STANDARD
BEGIN:DAYLIGHT
TZOFFSETFROM:-0600
TZOFFSETTO:-0500
TZNAME:CDT
DTSTART:20220313T080000
END:DAYLIGHT
BEGIN:STANDARD
TZOFFSETFROM:-0500
TZOFFSETTO:-0600
TZNAME:CST
DTSTART:20221106T070000
END:STANDARD
BEGIN:DAYLIGHT
TZOFFSETFROM:-0600
TZOFFSETTO:-0500
TZNAME:CDT
DTSTART:20230312T080000
END:DAYLIGHT
BEGIN:STANDARD
TZOFFSETFROM:-0500
TZOFFSETTO:-0600
TZNAME:CST
DTSTART:20231105T070000
END:STANDARD
BEGIN:DAYLIGHT
TZOFFSETFROM:-0600
TZOFFSETTO:-0500
TZNAME:CDT
DTSTART:20240310T080000
END:DAYLIGHT
BEGIN:STANDARD
TZOFFSETFROM:-0500
TZOFFSETTO:-0600
TZNAME:CST
DTSTART:20241103T070000
END:STANDARD
END:VTIMEZONE
BEGIN:VEVENT
DTSTART;TZID=America/Chicago:20221130T080000
DTEND;TZID=America/Chicago:20230116T170000
DTSTAMP:20260423T045604
CREATED:20221130T185017Z
LAST-MODIFIED:20221130T185017Z
UID:6378-1669795200-1673888400@morrismnchamber.org
SUMMARY:RFC's Healthy Living Group
DESCRIPTION:Registered Dietitian\, Alyssa Thooft and RFC’s Certified Trainer\, Shadow Rohloff\, are teaming up to bring you a 7 week virtual health program.  January 23- March 10th \nRFC Members $120 Non Members $160 \nRegister now call 589-6485 or stop by the RFC and sign up by January 16th
URL:https://morrismnchamber.org/community-event/rfcs-healthy-living-group/
LOCATION:Regional Fitness Center\, 626 E 2nd St\, Morris\, 56267
ATTACH;FMTTYPE=image/jpeg:https://morrismnchamber.org/wp-content/uploads/2022/11/imgonline-com-ua-resize-bbhnaxkqfnlnah.jpg
END:VEVENT
BEGIN:VEVENT
DTSTART;TZID=America/Chicago:20230126T171500
DTEND;TZID=America/Chicago:20230126T190000
DTSTAMP:20260423T045604
CREATED:20230123T165507Z
LAST-MODIFIED:20230123T165507Z
UID:6406-1674753300-1674759600@morrismnchamber.org
SUMMARY:Pomme de Terre Garden Club January Meeting
DESCRIPTION:Pomme de Terre Garden Club will meet on Thursday\, January 26\, 2023 at 5:15 pm in the Morris Public Library meeting room. Program will be Organics and Recycling\, presented by Sydney Bauer\, Morris Model Energy Intern at University of Minnesota\, Morris. All are welcome to attend.
URL:https://morrismnchamber.org/community-event/pomme-de-terre-garden-club-january-meeting/
LOCATION:Morris Public Library\, 102 E 6th St.\, Morris\, 56267
CATEGORIES:Community Event
ORGANIZER;CN="Pomme de Terre Garden Club (Diane Kill)":MAILTO:killdk@morris.umn.edu
END:VEVENT
BEGIN:VEVENT
DTSTART;TZID=America/Chicago:20230128T180000
DTEND;TZID=America/Chicago:20230128T200000
DTSTAMP:20260423T045604
CREATED:20221227T164408Z
LAST-MODIFIED:20221227T165109Z
UID:6388-1674928800-1674936000@morrismnchamber.org
SUMMARY:Fargo Moorhead Ballet
DESCRIPTION:The Fargo Moorhead Ballet will preform Saturday January 28\, 2023 \nUMN Morris\, 6pm at Edson Auditorium \nFree and Open to the public \nDetails: https://news.morris.umn.edu/news/pas-welcomes-fmballet \n 
URL:https://morrismnchamber.org/community-event/fargo-moorhead-ballet/
LOCATION:University of Minnesota Morris\, 600 E 4th St\, Morris\, MN\, 56267
END:VEVENT
END:VCALENDAR