BEGIN:VCALENDAR
VERSION:2.0
PRODID:-//Morris Area Chamber of Commerce - ECPv6.15.15//NONSGML v1.0//EN
CALSCALE:GREGORIAN
METHOD:PUBLISH
X-WR-CALNAME:Morris Area Chamber of Commerce
X-ORIGINAL-URL:https://morrismnchamber.org
X-WR-CALDESC:Events for Morris Area Chamber of Commerce
REFRESH-INTERVAL;VALUE=DURATION:PT1H
X-Robots-Tag:noindex
X-PUBLISHED-TTL:PT1H
BEGIN:VTIMEZONE
TZID:America/Chicago
BEGIN:DAYLIGHT
TZOFFSETFROM:-0600
TZOFFSETTO:-0500
TZNAME:CDT
DTSTART:20220313T080000
END:DAYLIGHT
BEGIN:STANDARD
TZOFFSETFROM:-0500
TZOFFSETTO:-0600
TZNAME:CST
DTSTART:20221106T070000
END:STANDARD
BEGIN:DAYLIGHT
TZOFFSETFROM:-0600
TZOFFSETTO:-0500
TZNAME:CDT
DTSTART:20230312T080000
END:DAYLIGHT
BEGIN:STANDARD
TZOFFSETFROM:-0500
TZOFFSETTO:-0600
TZNAME:CST
DTSTART:20231105T070000
END:STANDARD
BEGIN:DAYLIGHT
TZOFFSETFROM:-0600
TZOFFSETTO:-0500
TZNAME:CDT
DTSTART:20240310T080000
END:DAYLIGHT
BEGIN:STANDARD
TZOFFSETFROM:-0500
TZOFFSETTO:-0600
TZNAME:CST
DTSTART:20241103T070000
END:STANDARD
END:VTIMEZONE
BEGIN:VEVENT
DTSTART;TZID=America/Chicago:20230214T120000
DTEND;TZID=America/Chicago:20230214T170000
DTSTAMP:20260423T031740
CREATED:20230130T183413Z
LAST-MODIFIED:20230130T183413Z
UID:6451-1676376000-1676394000@morrismnchamber.org
SUMMARY:Valentine's Day Event at Inherit Co
DESCRIPTION:Valentine’s Day Event \n12pm-5pm \nMacarons\, Flower Bundles\, and Goodies \n 
URL:https://morrismnchamber.org/community-event/valentines-day-event-at-inherit-co/
LOCATION:Inherit Co.\, 702 Atlantic Avenue\, Morris\, MN\, 56367\, United States
ORGANIZER;CN="Inherit Co.":MAILTO:info@inheritco.com
END:VEVENT
BEGIN:VEVENT
DTSTART;TZID=America/Chicago:20230223T171500
DTEND;TZID=America/Chicago:20230223T190000
DTSTAMP:20260423T031740
CREATED:20230123T165445Z
LAST-MODIFIED:20230123T165445Z
UID:6408-1677172500-1677178800@morrismnchamber.org
SUMMARY:Pomme de Terre Garden Club February Meeting
DESCRIPTION:Pomme de Terre Garden Club will meet Thursday\, February 23\, 2023 at 5:15 pm at the Morris Public Library meeting room. Program will be Corsage Making\, presented by Sandy Thorstad. All are welcome to attend.
URL:https://morrismnchamber.org/community-event/pomme-de-terre-garden-club-february-meeting/
LOCATION:Morris Public Library\, 102 E 6th St.\, Morris\, 56267
CATEGORIES:Community Event
ORGANIZER;CN="Pomme de Terre Garden Club (Diane Kill)":MAILTO:killdk@morris.umn.edu
END:VEVENT
BEGIN:VEVENT
DTSTART;TZID=America/Chicago:20230227T173000
DTEND;TZID=America/Chicago:20230227T193000
DTSTAMP:20260423T031740
CREATED:20230210T172608Z
LAST-MODIFIED:20230210T172608Z
UID:6473-1677519000-1677526200@morrismnchamber.org
SUMMARY:Community Meal
DESCRIPTION:Sharing food is a key way to build community. A free meal is served to anyone who wants to come. Regional businesses and organizations fund the meal\, and UMN Morris students\, faculty\, staff\, and community members cook together and share a meal. Morris Community Meal uses local foods and sustainable practices as much as possible\, and strives to share food from a variety of cultures. Anyone can get involved as a co-sponsor\, volunteer\, or attendee! \nLearn more at http://morris-umn.presence.io/event/community-meal-february \nMonday\, February 27 at 5:30pm to 7:30pm \nFaith Lutheran Church\, 108 W. 8th St.\, Morris
URL:https://morrismnchamber.org/community-event/community-meal-2/
LOCATION:Faith Lutheran Church\, 108 W 8th St\, Morris\, 56267
CATEGORIES:Community Event
ORGANIZER;CN="University of Minnesota Morris":MAILTO:dietersm@morris.umn.edu
END:VEVENT
END:VCALENDAR