BEGIN:VCALENDAR
VERSION:2.0
PRODID:-//Morris Area Chamber of Commerce - ECPv6.15.15//NONSGML v1.0//EN
CALSCALE:GREGORIAN
METHOD:PUBLISH
X-ORIGINAL-URL:https://morrismnchamber.org
X-WR-CALDESC:Events for Morris Area Chamber of Commerce
REFRESH-INTERVAL;VALUE=DURATION:PT1H
X-Robots-Tag:noindex
X-PUBLISHED-TTL:PT1H
BEGIN:VTIMEZONE
TZID:America/Chicago
BEGIN:DAYLIGHT
TZOFFSETFROM:-0600
TZOFFSETTO:-0500
TZNAME:CDT
DTSTART:20220313T080000
END:DAYLIGHT
BEGIN:STANDARD
TZOFFSETFROM:-0500
TZOFFSETTO:-0600
TZNAME:CST
DTSTART:20221106T070000
END:STANDARD
BEGIN:DAYLIGHT
TZOFFSETFROM:-0600
TZOFFSETTO:-0500
TZNAME:CDT
DTSTART:20230312T080000
END:DAYLIGHT
BEGIN:STANDARD
TZOFFSETFROM:-0500
TZOFFSETTO:-0600
TZNAME:CST
DTSTART:20231105T070000
END:STANDARD
BEGIN:DAYLIGHT
TZOFFSETFROM:-0600
TZOFFSETTO:-0500
TZNAME:CDT
DTSTART:20240310T080000
END:DAYLIGHT
BEGIN:STANDARD
TZOFFSETFROM:-0500
TZOFFSETTO:-0600
TZNAME:CST
DTSTART:20241103T070000
END:STANDARD
END:VTIMEZONE
BEGIN:VEVENT
DTSTART;TZID=America/Chicago:20230401T110000
DTEND;TZID=America/Chicago:20230401T210000
DTSTAMP:20260422T123447
CREATED:20230324T152623Z
LAST-MODIFIED:20230324T152623Z
UID:6659-1680346800-1680382800@morrismnchamber.org
SUMMARY:38th Annual Circle of Nations Indigenous Association Powwow
DESCRIPTION:A colorful expression of song and dance will fill the Cougar Sports Center on Saturday\, April 1\, when the Circle of Nations Indian Association (CNIA) students hold the 38th Annual CNIA Powwow. \nGrand entry at 1 p.m. and 7 p.m.\nCommunity feast from 5-6 p.m.\nConcession stand with fry bread tacos and drinks throughout the day.\nNative vendors with cool goods! \nNew to powwow? Visit https://z.umn.edu/Powwow101 \nLearn more at http://morris-umn.presence.io/event/cnia-38th-annual-contest-powwow
URL:https://morrismnchamber.org/community-event/38th-annual-circle-of-nations-indigenous-association-powwow/
LOCATION:University of Minnesota Morris\, 600 E 4th St\, Morris\, MN\, 56267
CATEGORIES:Community Event
ATTACH;FMTTYPE=image/jpeg:https://morrismnchamber.org/wp-content/uploads/2023/03/25730372863-000e85532c-k.jpg
ORGANIZER;CN="University of Minnesota Morris":MAILTO:dietersm@morris.umn.edu
END:VEVENT
BEGIN:VEVENT
DTSTART;TZID=America/Chicago:20230408T140000
DTEND;TZID=America/Chicago:20230408T150000
DTSTAMP:20260422T123447
CREATED:20230302T200932Z
LAST-MODIFIED:20230403T160721Z
UID:6521-1680962400-1680966000@morrismnchamber.org
SUMMARY:Morris Area Women of Today Easter Egg Hunt
DESCRIPTION:The Morris Area Women of Today will once again be hosting our annual Easter Egg Hunt on Saturday\, April 8th from 2:00-3:00 PM. The location will be Morris Area Elementary School gym. Please join us for this FREE egg hunt\, where every child will receive candy and a gift bag. Kids can get balloons from Clueless the Balloon Twister and meet the Easter Bunny. We hope to see you there!
URL:https://morrismnchamber.org/community-event/morris-area-women-of-today-easter-egg-hunt/
LOCATION:Morris Area Elementary\, 151 S Columbia Ave\, Morris\, 56267
CATEGORIES:Community Event
ATTACH;FMTTYPE=image/png:https://morrismnchamber.org/wp-content/uploads/2023/03/easter.png
END:VEVENT
BEGIN:VEVENT
DTSTART;TZID=America/Chicago:20230422T170000
DTEND;TZID=America/Chicago:20230422T193000
DTSTAMP:20260422T123447
CREATED:20230331T144750Z
LAST-MODIFIED:20230331T144750Z
UID:6678-1682182800-1682191800@morrismnchamber.org
SUMMARY:Burgers and Trivia Fundraiser
DESCRIPTION:Join Someplace Safe Saturday\, April 22\, from 5:00-7:30pm at the Morris American Legion for a Burger and Trivia Fundraiser event!\nBurgers and all the fixings will be served for a free will donations.\nTRIVIA Begins at 6pm with Teams of 4 or More. Prizes will be awarded to the Top 3 Teams! Featuring trivia questions with local topics!
URL:https://morrismnchamber.org/community-event/burgers-and-trivia-fundraiser/
LOCATION:American Legion\, Morris\, 56267
CATEGORIES:Community Event
ATTACH;FMTTYPE=image/jpeg:https://morrismnchamber.org/wp-content/uploads/2023/03/burgestriviaposter.jpg
ORGANIZER;CN="Someplace Safe":MAILTO:stevens.co@someplacesafe.info
END:VEVENT
BEGIN:VEVENT
DTSTART;TZID=America/Chicago:20230426T193000
DTEND;TZID=America/Chicago:20230426T203000
DTSTAMP:20260422T123447
CREATED:20230417T172626Z
LAST-MODIFIED:20230417T172626Z
UID:6716-1682537400-1682541000@morrismnchamber.org
SUMMARY:Atmosphères
DESCRIPTION:Atmosphères\nDr. Simon Tillier with the UMN Morris Chamber Orchestra perform Bartok\, Britten\, Strauss\, Faure\, and Gregson-Williams \nAtmosphere. Color. Imagination. \nThe UMN Morris Chamber Orchestra\, under the baton of Dr. Simon Tillier\, explores atmosphere in music with a program of classical and popular pieces from different times and places. Hungarian\, child-inspired music contrasts with the much loved Chronicles of Narnia\, while a Viennese polka is set beside Elizabethan courtly dance. This performance will embrace your senses and awaken your imagination. Admission Free – donations welcome.
URL:https://morrismnchamber.org/community-event/atmospheres/
LOCATION:University of Minnesota Morris\, 600 E 4th St\, Morris\, MN\, 56267
CATEGORIES:Community Event
ATTACH;FMTTYPE=image/jpeg:https://morrismnchamber.org/wp-content/uploads/2023/04/atmospheres-poster.jpg
ORGANIZER;CN="University of Minnesota Morris":MAILTO:dietersm@morris.umn.edu
END:VEVENT
BEGIN:VEVENT
DTSTART;TZID=America/Chicago:20230427T171500
DTEND;TZID=America/Chicago:20230427T183000
DTSTAMP:20260422T123447
CREATED:20230123T165357Z
LAST-MODIFIED:20230123T165357Z
UID:6412-1682615700-1682620200@morrismnchamber.org
SUMMARY:Pomme de Terre Garden Club April Meeting
DESCRIPTION:Pomme de Terre Garden Club will meet Thursday\, April 27\, 2023 at 5:15 pm at the Morris Public Library meeting room. Program will be African Violets\, presented by Chris Melberg. All are welcome to attend.
URL:https://morrismnchamber.org/community-event/pomme-de-terre-garden-club-april-meeting/
LOCATION:Morris Public Library\, 102 E 6th St.\, Morris\, 56267
CATEGORIES:Community Event
ORGANIZER;CN="Pomme de Terre Garden Club (Diane Kill)":MAILTO:killdk@morris.umn.edu
END:VEVENT
END:VCALENDAR